Workbook

Sheet Rekapitulace stavby
A1: Export VZ | D1: List obsahuje: | K1: 1) Rekapitulace stavby | W1: 2) Rekapitulace objektů stavby a soupisů prací | BA1: 3.0 | BB1: ZAMOK | BT1: False | BU1: False | BV1: {7633e13f-b0c7-4853-84f7-4418fb4cd8fc}
BS2: 0,01 | BT2: 21
BS3: 0,01 | BT3: 15
D4: REKAPITULACE STAVBY | AS4: v --- níže se nacházejí doplnkové a pomocné údaje k sestavám --- v | BE4: Návod na vyplnění | BS4: 0,001
D5: Kód: | K5: 16028_01 | BE5: Měnit lze pouze buňky se žlutým podbarvením!_x000D_ _x000D_ 1) v Rekapitulaci stavby vyplňte údaje o Uchazeči (přenesou se do ostatních sestav i v jiných listech)_x000D_ _x000D_ 2) na vybraných listech vyplňte v sestavě Soupis prací ceny u položek_x000D_ _x000D_ Podrobnosti k vyplnění naleznete na poslední záložce s Pokyny pro vyplnění | BS5: 0,01
D6: Stavba: | K6: Transformace ÚSP pro mládež Kvasiny – výstavba v lokalitě Kostelec nad Orlicí 2 | BS6: 0,01
D7: KSO: | AK7: CC-CZ: | BS7: 0,01
D8: Místo: | AK8: Datum: | AN8: 11. 5. 2017 | BS8: 0,01
BS9: 0,01
D10: Zadavatel: | AK10: IČ: | BS10: 0,01
AK11: DIČ: | BS11: 0,01
BS12: 0,01
D13: Uchazeč: | AK13: IČ: | AN13: Vyplň údaj | BS13: 0,01
E14: Vyplň údaj | AK14: DIČ: | AN14: Vyplň údaj | BS14: 0,01
BS15: False
D16: Projektant: | AK16: IČ: | BS16: False
AK17: DIČ: | BS17: True
BS18: 0,01
D19: Poznámka: | BS19: 0,01
E20: Soupis prací je sestaven s využitím Cenové soustavy ÚRS. Položky, které pochází z této cenové soustavy, jsou ve sloupci 'Cenová soustava' označeny popisem 'CS ÚRS' a úrovní příslušného kalendářního pololetí. Veškeré další informace vymezující popis a podmínky použití těchto položek z Cenové soustavy, které nejsou uvedeny přímo v soupisu prací, jsou neomezeně dálkově k dispozici na www.cs-urs.cz, sekce Cenové a technické podmínky. | BS20: False
D23: Cena bez DPH | AK23: =ROUND(AG51,2) -> 0
L25: Sazba daně | W25: Základ daně | AK25: Výše daně
D26: DPH | F26: základní | L26: 0.21 | W26: =ROUND(AZ51,2) -> 0 | AK26: =ROUND(AV51,2) -> 0
F27: snížená | L27: 0.15 | W27: =ROUND(BA51,2) -> 0 | AK27: =ROUND(AW51,2) -> 0
F28: zákl. přenesená | L28: 0.21 | W28: =ROUND(BB51,2) -> 0 | AK28: 0
F29: sníž. přenesená | L29: 0.15 | W29: =ROUND(BC51,2) -> 0 | AK29: 0
F30: nulová | L30: 0 | W30: =ROUND(BD51,2) -> 0 | AK30: 0
D32: Cena s DPH | T32: v | X32: CZK | AK32: =SUM(AK23:AK30) -> 0
C39: REKAPITULACE OBJEKTŮ STAVBY A SOUPISŮ PRACÍ
C41: Kód: | L41: =K5 -> 16028_01
C42: Stavba: | L42: =K6 -> Transformace ÚSP pro mládež Kvasiny – výstavba v lokalitě Kostelec nad Orlicí 2
C44: Místo: | L44: =IF(K8="","",K8) | AI44: Datum: | AM44: =IF(AN8= "","",AN8) -> 11. 5. 2017
C46: Zadavatel: | L46: =IF(E11= "","",E11) | AI46: Projektant: | AM46: =IF(E17="","",E17) | AS46: Informatívní údaje z listů zakázek
C47: Uchazeč: | L47: =IF(E14= "Vyplň údaj","",E14)
C49: Kód | I49: Objekt, Soupis prací | AG49: Cena bez DPH [CZK] | AN49: Cena s DPH [CZK] | AQ49: Typ | AS49: z toho Ostat._x000D_ náklady [CZK] | AT49: DPH [CZK] | AU49: Normohodiny [h] | AV49: DPH základní [CZK] | AW49: DPH snížená [CZK] | AX49: DPH základní přenesená_x000D_ [CZK] | AY49: DPH snížená přenesená_x000D_ [CZK] | AZ49: Základna_x000D_ DPH základní | BA49: Základna_x000D_ DPH snížená | BB49: Základna_x000D_ DPH zákl. přenesená | BC49: Základna_x000D_ DPH sníž. přenesená | BD49: Základna_x000D_ DPH nulová
C51: Náklady stavby celkem | AG51: =ROUND(AG52+AG71,2) -> 0 | AN51: =SUM(AG51,AT51) -> 0 | AS51: =ROUND(AS52+AS71,2) -> 0 | AT51: =ROUND(SUM(AV51:AW51),2) -> 0 | AU51: =ROUND(AU52+AU71,5) -> 0 | AV51: =ROUND(AZ51*L26,2) -> 0 | AW51: =ROUND(BA51*L27,2) -> 0 | AX51: =ROUND(BB51*L26,2) -> 0 | AY51: =ROUND(BC51*L27,2) -> 0 | AZ51: =ROUND(AZ52+AZ71,2) -> 0 | BA51: =ROUND(BA52+BA71,2) -> 0 | BB51: =ROUND(BB52+BB71,2) -> 0 | BC51: =ROUND(BC52+BC71,2) -> 0 | BD51: =ROUND(BD52+BD71,2) -> 0 | BS51: D | BT51: 0 | BU51: ###NOIMPORT### | BV51: IMPORT | BW51: {7633e13f-b0c7-4853-84f7-4418fb4cd8fc} | BX51: {00000000-0000-0000-0000-000000000000}
D52: A | J52: Hlavní aktivity projektu | AG52: =ROUND(AG53+AG59+AG61+AG65+SUM(AG68:AG70),2) -> 0 | AN52: =SUM(AG52,AT52) -> 0 | AQ52: STA | AS52: =ROUND(AS53+AS59+AS61+AS65+SUM(AS68:AS70),2) -> 0 | AT52: =ROUND(SUM(AV52:AW52),2) -> 0 | AU52: =ROUND(AU53+AU59+AU61+AU65+SUM(AU68:AU70),5) -> 0 | AV52: =ROUND(AZ52*L26,2) -> 0 | AW52: =ROUND(BA52*L27,2) -> 0 | AX52: =ROUND(BB52*L26,2) -> 0 | AY52: =ROUND(BC52*L27,2) -> 0 | AZ52: =ROUND(AZ53+AZ59+AZ61+AZ65+SUM(AZ68:AZ70),2) -> 0 | BA52: =ROUND(BA53+BA59+BA61+BA65+SUM(BA68:BA70),2) -> 0 | BB52: =ROUND(BB53+BB59+BB61+BB65+SUM(BB68:BB70),2) -> 0 | BC52: =ROUND(BC53+BC59+BC61+BC65+SUM(BC68:BC70),2) -> 0 | BD52: =ROUND(BD53+BD59+BD61+BD65+SUM(BD68:BD70),2) -> 0 | BS52: D | BT52: 1 | BU52: ###NOIMPORT### | BV52: IMPORT | BW52: {abba95f4-ea52-47b8-8b77-c067eca4510a} | BX52: {7633e13f-b0c7-4853-84f7-4418fb4cd8fc} | CM52: 2
E53: SO01 | K53: Rodinný dům | AG53: =ROUND(SUM(AG54:AG58),2) -> 0 | AN53: =SUM(AG53,AT53) -> 0 | AQ53: Soupis | AS53: =ROUND(SUM(AS54:AS58),2) -> 0 | AT53: =ROUND(SUM(AV53:AW53),2) -> 0 | AU53: =ROUND(SUM(AU54:AU58),5) -> 0 | AV53: =ROUND(AZ53*L26,2) -> 0 | AW53: =ROUND(BA53*L27,2) -> 0 | AX53: =ROUND(BB53*L26,2) -> 0 | AY53: =ROUND(BC53*L27,2) -> 0 | AZ53: =ROUND(SUM(AZ54:AZ58),2) -> 0 | BA53: =ROUND(SUM(BA54:BA58),2) -> 0 | BB53: =ROUND(SUM(BB54:BB58),2) -> 0 | BC53: =ROUND(SUM(BC54:BC58),2) -> 0 | BD53: =ROUND(SUM(BD54:BD58),2) -> 0 | BS53: D | BT53: 2 | BU53: ###NOIMPORT### | BV53: IMPORT | BW53: {2222d09a-8c13-472a-ad54-1342aef22773} | BX53: {abba95f4-ea52-47b8-8b77-c067eca4510a}
A54: / | F54: D.1.1.01 | L54: Architektonicko stavební řešení | AG54: ='D.1.1.01 - Architektonick...'!J31 -> 0 | AN54: =SUM(AG54,AT54) -> 0 | AQ54: Soupis | AS54: 0 | AT54: =ROUND(SUM(AV54:AW54),2) -> 0 | AU54: ='D.1.1.01 - Architektonick...'!P113 -> 0 | AV54: ='D.1.1.01 - Architektonick...'!J34 -> 0 | AW54: ='D.1.1.01 - Architektonick...'!J35 -> 0 | AX54: ='D.1.1.01 - Architektonick...'!J36 -> 0 | AY54: ='D.1.1.01 - Architektonick...'!J37 -> 0 | AZ54: ='D.1.1.01 - Architektonick...'!F34 -> 0 | BA54: ='D.1.1.01 - Architektonick...'!F35 -> 0 | BB54: ='D.1.1.01 - Architektonick...'!F36 -> 0 | BC54: ='D.1.1.01 - Architektonick...'!F37 -> 0 | BD54: ='D.1.1.01 - Architektonick...'!F38 -> 0 | BT54: 3 | BV54: IMPORT | BW54: {9478e2fb-8ced-4be8-a291-61043722fda2} | BX54: {2222d09a-8c13-472a-ad54-1342aef22773}
A55: / | F55: D.1.1.04 | L55: Zařízení pro vytápění staveb, VZT | AG55: ='D.1.1.04 - Zařízení pro v...'!J31 -> 0 | AN55: =SUM(AG55,AT55) -> 0 | AQ55: Soupis | AS55: 0 | AT55: =ROUND(SUM(AV55:AW55),2) -> 0 | AU55: ='D.1.1.04 - Zařízení pro v...'!P96 -> 0 | AV55: ='D.1.1.04 - Zařízení pro v...'!J34 -> 0 | AW55: ='D.1.1.04 - Zařízení pro v...'!J35 -> 0 | AX55: ='D.1.1.04 - Zařízení pro v...'!J36 -> 0 | AY55: ='D.1.1.04 - Zařízení pro v...'!J37 -> 0 | AZ55: ='D.1.1.04 - Zařízení pro v...'!F34 -> 0 | BA55: ='D.1.1.04 - Zařízení pro v...'!F35 -> 0 | BB55: ='D.1.1.04 - Zařízení pro v...'!F36 -> 0 | BC55: ='D.1.1.04 - Zařízení pro v...'!F37 -> 0 | BD55: ='D.1.1.04 - Zařízení pro v...'!F38 -> 0 | BT55: 3 | BV55: IMPORT | BW55: {28f7fecf-ba58-41d9-a84a-364622fac12e} | BX55: {2222d09a-8c13-472a-ad54-1342aef22773}
A56: / | F56: D.1.1.05 | L56: Zdravotně technické instalace | AG56: ='D.1.1.05 - Zdravotně tech...'!J31 -> 0 | AN56: =SUM(AG56,AT56) -> 0 | AQ56: Soupis | AS56: 0 | AT56: =ROUND(SUM(AV56:AW56),2) -> 0 | AU56: ='D.1.1.05 - Zdravotně tech...'!P99 -> 0 | AV56: ='D.1.1.05 - Zdravotně tech...'!J34 -> 0 | AW56: ='D.1.1.05 - Zdravotně tech...'!J35 -> 0 | AX56: ='D.1.1.05 - Zdravotně tech...'!J36 -> 0 | AY56: ='D.1.1.05 - Zdravotně tech...'!J37 -> 0 | AZ56: ='D.1.1.05 - Zdravotně tech...'!F34 -> 0 | BA56: ='D.1.1.05 - Zdravotně tech...'!F35 -> 0 | BB56: ='D.1.1.05 - Zdravotně tech...'!F36 -> 0 | BC56: ='D.1.1.05 - Zdravotně tech...'!F37 -> 0 | BD56: ='D.1.1.05 - Zdravotně tech...'!F38 -> 0 | BT56: 3 | BV56: IMPORT | BW56: {b7db3b7c-5731-4890-9a58-3f8541eeb4b0} | BX56: {2222d09a-8c13-472a-ad54-1342aef22773}
A57: / | F57: D.1.1.06 | L57: Silnoproudá elektroinstalace, bleskosvod | AG57: ='D.1.1.06 - Silnoproudá el...'!J31 -> 0 | AN57: =SUM(AG57,AT57) -> 0 | AQ57: Soupis | AS57: 0 | AT57: =ROUND(SUM(AV57:AW57),2) -> 0 | AU57: ='D.1.1.06 - Silnoproudá el...'!P98 -> 0 | AV57: ='D.1.1.06 - Silnoproudá el...'!J34 -> 0 | AW57: ='D.1.1.06 - Silnoproudá el...'!J35 -> 0 | AX57: ='D.1.1.06 - Silnoproudá el...'!J36 -> 0 | AY57: ='D.1.1.06 - Silnoproudá el...'!J37 -> 0 | AZ57: ='D.1.1.06 - Silnoproudá el...'!F34 -> 0 | BA57: ='D.1.1.06 - Silnoproudá el...'!F35 -> 0 | BB57: ='D.1.1.06 - Silnoproudá el...'!F36 -> 0 | BC57: ='D.1.1.06 - Silnoproudá el...'!F37 -> 0 | BD57: ='D.1.1.06 - Silnoproudá el...'!F38 -> 0 | BT57: 3 | BV57: IMPORT | BW57: {81ff8963-aae4-4d1f-9b4f-a83f1bdf00dd} | BX57: {2222d09a-8c13-472a-ad54-1342aef22773}
A58: / | F58: D.1.1.07 | L58: Slaboproudá elektroinstalace | AG58: ='D.1.1.07 - Slaboproudá el...'!J31 -> 0 | AN58: =SUM(AG58,AT58) -> 0 | AQ58: Soupis | AS58: 0 | AT58: =ROUND(SUM(AV58:AW58),2) -> 0 | AU58: ='D.1.1.07 - Slaboproudá el...'!P93 -> 0 | AV58: ='D.1.1.07 - Slaboproudá el...'!J34 -> 0 | AW58: ='D.1.1.07 - Slaboproudá el...'!J35 -> 0 | AX58: ='D.1.1.07 - Slaboproudá el...'!J36 -> 0 | AY58: ='D.1.1.07 - Slaboproudá el...'!J37 -> 0 | AZ58: ='D.1.1.07 - Slaboproudá el...'!F34 -> 0 | BA58: ='D.1.1.07 - Slaboproudá el...'!F35 -> 0 | BB58: ='D.1.1.07 - Slaboproudá el...'!F36 -> 0 | BC58: ='D.1.1.07 - Slaboproudá el...'!F37 -> 0 | BD58: ='D.1.1.07 - Slaboproudá el...'!F38 -> 0 | BT58: 3 | BV58: IMPORT | BW58: {299425f4-185b-40d2-a647-f6019e7c8444} | BX58: {2222d09a-8c13-472a-ad54-1342aef22773}
E59: D.2.1 | K59: Komunikace a zpevněné plochy | AG59: =ROUND(AG60,2) -> 0 | AN59: =SUM(AG59,AT59) -> 0 | AQ59: Soupis | AS59: =ROUND(AS60,2) -> 0 | AT59: =ROUND(SUM(AV59:AW59),2) -> 0 | AU59: =ROUND(AU60,5) -> 0 | AV59: =ROUND(AZ59*L26,2) -> 0 | AW59: =ROUND(BA59*L27,2) -> 0 | AX59: =ROUND(BB59*L26,2) -> 0 | AY59: =ROUND(BC59*L27,2) -> 0 | AZ59: =ROUND(AZ60,2) -> 0 | BA59: =ROUND(BA60,2) -> 0 | BB59: =ROUND(BB60,2) -> 0 | BC59: =ROUND(BC60,2) -> 0 | BD59: =ROUND(BD60,2) -> 0 | BS59: D | BT59: 2 | BU59: ###NOIMPORT### | BV59: IMPORT | BW59: {20edf20e-a1a4-466a-95c7-54d9c8874d40} | BX59: {abba95f4-ea52-47b8-8b77-c067eca4510a}
A60: / | F60: IO03 | L60: Okapový chodníček | AG60: ='IO03 - Okapový chodníček'!J31 -> 0 | AN60: =SUM(AG60,AT60) -> 0 | AQ60: Soupis | AS60: 0 | AT60: =ROUND(SUM(AV60:AW60),2) -> 0 | AU60: ='IO03 - Okapový chodníček'!P94 -> 0 | AV60: ='IO03 - Okapový chodníček'!J34 -> 0 | AW60: ='IO03 - Okapový chodníček'!J35 -> 0 | AX60: ='IO03 - Okapový chodníček'!J36 -> 0 | AY60: ='IO03 - Okapový chodníček'!J37 -> 0 | AZ60: ='IO03 - Okapový chodníček'!F34 -> 0 | BA60: ='IO03 - Okapový chodníček'!F35 -> 0 | BB60: ='IO03 - Okapový chodníček'!F36 -> 0 | BC60: ='IO03 - Okapový chodníček'!F37 -> 0 | BD60: ='IO03 - Okapový chodníček'!F38 -> 0 | BT60: 3 | BV60: IMPORT | BW60: {47dbdefd-9f29-4da9-9455-35737de775f0} | BX60: {20edf20e-a1a4-466a-95c7-54d9c8874d40}
E61: D.2.2 | K61: Kanalizace a vodovod | AG61: =ROUND(SUM(AG62:AG64),2) -> 0 | AN61: =SUM(AG61,AT61) -> 0 | AQ61: Soupis | AS61: =ROUND(SUM(AS62:AS64),2) -> 0 | AT61: =ROUND(SUM(AV61:AW61),2) -> 0 | AU61: =ROUND(SUM(AU62:AU64),5) -> 0 | AV61: =ROUND(AZ61*L26,2) -> 0 | AW61: =ROUND(BA61*L27,2) -> 0 | AX61: =ROUND(BB61*L26,2) -> 0 | AY61: =ROUND(BC61*L27,2) -> 0 | AZ61: =ROUND(SUM(AZ62:AZ64),2) -> 0 | BA61: =ROUND(SUM(BA62:BA64),2) -> 0 | BB61: =ROUND(SUM(BB62:BB64),2) -> 0 | BC61: =ROUND(SUM(BC62:BC64),2) -> 0 | BD61: =ROUND(SUM(BD62:BD64),2) -> 0 | BS61: D | BT61: 2 | BU61: ###NOIMPORT### | BV61: IMPORT | BW61: {8e16c2e9-d521-4599-b844-76fb7308f3cf} | BX61: {abba95f4-ea52-47b8-8b77-c067eca4510a}
A62: / | F62: TI01 | L62: Vodovod | AG62: ='TI01 - Vodovod'!J31 -> 0 | AN62: =SUM(AG62,AT62) -> 0 | AQ62: Soupis | AS62: 0 | AT62: =ROUND(SUM(AV62:AW62),2) -> 0 | AU62: ='TI01 - Vodovod'!P95 -> 0 | AV62: ='TI01 - Vodovod'!J34 -> 0 | AW62: ='TI01 - Vodovod'!J35 -> 0 | AX62: ='TI01 - Vodovod'!J36 -> 0 | AY62: ='TI01 - Vodovod'!J37 -> 0 | AZ62: ='TI01 - Vodovod'!F34 -> 0 | BA62: ='TI01 - Vodovod'!F35 -> 0 | BB62: ='TI01 - Vodovod'!F36 -> 0 | BC62: ='TI01 - Vodovod'!F37 -> 0 | BD62: ='TI01 - Vodovod'!F38 -> 0 | BT62: 3 | BV62: IMPORT | BW62: {c767ab61-5148-4374-b833-337106463f41} | BX62: {8e16c2e9-d521-4599-b844-76fb7308f3cf}
A63: / | F63: TI02 | L63: Splašková kanalizace | AG63: ='TI02 - Splašková kanalizace'!J31 -> 0 | AN63: =SUM(AG63,AT63) -> 0 | AQ63: Soupis | AS63: 0 | AT63: =ROUND(SUM(AV63:AW63),2) -> 0 | AU63: ='TI02 - Splašková kanalizace'!P95 -> 0 | AV63: ='TI02 - Splašková kanalizace'!J34 -> 0 | AW63: ='TI02 - Splašková kanalizace'!J35 -> 0 | AX63: ='TI02 - Splašková kanalizace'!J36 -> 0 | AY63: ='TI02 - Splašková kanalizace'!J37 -> 0 | AZ63: ='TI02 - Splašková kanalizace'!F34 -> 0 | BA63: ='TI02 - Splašková kanalizace'!F35 -> 0 | BB63: ='TI02 - Splašková kanalizace'!F36 -> 0 | BC63: ='TI02 - Splašková kanalizace'!F37 -> 0 | BD63: ='TI02 - Splašková kanalizace'!F38 -> 0 | BT63: 3 | BV63: IMPORT | BW63: {81789de1-3b75-4e10-af4b-0fe5f8e532cd} | BX63: {8e16c2e9-d521-4599-b844-76fb7308f3cf}
A64: / | F64: TI03 | L64: Dešťová kanalizace | AG64: ='TI03 - Dešťová kanalizace'!J31 -> 0 | AN64: =SUM(AG64,AT64) -> 0 | AQ64: Soupis | AS64: 0 | AT64: =ROUND(SUM(AV64:AW64),2) -> 0 | AU64: ='TI03 - Dešťová kanalizace'!P96 -> 0 | AV64: ='TI03 - Dešťová kanalizace'!J34 -> 0 | AW64: ='TI03 - Dešťová kanalizace'!J35 -> 0 | AX64: ='TI03 - Dešťová kanalizace'!J36 -> 0 | AY64: ='TI03 - Dešťová kanalizace'!J37 -> 0 | AZ64: ='TI03 - Dešťová kanalizace'!F34 -> 0 | BA64: ='TI03 - Dešťová kanalizace'!F35 -> 0 | BB64: ='TI03 - Dešťová kanalizace'!F36 -> 0 | BC64: ='TI03 - Dešťová kanalizace'!F37 -> 0 | BD64: ='TI03 - Dešťová kanalizace'!F38 -> 0 | BT64: 3 | BV64: IMPORT | BW64: {1abae781-578a-4057-886d-01bbe76087e9} | BX64: {8e16c2e9-d521-4599-b844-76fb7308f3cf}
E65: D.2.3 | K65: Plynovod | AG65: =ROUND(SUM(AG66:AG67),2) -> 0 | AN65: =SUM(AG65,AT65) -> 0 | AQ65: Soupis | AS65: =ROUND(SUM(AS66:AS67),2) -> 0 | AT65: =ROUND(SUM(AV65:AW65),2) -> 0 | AU65: =ROUND(SUM(AU66:AU67),5) -> 0 | AV65: =ROUND(AZ65*L26,2) -> 0 | AW65: =ROUND(BA65*L27,2) -> 0 | AX65: =ROUND(BB65*L26,2) -> 0 | AY65: =ROUND(BC65*L27,2) -> 0 | AZ65: =ROUND(SUM(AZ66:AZ67),2) -> 0 | BA65: =ROUND(SUM(BA66:BA67),2) -> 0 | BB65: =ROUND(SUM(BB66:BB67),2) -> 0 | BC65: =ROUND(SUM(BC66:BC67),2) -> 0 | BD65: =ROUND(SUM(BD66:BD67),2) -> 0 | BS65: D | BT65: 2 | BU65: ###NOIMPORT### | BV65: IMPORT | BW65: {3c262127-6624-4dd2-99a0-60abb2bdf876} | BX65: {abba95f4-ea52-47b8-8b77-c067eca4510a}
A66: / | F66: D.2.3.01 | L66: Plynová zařízení | AG66: ='D.2.3.01 - Plynová zařízení'!J31 -> 0 | AN66: =SUM(AG66,AT66) -> 0 | AQ66: Soupis | AS66: 0 | AT66: =ROUND(SUM(AV66:AW66),2) -> 0 | AU66: ='D.2.3.01 - Plynová zařízení'!P92 -> 0 | AV66: ='D.2.3.01 - Plynová zařízení'!J34 -> 0 | AW66: ='D.2.3.01 - Plynová zařízení'!J35 -> 0 | AX66: ='D.2.3.01 - Plynová zařízení'!J36 -> 0 | AY66: ='D.2.3.01 - Plynová zařízení'!J37 -> 0 | AZ66: ='D.2.3.01 - Plynová zařízení'!F34 -> 0 | BA66: ='D.2.3.01 - Plynová zařízení'!F35 -> 0 | BB66: ='D.2.3.01 - Plynová zařízení'!F36 -> 0 | BC66: ='D.2.3.01 - Plynová zařízení'!F37 -> 0 | BD66: ='D.2.3.01 - Plynová zařízení'!F38 -> 0 | BT66: 3 | BV66: IMPORT | BW66: {eaf53546-8fe1-48da-828c-343c957edda7} | BX66: {3c262127-6624-4dd2-99a0-60abb2bdf876}
A67: / | F67: D.2.3.02 | L67: Plynovodní přípojka TI05 | AG67: ='D.2.3.02 - Plynovodní pří...'!J31 -> 0 | AN67: =SUM(AG67,AT67) -> 0 | AQ67: Soupis | AS67: 0 | AT67: =ROUND(SUM(AV67:AW67),2) -> 0 | AU67: ='D.2.3.02 - Plynovodní pří...'!P95 -> 0 | AV67: ='D.2.3.02 - Plynovodní pří...'!J34 -> 0 | AW67: ='D.2.3.02 - Plynovodní pří...'!J35 -> 0 | AX67: ='D.2.3.02 - Plynovodní pří...'!J36 -> 0 | AY67: ='D.2.3.02 - Plynovodní pří...'!J37 -> 0 | AZ67: ='D.2.3.02 - Plynovodní pří...'!F34 -> 0 | BA67: ='D.2.3.02 - Plynovodní pří...'!F35 -> 0 | BB67: ='D.2.3.02 - Plynovodní pří...'!F36 -> 0 | BC67: ='D.2.3.02 - Plynovodní pří...'!F37 -> 0 | BD67: ='D.2.3.02 - Plynovodní pří...'!F38 -> 0 | BT67: 3 | BV67: IMPORT | BW67: {156a2565-b3f7-42b6-a41a-ac3c17dd6382} | BX67: {3c262127-6624-4dd2-99a0-60abb2bdf876}
A68: / | E68: D.2.4 | K68: Podzemní vedení elektro | AG68: ='D.2.4 - Podzemní vedení e...'!J29 -> 0 | AN68: =SUM(AG68,AT68) -> 0 | AQ68: Soupis | AS68: 0 | AT68: =ROUND(SUM(AV68:AW68),2) -> 0 | AU68: ='D.2.4 - Podzemní vedení e...'!P86 -> 0 | AV68: ='D.2.4 - Podzemní vedení e...'!J32 -> 0 | AW68: ='D.2.4 - Podzemní vedení e...'!J33 -> 0 | AX68: ='D.2.4 - Podzemní vedení e...'!J34 -> 0 | AY68: ='D.2.4 - Podzemní vedení e...'!J35 -> 0 | AZ68: ='D.2.4 - Podzemní vedení e...'!F32 -> 0 | BA68: ='D.2.4 - Podzemní vedení e...'!F33 -> 0 | BB68: ='D.2.4 - Podzemní vedení e...'!F34 -> 0 | BC68: ='D.2.4 - Podzemní vedení e...'!F35 -> 0 | BD68: ='D.2.4 - Podzemní vedení e...'!F36 -> 0 | BT68: 2 | BV68: IMPORT | BW68: {1c65ba75-565b-4112-b498-d99f41a7b1ec} | BX68: {abba95f4-ea52-47b8-8b77-c067eca4510a}
A69: / | E69: D.2.5 | K69: Podzemní sdělovací vedení | AG69: ='D.2.5 - Podzemní sdělovac...'!J29 -> 0 | AN69: =SUM(AG69,AT69) -> 0 | AQ69: Soupis | AS69: 0 | AT69: =ROUND(SUM(AV69:AW69),2) -> 0 | AU69: ='D.2.5 - Podzemní sdělovac...'!P85 -> 0 | AV69: ='D.2.5 - Podzemní sdělovac...'!J32 -> 0 | AW69: ='D.2.5 - Podzemní sdělovac...'!J33 -> 0 | AX69: ='D.2.5 - Podzemní sdělovac...'!J34 -> 0 | AY69: ='D.2.5 - Podzemní sdělovac...'!J35 -> 0 | AZ69: ='D.2.5 - Podzemní sdělovac...'!F32 -> 0 | BA69: ='D.2.5 - Podzemní sdělovac...'!F33 -> 0 | BB69: ='D.2.5 - Podzemní sdělovac...'!F34 -> 0 | BC69: ='D.2.5 - Podzemní sdělovac...'!F35 -> 0 | BD69: ='D.2.5 - Podzemní sdělovac...'!F36 -> 0 | BT69: 2 | BV69: IMPORT | BW69: {ee6f9bc2-6d9f-47b3-9da3-583170dff48b} | BX69: {abba95f4-ea52-47b8-8b77-c067eca4510a}
A70: / | E70: VRN | K70: Vedlejší rozpočtové náklady | AG70: ='VRN - Vedlejší rozpočtové...'!J29 -> 0 | AN70: =SUM(AG70,AT70) -> 0 | AQ70: Soupis | AS70: 0 | AT70: =ROUND(SUM(AV70:AW70),2) -> 0 | AU70: ='VRN - Vedlejší rozpočtové...'!P86 -> 0 | AV70: ='VRN - Vedlejší rozpočtové...'!J32 -> 0 | AW70: ='VRN - Vedlejší rozpočtové...'!J33 -> 0 | AX70: ='VRN - Vedlejší rozpočtové...'!J34 -> 0 | AY70: ='VRN - Vedlejší rozpočtové...'!J35 -> 0 | AZ70: ='VRN - Vedlejší rozpočtové...'!F32 -> 0 | BA70: ='VRN - Vedlejší rozpočtové...'!F33 -> 0 | BB70: ='VRN - Vedlejší rozpočtové...'!F34 -> 0 | BC70: ='VRN - Vedlejší rozpočtové...'!F35 -> 0 | BD70: ='VRN - Vedlejší rozpočtové...'!F36 -> 0 | BT70: 2 | BV70: IMPORT | BW70: {8b70eefa-b8ae-40b1-9729-a37a6a8a2334} | BX70: {abba95f4-ea52-47b8-8b77-c067eca4510a}
D71: B | J71: Vedlejší aktivity projektu | AG71: =ROUND(AG72+AG82+AG85+SUM(AG88:AG90)+AG97+AG99+AG103,2) -> 0 | AN71: =SUM(AG71,AT71) -> 0 | AQ71: STA | AS71: =ROUND(AS72+AS82+AS85+SUM(AS88:AS90)+AS97+AS99+AS103,2) -> 0 | AT71: =ROUND(SUM(AV71:AW71),2) -> 0 | AU71: =ROUND(AU72+AU82+AU85+SUM(AU88:AU90)+AU97+AU99+AU103,5) -> 0 | AV71: =ROUND(AZ71*L26,2) -> 0 | AW71: =ROUND(BA71*L27,2) -> 0 | AX71: =ROUND(BB71*L26,2) -> 0 | AY71: =ROUND(BC71*L27,2) -> 0 | AZ71: =ROUND(AZ72+AZ82+AZ85+SUM(AZ88:AZ90)+AZ97+AZ99+AZ103,2) -> 0 | BA71: =ROUND(BA72+BA82+BA85+SUM(BA88:BA90)+BA97+BA99+BA103,2) -> 0 | BB71: =ROUND(BB72+BB82+BB85+SUM(BB88:BB90)+BB97+BB99+BB103,2) -> 0 | BC71: =ROUND(BC72+BC82+BC85+SUM(BC88:BC90)+BC97+BC99+BC103,2) -> 0 | BD71: =ROUND(BD72+BD82+BD85+SUM(BD88:BD90)+BD97+BD99+BD103,2) -> 0 | BS71: D | BT71: 1 | BU71: ###NOIMPORT### | BV71: IMPORT | BW71: {8272b354-97dc-4db9-ace0-8c76d3d56a18} | BX71: {7633e13f-b0c7-4853-84f7-4418fb4cd8fc} | CM71: 2
E72: DO | K72: Demolice | AG72: =ROUND(AG73+SUM(AG79:AG81),2) -> 0 | AN72: =SUM(AG72,AT72) -> 0 | AQ72: Soupis | AS72: =ROUND(AS73+SUM(AS79:AS81),2) -> 0 | AT72: =ROUND(SUM(AV72:AW72),2) -> 0 | AU72: =ROUND(AU73+SUM(AU79:AU81),5) -> 0 | AV72: =ROUND(AZ72*L26,2) -> 0 | AW72: =ROUND(BA72*L27,2) -> 0 | AX72: =ROUND(BB72*L26,2) -> 0 | AY72: =ROUND(BC72*L27,2) -> 0 | AZ72: =ROUND(AZ73+SUM(AZ79:AZ81),2) -> 0 | BA72: =ROUND(BA73+SUM(BA79:BA81),2) -> 0 | BB72: =ROUND(BB73+SUM(BB79:BB81),2) -> 0 | BC72: =ROUND(BC73+SUM(BC79:BC81),2) -> 0 | BD72: =ROUND(BD73+SUM(BD79:BD81),2) -> 0 | BS72: D | BT72: 2 | BU72: ###NOIMPORT### | BV72: IMPORT | BW72: {960a296f-8874-4fab-9937-9ececf357590} | BX72: {8272b354-97dc-4db9-ace0-8c76d3d56a18}
F73: DO | L73: Demolice stávajících objektů (dok. bouracích prací) | AG73: =ROUND(SUM(AG74:AG78),2) -> 0 | AN73: =SUM(AG73,AT73) -> 0 | AQ73: Soupis | AS73: =ROUND(SUM(AS74:AS78),2) -> 0 | AT73: =ROUND(SUM(AV73:AW73),2) -> 0 | AU73: =ROUND(SUM(AU74:AU78),5) -> 0 | AV73: =ROUND(AZ73*L26,2) -> 0 | AW73: =ROUND(BA73*L27,2) -> 0 | AX73: =ROUND(BB73*L26,2) -> 0 | AY73: =ROUND(BC73*L27,2) -> 0 | AZ73: =ROUND(SUM(AZ74:AZ78),2) -> 0 | BA73: =ROUND(SUM(BA74:BA78),2) -> 0 | BB73: =ROUND(SUM(BB74:BB78),2) -> 0 | BC73: =ROUND(SUM(BC74:BC78),2) -> 0 | BD73: =ROUND(SUM(BD74:BD78),2) -> 0 | BS73: D | BT73: 3 | BU73: ###NOIMPORT### | BV73: IMPORT | BW73: {2690d3e1-e788-4248-962d-ce4c5374a0c6} | BX73: {960a296f-8874-4fab-9937-9ececf357590}
A74: / | G74: 01 | M74: Rodinný dům s garáží | AG74: ='01 - Rodinný dům s garáží'!J31 -> 0 | AN74: =SUM(AG74,AT74) -> 0 | AQ74: Soupis | AS74: 0 | AT74: =ROUND(SUM(AV74:AW74),2) -> 0 | AU74: ='01 - Rodinný dům s garáží'!P95 -> 0 | AV74: ='01 - Rodinný dům s garáží'!J34 -> 0 | AW74: ='01 - Rodinný dům s garáží'!J35 -> 0 | AX74: ='01 - Rodinný dům s garáží'!J36 -> 0 | AY74: ='01 - Rodinný dům s garáží'!J37 -> 0 | AZ74: ='01 - Rodinný dům s garáží'!F34 -> 0 | BA74: ='01 - Rodinný dům s garáží'!F35 -> 0 | BB74: ='01 - Rodinný dům s garáží'!F36 -> 0 | BC74: ='01 - Rodinný dům s garáží'!F37 -> 0 | BD74: ='01 - Rodinný dům s garáží'!F38 -> 0 | BT74: 4 | BV74: IMPORT | BW74: {f7ebda2a-1a72-4ca1-ba2a-7836318774ca} | BX74: {2690d3e1-e788-4248-962d-ce4c5374a0c6}
A75: / | G75: 02 | M75: Dílna | AG75: ='02 - Dílna'!J31 -> 0 | AN75: =SUM(AG75,AT75) -> 0 | AQ75: Soupis | AS75: 0 | AT75: =ROUND(SUM(AV75:AW75),2) -> 0 | AU75: ='02 - Dílna'!P94 -> 0 | AV75: ='02 - Dílna'!J34 -> 0 | AW75: ='02 - Dílna'!J35 -> 0 | AX75: ='02 - Dílna'!J36 -> 0 | AY75: ='02 - Dílna'!J37 -> 0 | AZ75: ='02 - Dílna'!F34 -> 0 | BA75: ='02 - Dílna'!F35 -> 0 | BB75: ='02 - Dílna'!F36 -> 0 | BC75: ='02 - Dílna'!F37 -> 0 | BD75: ='02 - Dílna'!F38 -> 0 | BT75: 4 | BV75: IMPORT | BW75: {5f81e965-d0d6-4b66-a3fc-a0481caf315c} | BX75: {2690d3e1-e788-4248-962d-ce4c5374a0c6}
A76: / | G76: 03 | M76: Dřevěná kůlna | AG76: ='03 - Dřevěná kůlna'!J31 -> 0 | AN76: =SUM(AG76,AT76) -> 0 | AQ76: Soupis | AS76: 0 | AT76: =ROUND(SUM(AV76:AW76),2) -> 0 | AU76: ='03 - Dřevěná kůlna'!P94 -> 0 | AV76: ='03 - Dřevěná kůlna'!J34 -> 0 | AW76: ='03 - Dřevěná kůlna'!J35 -> 0 | AX76: ='03 - Dřevěná kůlna'!J36 -> 0 | AY76: ='03 - Dřevěná kůlna'!J37 -> 0 | AZ76: ='03 - Dřevěná kůlna'!F34 -> 0 | BA76: ='03 - Dřevěná kůlna'!F35 -> 0 | BB76: ='03 - Dřevěná kůlna'!F36 -> 0 | BC76: ='03 - Dřevěná kůlna'!F37 -> 0 | BD76: ='03 - Dřevěná kůlna'!F38 -> 0 | BT76: 4 | BV76: IMPORT | BW76: {582969fd-c0f5-4aba-b44d-46588c67ef9f} | BX76: {2690d3e1-e788-4248-962d-ce4c5374a0c6}
A77: / | G77: 04 | M77: Zpevněná plocha - betonová plocha | AG77: ='04 - Zpevněná plocha - be...'!J31 -> 0 | AN77: =SUM(AG77,AT77) -> 0 | AQ77: Soupis | AS77: 0 | AT77: =ROUND(SUM(AV77:AW77),2) -> 0 | AU77: ='04 - Zpevněná plocha - be...'!P91 -> 0 | AV77: ='04 - Zpevněná plocha - be...'!J34 -> 0 | AW77: ='04 - Zpevněná plocha - be...'!J35 -> 0 | AX77: ='04 - Zpevněná plocha - be...'!J36 -> 0 | AY77: ='04 - Zpevněná plocha - be...'!J37 -> 0 | AZ77: ='04 - Zpevněná plocha - be...'!F34 -> 0 | BA77: ='04 - Zpevněná plocha - be...'!F35 -> 0 | BB77: ='04 - Zpevněná plocha - be...'!F36 -> 0 | BC77: ='04 - Zpevněná plocha - be...'!F37 -> 0 | BD77: ='04 - Zpevněná plocha - be...'!F38 -> 0 | BT77: 4 | BV77: IMPORT | BW77: {734b4a56-3173-4a62-b6f8-830d083c8e52} | BX77: {2690d3e1-e788-4248-962d-ce4c5374a0c6}
A78: / | G78: 05 | M78: Zpevněná plocha - betonová dlažba | AG78: ='05 - Zpevněná plocha - be...'!J31 -> 0 | AN78: =SUM(AG78,AT78) -> 0 | AQ78: Soupis | AS78: 0 | AT78: =ROUND(SUM(AV78:AW78),2) -> 0 | AU78: ='05 - Zpevněná plocha - be...'!P91 -> 0 | AV78: ='05 - Zpevněná plocha - be...'!J34 -> 0 | AW78: ='05 - Zpevněná plocha - be...'!J35 -> 0 | AX78: ='05 - Zpevněná plocha - be...'!J36 -> 0 | AY78: ='05 - Zpevněná plocha - be...'!J37 -> 0 | AZ78: ='05 - Zpevněná plocha - be...'!F34 -> 0 | BA78: ='05 - Zpevněná plocha - be...'!F35 -> 0 | BB78: ='05 - Zpevněná plocha - be...'!F36 -> 0 | BC78: ='05 - Zpevněná plocha - be...'!F37 -> 0 | BD78: ='05 - Zpevněná plocha - be...'!F38 -> 0 | BT78: 4 | BV78: IMPORT | BW78: {43c13471-8147-4f9f-9115-9934aad0bb72} | BX78: {2690d3e1-e788-4248-962d-ce4c5374a0c6}
A79: / | F79: DO01-07, 09 | L79: Demolice DO01-07,09 | AG79: ='DO01-07, 09 - Demolice DO...'!J31 -> 0 | AN79: =SUM(AG79,AT79) -> 0 | AQ79: Soupis | AS79: 0 | AT79: =ROUND(SUM(AV79:AW79),2) -> 0 | AU79: ='DO01-07, 09 - Demolice DO...'!P95 -> 0 | AV79: ='DO01-07, 09 - Demolice DO...'!J34 -> 0 | AW79: ='DO01-07, 09 - Demolice DO...'!J35 -> 0 | AX79: ='DO01-07, 09 - Demolice DO...'!J36 -> 0 | AY79: ='DO01-07, 09 - Demolice DO...'!J37 -> 0 | AZ79: ='DO01-07, 09 - Demolice DO...'!F34 -> 0 | BA79: ='DO01-07, 09 - Demolice DO...'!F35 -> 0 | BB79: ='DO01-07, 09 - Demolice DO...'!F36 -> 0 | BC79: ='DO01-07, 09 - Demolice DO...'!F37 -> 0 | BD79: ='DO01-07, 09 - Demolice DO...'!F38 -> 0 | BT79: 3 | BV79: IMPORT | BW79: {432130f1-b33b-4063-ba78-114e74821a2a} | BX79: {960a296f-8874-4fab-9937-9ececf357590}
A80: / | F80: DO08 | L80: Elektro nadzemní NN do 1kV | AG80: ='DO08 - Elektro nadzemní N...'!J31 -> 0 | AN80: =SUM(AG80,AT80) -> 0 | AQ80: Soupis | AS80: 0 | AT80: =ROUND(SUM(AV80:AW80),2) -> 0 | AU80: ='DO08 - Elektro nadzemní N...'!P90 -> 0 | AV80: ='DO08 - Elektro nadzemní N...'!J34 -> 0 | AW80: ='DO08 - Elektro nadzemní N...'!J35 -> 0 | AX80: ='DO08 - Elektro nadzemní N...'!J36 -> 0 | AY80: ='DO08 - Elektro nadzemní N...'!J37 -> 0 | AZ80: ='DO08 - Elektro nadzemní N...'!F34 -> 0 | BA80: ='DO08 - Elektro nadzemní N...'!F35 -> 0 | BB80: ='DO08 - Elektro nadzemní N...'!F36 -> 0 | BC80: ='DO08 - Elektro nadzemní N...'!F37 -> 0 | BD80: ='DO08 - Elektro nadzemní N...'!F38 -> 0 | BT80: 3 | BV80: IMPORT | BW80: {48f70d5d-3a00-41ca-92b2-89cf56dcbece} | BX80: {960a296f-8874-4fab-9937-9ececf357590}
A81: / | F81: DO10 | L81: Přípojka plynovod | AG81: ='DO10 - Přípojka plynovod'!J31 -> 0 | AN81: =SUM(AG81,AT81) -> 0 | AQ81: Soupis | AS81: 0 | AT81: =ROUND(SUM(AV81:AW81),2) -> 0 | AU81: ='DO10 - Přípojka plynovod'!P90 -> 0 | AV81: ='DO10 - Přípojka plynovod'!J34 -> 0 | AW81: ='DO10 - Přípojka plynovod'!J35 -> 0 | AX81: ='DO10 - Přípojka plynovod'!J36 -> 0 | AY81: ='DO10 - Přípojka plynovod'!J37 -> 0 | AZ81: ='DO10 - Přípojka plynovod'!F34 -> 0 | BA81: ='DO10 - Přípojka plynovod'!F35 -> 0 | BB81: ='DO10 - Přípojka plynovod'!F36 -> 0 | BC81: ='DO10 - Přípojka plynovod'!F37 -> 0 | BD81: ='DO10 - Přípojka plynovod'!F38 -> 0 | BT81: 3 | BV81: IMPORT | BW81: {22b1fed7-b8c5-4cfc-9bd8-78e8fb4e0f0e} | BX81: {960a296f-8874-4fab-9937-9ececf357590}
E82: SO02 | K82: Garáž | AG82: =ROUND(SUM(AG83:AG84),2) -> 0 | AN82: =SUM(AG82,AT82) -> 0 | AQ82: Soupis | AS82: =ROUND(SUM(AS83:AS84),2) -> 0 | AT82: =ROUND(SUM(AV82:AW82),2) -> 0 | AU82: =ROUND(SUM(AU83:AU84),5) -> 0 | AV82: =ROUND(AZ82*L26,2) -> 0 | AW82: =ROUND(BA82*L27,2) -> 0 | AX82: =ROUND(BB82*L26,2) -> 0 | AY82: =ROUND(BC82*L27,2) -> 0 | AZ82: =ROUND(SUM(AZ83:AZ84),2) -> 0 | BA82: =ROUND(SUM(BA83:BA84),2) -> 0 | BB82: =ROUND(SUM(BB83:BB84),2) -> 0 | BC82: =ROUND(SUM(BC83:BC84),2) -> 0 | BD82: =ROUND(SUM(BD83:BD84),2) -> 0 | BS82: D | BT82: 2 | BU82: ###NOIMPORT### | BV82: IMPORT | BW82: {08d27f6a-67d7-4f4b-86b5-70c3d924ff54} | BX82: {8272b354-97dc-4db9-ace0-8c76d3d56a18}
A83: / | F83: D.1.2.01 | L83: Architektonicko stavební řešení | AG83: ='D.1.2.01 - Architektonick...'!J31 -> 0 | AN83: =SUM(AG83,AT83) -> 0 | AQ83: Soupis | AS83: 0 | AT83: =ROUND(SUM(AV83:AW83),2) -> 0 | AU83: ='D.1.2.01 - Architektonick...'!P107 -> 0 | AV83: ='D.1.2.01 - Architektonick...'!J34 -> 0 | AW83: ='D.1.2.01 - Architektonick...'!J35 -> 0 | AX83: ='D.1.2.01 - Architektonick...'!J36 -> 0 | AY83: ='D.1.2.01 - Architektonick...'!J37 -> 0 | AZ83: ='D.1.2.01 - Architektonick...'!F34 -> 0 | BA83: ='D.1.2.01 - Architektonick...'!F35 -> 0 | BB83: ='D.1.2.01 - Architektonick...'!F36 -> 0 | BC83: ='D.1.2.01 - Architektonick...'!F37 -> 0 | BD83: ='D.1.2.01 - Architektonick...'!F38 -> 0 | BT83: 3 | BV83: IMPORT | BW83: {aa35f832-666a-4deb-8369-7ab64b54f0d3} | BX83: {08d27f6a-67d7-4f4b-86b5-70c3d924ff54}
A84: / | F84: D.1.2.04 | L84: Silnoproudá elektroinstalace, bleskosvod | AG84: ='D.1.2.04 - Silnoproudá el...'!J31 -> 0 | AN84: =SUM(AG84,AT84) -> 0 | AQ84: Soupis | AS84: 0 | AT84: =ROUND(SUM(AV84:AW84),2) -> 0 | AU84: ='D.1.2.04 - Silnoproudá el...'!P95 -> 0 | AV84: ='D.1.2.04 - Silnoproudá el...'!J34 -> 0 | AW84: ='D.1.2.04 - Silnoproudá el...'!J35 -> 0 | AX84: ='D.1.2.04 - Silnoproudá el...'!J36 -> 0 | AY84: ='D.1.2.04 - Silnoproudá el...'!J37 -> 0 | AZ84: ='D.1.2.04 - Silnoproudá el...'!F34 -> 0 | BA84: ='D.1.2.04 - Silnoproudá el...'!F35 -> 0 | BB84: ='D.1.2.04 - Silnoproudá el...'!F36 -> 0 | BC84: ='D.1.2.04 - Silnoproudá el...'!F37 -> 0 | BD84: ='D.1.2.04 - Silnoproudá el...'!F38 -> 0 | BT84: 3 | BV84: IMPORT | BW84: {914acfb0-e259-4b11-adf4-e06749b8062c} | BX84: {08d27f6a-67d7-4f4b-86b5-70c3d924ff54}
E85: SO03 | K85: Stávající zahradní domek | AG85: =ROUND(SUM(AG86:AG87),2) -> 0 | AN85: =SUM(AG85,AT85) -> 0 | AQ85: Soupis | AS85: =ROUND(SUM(AS86:AS87),2) -> 0 | AT85: =ROUND(SUM(AV85:AW85),2) -> 0 | AU85: =ROUND(SUM(AU86:AU87),5) -> 0 | AV85: =ROUND(AZ85*L26,2) -> 0 | AW85: =ROUND(BA85*L27,2) -> 0 | AX85: =ROUND(BB85*L26,2) -> 0 | AY85: =ROUND(BC85*L27,2) -> 0 | AZ85: =ROUND(SUM(AZ86:AZ87),2) -> 0 | BA85: =ROUND(SUM(BA86:BA87),2) -> 0 | BB85: =ROUND(SUM(BB86:BB87),2) -> 0 | BC85: =ROUND(SUM(BC86:BC87),2) -> 0 | BD85: =ROUND(SUM(BD86:BD87),2) -> 0 | BS85: D | BT85: 2 | BU85: ###NOIMPORT### | BV85: IMPORT | BW85: {03f4d43e-0515-43c7-a861-778fbfe2d248} | BX85: {8272b354-97dc-4db9-ace0-8c76d3d56a18}
A86: / | F86: D.1.3.01 | L86: Stávající zahradní domek | AG86: ='D.1.3.01 - Stávající zahr...'!J31 -> 0 | AN86: =SUM(AG86,AT86) -> 0 | AQ86: Soupis | AS86: 0 | AT86: =ROUND(SUM(AV86:AW86),2) -> 0 | AU86: ='D.1.3.01 - Stávající zahr...'!P97 -> 0 | AV86: ='D.1.3.01 - Stávající zahr...'!J34 -> 0 | AW86: ='D.1.3.01 - Stávající zahr...'!J35 -> 0 | AX86: ='D.1.3.01 - Stávající zahr...'!J36 -> 0 | AY86: ='D.1.3.01 - Stávající zahr...'!J37 -> 0 | AZ86: ='D.1.3.01 - Stávající zahr...'!F34 -> 0 | BA86: ='D.1.3.01 - Stávající zahr...'!F35 -> 0 | BB86: ='D.1.3.01 - Stávající zahr...'!F36 -> 0 | BC86: ='D.1.3.01 - Stávající zahr...'!F37 -> 0 | BD86: ='D.1.3.01 - Stávající zahr...'!F38 -> 0 | BT86: 3 | BV86: IMPORT | BW86: {7d6e994d-f0fb-41a4-bcfc-bc213a711d12} | BX86: {03f4d43e-0515-43c7-a861-778fbfe2d248}
A87: / | F87: D.1.3.04 | L87: Silnoproudá elektroinstalace, Bleskosvod | AG87: ='D.1.3.04 - Silnoproudá el...'!J31 -> 0 | AN87: =SUM(AG87,AT87) -> 0 | AQ87: Soupis | AS87: 0 | AT87: =ROUND(SUM(AV87:AW87),2) -> 0 | AU87: ='D.1.3.04 - Silnoproudá el...'!P95 -> 0 | AV87: ='D.1.3.04 - Silnoproudá el...'!J34 -> 0 | AW87: ='D.1.3.04 - Silnoproudá el...'!J35 -> 0 | AX87: ='D.1.3.04 - Silnoproudá el...'!J36 -> 0 | AY87: ='D.1.3.04 - Silnoproudá el...'!J37 -> 0 | AZ87: ='D.1.3.04 - Silnoproudá el...'!F34 -> 0 | BA87: ='D.1.3.04 - Silnoproudá el...'!F35 -> 0 | BB87: ='D.1.3.04 - Silnoproudá el...'!F36 -> 0 | BC87: ='D.1.3.04 - Silnoproudá el...'!F37 -> 0 | BD87: ='D.1.3.04 - Silnoproudá el...'!F38 -> 0 | BT87: 3 | BV87: IMPORT | BW87: {2306406b-1a54-4eb8-a4d1-da8ed099dd92} | BX87: {03f4d43e-0515-43c7-a861-778fbfe2d248}
A88: / | E88: SO04 | K88: Drátěné oplocení | AG88: ='SO04 - Drátěné oplocení'!J29 -> 0 | AN88: =SUM(AG88,AT88) -> 0 | AQ88: Soupis | AS88: 0 | AT88: =ROUND(SUM(AV88:AW88),2) -> 0 | AU88: ='SO04 - Drátěné oplocení'!P89 -> 0 | AV88: ='SO04 - Drátěné oplocení'!J32 -> 0 | AW88: ='SO04 - Drátěné oplocení'!J33 -> 0 | AX88: ='SO04 - Drátěné oplocení'!J34 -> 0 | AY88: ='SO04 - Drátěné oplocení'!J35 -> 0 | AZ88: ='SO04 - Drátěné oplocení'!F32 -> 0 | BA88: ='SO04 - Drátěné oplocení'!F33 -> 0 | BB88: ='SO04 - Drátěné oplocení'!F34 -> 0 | BC88: ='SO04 - Drátěné oplocení'!F35 -> 0 | BD88: ='SO04 - Drátěné oplocení'!F36 -> 0 | BT88: 2 | BV88: IMPORT | BW88: {5e165c50-416d-4d21-97f7-af8a2e3cc476} | BX88: {8272b354-97dc-4db9-ace0-8c76d3d56a18}
A89: / | E89: SO05 | K89: Zděné oplocení | AG89: ='SO05 - Zděné oplocení'!J29 -> 0 | AN89: =SUM(AG89,AT89) -> 0 | AQ89: Soupis | AS89: 0 | AT89: =ROUND(SUM(AV89:AW89),2) -> 0 | AU89: ='SO05 - Zděné oplocení'!P89 -> 0 | AV89: ='SO05 - Zděné oplocení'!J32 -> 0 | AW89: ='SO05 - Zděné oplocení'!J33 -> 0 | AX89: ='SO05 - Zděné oplocení'!J34 -> 0 | AY89: ='SO05 - Zděné oplocení'!J35 -> 0 | AZ89: ='SO05 - Zděné oplocení'!F32 -> 0 | BA89: ='SO05 - Zděné oplocení'!F33 -> 0 | BB89: ='SO05 - Zděné oplocení'!F34 -> 0 | BC89: ='SO05 - Zděné oplocení'!F35 -> 0 | BD89: ='SO05 - Zděné oplocení'!F36 -> 0 | BT89: 2 | BV89: IMPORT | BW89: {86f49042-e2fc-49ef-b575-0d5c0d9b8b14} | BX89: {8272b354-97dc-4db9-ace0-8c76d3d56a18}
E90: D.2.1 | K90: Komunikace a zpevněné plochy | AG90: =ROUND(SUM(AG91:AG96),2) -> 0 | AN90: =SUM(AG90,AT90) -> 0 | AQ90: Soupis | AS90: =ROUND(SUM(AS91:AS96),2) -> 0 | AT90: =ROUND(SUM(AV90:AW90),2) -> 0 | AU90: =ROUND(SUM(AU91:AU96),5) -> 0 | AV90: =ROUND(AZ90*L26,2) -> 0 | AW90: =ROUND(BA90*L27,2) -> 0 | AX90: =ROUND(BB90*L26,2) -> 0 | AY90: =ROUND(BC90*L27,2) -> 0 | AZ90: =ROUND(SUM(AZ91:AZ96),2) -> 0 | BA90: =ROUND(SUM(BA91:BA96),2) -> 0 | BB90: =ROUND(SUM(BB91:BB96),2) -> 0 | BC90: =ROUND(SUM(BC91:BC96),2) -> 0 | BD90: =ROUND(SUM(BD91:BD96),2) -> 0 | BS90: D | BT90: 2 | BU90: ###NOIMPORT### | BV90: IMPORT | BW90: {4097c012-8e4c-452d-8538-17395f2ffb35} | BX90: {8272b354-97dc-4db9-ace0-8c76d3d56a18}
A91: / | F91: IO01 | L91: Parkovací plocha | AG91: ='IO01 - Parkovací plocha'!J31 -> 0 | AN91: =SUM(AG91,AT91) -> 0 | AQ91: Soupis | AS91: 0 | AT91: =ROUND(SUM(AV91:AW91),2) -> 0 | AU91: ='IO01 - Parkovací plocha'!P93 -> 0 | AV91: ='IO01 - Parkovací plocha'!J34 -> 0 | AW91: ='IO01 - Parkovací plocha'!J35 -> 0 | AX91: ='IO01 - Parkovací plocha'!J36 -> 0 | AY91: ='IO01 - Parkovací plocha'!J37 -> 0 | AZ91: ='IO01 - Parkovací plocha'!F34 -> 0 | BA91: ='IO01 - Parkovací plocha'!F35 -> 0 | BB91: ='IO01 - Parkovací plocha'!F36 -> 0 | BC91: ='IO01 - Parkovací plocha'!F37 -> 0 | BD91: ='IO01 - Parkovací plocha'!F38 -> 0 | BT91: 3 | BV91: IMPORT | BW91: {6ea2f251-473d-4916-b8cf-c98cef5c78c7} | BX91: {4097c012-8e4c-452d-8538-17395f2ffb35}
A92: / | F92: IO02a | L92: Pochozí plocha | AG92: ='IO02a - Pochozí plocha'!J31 -> 0 | AN92: =SUM(AG92,AT92) -> 0 | AQ92: Soupis | AS92: 0 | AT92: =ROUND(SUM(AV92:AW92),2) -> 0 | AU92: ='IO02a - Pochozí plocha'!P98 -> 0 | AV92: ='IO02a - Pochozí plocha'!J34 -> 0 | AW92: ='IO02a - Pochozí plocha'!J35 -> 0 | AX92: ='IO02a - Pochozí plocha'!J36 -> 0 | AY92: ='IO02a - Pochozí plocha'!J37 -> 0 | AZ92: ='IO02a - Pochozí plocha'!F34 -> 0 | BA92: ='IO02a - Pochozí plocha'!F35 -> 0 | BB92: ='IO02a - Pochozí plocha'!F36 -> 0 | BC92: ='IO02a - Pochozí plocha'!F37 -> 0 | BD92: ='IO02a - Pochozí plocha'!F38 -> 0 | BT92: 3 | BV92: IMPORT | BW92: {fc20bd37-d689-4f5f-948a-45b5016c67c8} | BX92: {4097c012-8e4c-452d-8538-17395f2ffb35}
A93: / | F93: IO02b | L93: Pochozí plocha | AG93: ='IO02b - Pochozí plocha'!J31 -> 0 | AN93: =SUM(AG93,AT93) -> 0 | AQ93: Soupis | AS93: 0 | AT93: =ROUND(SUM(AV93:AW93),2) -> 0 | AU93: ='IO02b - Pochozí plocha'!P98 -> 0 | AV93: ='IO02b - Pochozí plocha'!J34 -> 0 | AW93: ='IO02b - Pochozí plocha'!J35 -> 0 | AX93: ='IO02b - Pochozí plocha'!J36 -> 0 | AY93: ='IO02b - Pochozí plocha'!J37 -> 0 | AZ93: ='IO02b - Pochozí plocha'!F34 -> 0 | BA93: ='IO02b - Pochozí plocha'!F35 -> 0 | BB93: ='IO02b - Pochozí plocha'!F36 -> 0 | BC93: ='IO02b - Pochozí plocha'!F37 -> 0 | BD93: ='IO02b - Pochozí plocha'!F38 -> 0 | BT93: 3 | BV93: IMPORT | BW93: {8fbf43a3-3078-4713-914e-8dbdc361a908} | BX93: {4097c012-8e4c-452d-8538-17395f2ffb35}
A94: / | F94: IO03 | L94: Okapový chodníček | AG94: ='IO03 - Okapový chodníček_01'!J31 -> 0 | AN94: =SUM(AG94,AT94) -> 0 | AQ94: Soupis | AS94: 0 | AT94: =ROUND(SUM(AV94:AW94),2) -> 0 | AU94: ='IO03 - Okapový chodníček_01'!P96 -> 0 | AV94: ='IO03 - Okapový chodníček_01'!J34 -> 0 | AW94: ='IO03 - Okapový chodníček_01'!J35 -> 0 | AX94: ='IO03 - Okapový chodníček_01'!J36 -> 0 | AY94: ='IO03 - Okapový chodníček_01'!J37 -> 0 | AZ94: ='IO03 - Okapový chodníček_01'!F34 -> 0 | BA94: ='IO03 - Okapový chodníček_01'!F35 -> 0 | BB94: ='IO03 - Okapový chodníček_01'!F36 -> 0 | BC94: ='IO03 - Okapový chodníček_01'!F37 -> 0 | BD94: ='IO03 - Okapový chodníček_01'!F38 -> 0 | BT94: 3 | BV94: IMPORT | BW94: {bd2c7048-924a-4b5d-9dd2-a4e2237c35cd} | BX94: {4097c012-8e4c-452d-8538-17395f2ffb35}
A95: / | F95: IO04 | L95: Pojezdová plocha, stávající sjezdu, přeložení pochozí plochy a varovný signální pás | AG95: ='IO04 - Pojezdová plocha, ...'!J31 -> 0 | AN95: =SUM(AG95,AT95) -> 0 | AQ95: Soupis | AS95: 0 | AT95: =ROUND(SUM(AV95:AW95),2) -> 0 | AU95: ='IO04 - Pojezdová plocha, ...'!P96 -> 0 | AV95: ='IO04 - Pojezdová plocha, ...'!J34 -> 0 | AW95: ='IO04 - Pojezdová plocha, ...'!J35 -> 0 | AX95: ='IO04 - Pojezdová plocha, ...'!J36 -> 0 | AY95: ='IO04 - Pojezdová plocha, ...'!J37 -> 0 | AZ95: ='IO04 - Pojezdová plocha, ...'!F34 -> 0 | BA95: ='IO04 - Pojezdová plocha, ...'!F35 -> 0 | BB95: ='IO04 - Pojezdová plocha, ...'!F36 -> 0 | BC95: ='IO04 - Pojezdová plocha, ...'!F37 -> 0 | BD95: ='IO04 - Pojezdová plocha, ...'!F38 -> 0 | BT95: 3 | BV95: IMPORT | BW95: {8f6eb2c5-2873-4c0f-b30f-9533d7a083e4} | BX95: {4097c012-8e4c-452d-8538-17395f2ffb35}
A96: / | F96: IO05 | L96: Terasa | AG96: ='IO05 - Terasa'!J31 -> 0 | AN96: =SUM(AG96,AT96) -> 0 | AQ96: Soupis | AS96: 0 | AT96: =ROUND(SUM(AV96:AW96),2) -> 0 | AU96: ='IO05 - Terasa'!P94 -> 0 | AV96: ='IO05 - Terasa'!J34 -> 0 | AW96: ='IO05 - Terasa'!J35 -> 0 | AX96: ='IO05 - Terasa'!J36 -> 0 | AY96: ='IO05 - Terasa'!J37 -> 0 | AZ96: ='IO05 - Terasa'!F34 -> 0 | BA96: ='IO05 - Terasa'!F35 -> 0 | BB96: ='IO05 - Terasa'!F36 -> 0 | BC96: ='IO05 - Terasa'!F37 -> 0 | BD96: ='IO05 - Terasa'!F38 -> 0 | BT96: 3 | BV96: IMPORT | BW96: {88d1b381-5aa5-4d33-8d6f-ebd262f07f18} | BX96: {4097c012-8e4c-452d-8538-17395f2ffb35}
E97: D.2.2 | K97: Kanalizace a vodovod | AG97: =ROUND(AG98,2) -> 0 | AN97: =SUM(AG97,AT97) -> 0 | AQ97: Soupis | AS97: =ROUND(AS98,2) -> 0 | AT97: =ROUND(SUM(AV97:AW97),2) -> 0 | AU97: =ROUND(AU98,5) -> 0 | AV97: =ROUND(AZ97*L26,2) -> 0 | AW97: =ROUND(BA97*L27,2) -> 0 | AX97: =ROUND(BB97*L26,2) -> 0 | AY97: =ROUND(BC97*L27,2) -> 0 | AZ97: =ROUND(AZ98,2) -> 0 | BA97: =ROUND(BA98,2) -> 0 | BB97: =ROUND(BB98,2) -> 0 | BC97: =ROUND(BC98,2) -> 0 | BD97: =ROUND(BD98,2) -> 0 | BS97: D | BT97: 2 | BU97: ###NOIMPORT### | BV97: IMPORT | BW97: {a9e8bfb0-282c-462c-abea-2ccc6b69bcdd} | BX97: {8272b354-97dc-4db9-ace0-8c76d3d56a18}
A98: / | F98: TI03 | L98: Dešťová kanalizace | AG98: ='TI03 - Dešťová kanalizace_01'!J31 -> 0 | AN98: =SUM(AG98,AT98) -> 0 | AQ98: Soupis | AS98: 0 | AT98: =ROUND(SUM(AV98:AW98),2) -> 0 | AU98: ='TI03 - Dešťová kanalizace_01'!P96 -> 0 | AV98: ='TI03 - Dešťová kanalizace_01'!J34 -> 0 | AW98: ='TI03 - Dešťová kanalizace_01'!J35 -> 0 | AX98: ='TI03 - Dešťová kanalizace_01'!J36 -> 0 | AY98: ='TI03 - Dešťová kanalizace_01'!J37 -> 0 | AZ98: ='TI03 - Dešťová kanalizace_01'!F34 -> 0 | BA98: ='TI03 - Dešťová kanalizace_01'!F35 -> 0 | BB98: ='TI03 - Dešťová kanalizace_01'!F36 -> 0 | BC98: ='TI03 - Dešťová kanalizace_01'!F37 -> 0 | BD98: ='TI03 - Dešťová kanalizace_01'!F38 -> 0 | BT98: 3 | BV98: IMPORT | BW98: {ce168b33-1ea7-4bc6-b88c-ef47aa0a112c} | BX98: {a9e8bfb0-282c-462c-abea-2ccc6b69bcdd}
E99: SU | K99: Sadové úpravy | AG99: =ROUND(SUM(AG100:AG102),2) -> 0 | AN99: =SUM(AG99,AT99) -> 0 | AQ99: Soupis | AS99: =ROUND(SUM(AS100:AS102),2) -> 0 | AT99: =ROUND(SUM(AV99:AW99),2) -> 0 | AU99: =ROUND(SUM(AU100:AU102),5) -> 0 | AV99: =ROUND(AZ99*L26,2) -> 0 | AW99: =ROUND(BA99*L27,2) -> 0 | AX99: =ROUND(BB99*L26,2) -> 0 | AY99: =ROUND(BC99*L27,2) -> 0 | AZ99: =ROUND(SUM(AZ100:AZ102),2) -> 0 | BA99: =ROUND(SUM(BA100:BA102),2) -> 0 | BB99: =ROUND(SUM(BB100:BB102),2) -> 0 | BC99: =ROUND(SUM(BC100:BC102),2) -> 0 | BD99: =ROUND(SUM(BD100:BD102),2) -> 0 | BS99: D | BT99: 2 | BU99: ###NOIMPORT### | BV99: IMPORT | BW99: {4ddc2e14-43f0-4901-9550-19be955853b9} | BX99: {8272b354-97dc-4db9-ace0-8c76d3d56a18}
A100: / | F100: 01 | L100: Rozpočet rostlinný materiál | AG100: ='01 - Rozpočet rostlinný m...'!J31 -> 0 | AN100: =SUM(AG100,AT100) -> 0 | AQ100: Soupis | AS100: 0 | AT100: =ROUND(SUM(AV100:AW100),2) -> 0 | AU100: ='01 - Rozpočet rostlinný m...'!P98 -> 0 | AV100: ='01 - Rozpočet rostlinný m...'!J34 -> 0 | AW100: ='01 - Rozpočet rostlinný m...'!J35 -> 0 | AX100: ='01 - Rozpočet rostlinný m...'!J36 -> 0 | AY100: ='01 - Rozpočet rostlinný m...'!J37 -> 0 | AZ100: ='01 - Rozpočet rostlinný m...'!F34 -> 0 | BA100: ='01 - Rozpočet rostlinný m...'!F35 -> 0 | BB100: ='01 - Rozpočet rostlinný m...'!F36 -> 0 | BC100: ='01 - Rozpočet rostlinný m...'!F37 -> 0 | BD100: ='01 - Rozpočet rostlinný m...'!F38 -> 0 | BT100: 3 | BV100: IMPORT | BW100: {fdd39681-2bbd-48d9-afd1-623c846add53} | BX100: {4ddc2e14-43f0-4901-9550-19be955853b9}
A101: / | F101: 02 | L101: Rozpočet ostatní materiál | AG101: ='02 - Rozpočet ostatní mat...'!J31 -> 0 | AN101: =SUM(AG101,AT101) -> 0 | AQ101: Soupis | AS101: 0 | AT101: =ROUND(SUM(AV101:AW101),2) -> 0 | AU101: ='02 - Rozpočet ostatní mat...'!P97 -> 0 | AV101: ='02 - Rozpočet ostatní mat...'!J34 -> 0 | AW101: ='02 - Rozpočet ostatní mat...'!J35 -> 0 | AX101: ='02 - Rozpočet ostatní mat...'!J36 -> 0 | AY101: ='02 - Rozpočet ostatní mat...'!J37 -> 0 | AZ101: ='02 - Rozpočet ostatní mat...'!F34 -> 0 | BA101: ='02 - Rozpočet ostatní mat...'!F35 -> 0 | BB101: ='02 - Rozpočet ostatní mat...'!F36 -> 0 | BC101: ='02 - Rozpočet ostatní mat...'!F37 -> 0 | BD101: ='02 - Rozpočet ostatní mat...'!F38 -> 0 | BT101: 3 | BV101: IMPORT | BW101: {8c21691c-6754-481d-87a3-ada5ee858467} | BX101: {4ddc2e14-43f0-4901-9550-19be955853b9}
A102: / | F102: 03 | L102: Rozpočet zahradnické práce | AG102: ='03 - Rozpočet zahradnické...'!J31 -> 0 | AN102: =SUM(AG102,AT102) -> 0 | AQ102: Soupis | AS102: 0 | AT102: =ROUND(SUM(AV102:AW102),2) -> 0 | AU102: ='03 - Rozpočet zahradnické...'!P95 -> 0 | AV102: ='03 - Rozpočet zahradnické...'!J34 -> 0 | AW102: ='03 - Rozpočet zahradnické...'!J35 -> 0 | AX102: ='03 - Rozpočet zahradnické...'!J36 -> 0 | AY102: ='03 - Rozpočet zahradnické...'!J37 -> 0 | AZ102: ='03 - Rozpočet zahradnické...'!F34 -> 0 | BA102: ='03 - Rozpočet zahradnické...'!F35 -> 0 | BB102: ='03 - Rozpočet zahradnické...'!F36 -> 0 | BC102: ='03 - Rozpočet zahradnické...'!F37 -> 0 | BD102: ='03 - Rozpočet zahradnické...'!F38 -> 0 | BT102: 3 | BV102: IMPORT | BW102: {829d1b55-bee0-4f52-9645-419b5caa196a} | BX102: {4ddc2e14-43f0-4901-9550-19be955853b9}
A103: / | E103: VRN | K103: Vedlejší rozpočtové náklady | AG103: ='VRN - Vedlejší rozpočtové..._01'!J29 -> 0 | AN103: =SUM(AG103,AT103) -> 0 | AQ103: Soupis | AS103: 0 | AT103: =ROUND(SUM(AV103:AW103),2) -> 0 | AU103: ='VRN - Vedlejší rozpočtové..._01'!P87 -> 0 | AV103: ='VRN - Vedlejší rozpočtové..._01'!J32 -> 0 | AW103: ='VRN - Vedlejší rozpočtové..._01'!J33 -> 0 | AX103: ='VRN - Vedlejší rozpočtové..._01'!J34 -> 0 | AY103: ='VRN - Vedlejší rozpočtové..._01'!J35 -> 0 | AZ103: ='VRN - Vedlejší rozpočtové..._01'!F32 -> 0 | BA103: ='VRN - Vedlejší rozpočtové..._01'!F33 -> 0 | BB103: ='VRN - Vedlejší rozpočtové..._01'!F34 -> 0 | BC103: ='VRN - Vedlejší rozpočtové..._01'!F35 -> 0 | BD103: ='VRN - Vedlejší rozpočtové..._01'!F36 -> 0 | BT103: 2 | BV103: IMPORT | BW103: {bd52ed9a-e06b-4328-b826-e3734738eb1c} | BX103: {8272b354-97dc-4db9-ace0-8c76d3d56a18}

Sheet D.1.1.01 - Architektonick...
D1: List obsahuje: | F1: 1) Krycí list soupisu | G1: 2) Rekapitulace | J1: 3) Soupis prací | K1: Zpět na list: | L1: Rekapitulace stavby
AT2: {9478e2fb-8ced-4be8-a291-61043722fda2} | AZ2: ZP_jáma | BC2: 112,04 | BD2: 2
AT3: 2 | AZ3: ZP_rýha | BC3: 35,513 | BD3: 2
D4: KRYCÍ LIST SOUPISU | M4: v --- níže se nacházejí doplnkové a pomocné údaje k sestavám --- v | AT4: False | AZ4: ZP_šachta | BC4: 6,508 | BD4: 2
AZ5: Dlažba_sokl | BC5: 47,66 | BD5: 2
D6: Stavba: | AZ6: Vinyl | BC6: 208,231 | BD6: 2
E7: ='Rekapitulace stavby'!K6 -> Transformace ÚSP pro mládež Kvasiny – výstavba v lokalitě Kostelec nad Orlicí 2 | AZ7: Sdk_podhled_A | BC7: 53,79 | BD7: 2
D8: Objekt: | AZ8: SDK_podhled_H2 | BC8: 43,01 | BD8: 2
E9: A - Hlavní aktivity projektu | AZ9: Skladba_P1 | BC9: 41,036 | BD9: 2
D10: Soupis: | AZ10: Skladba_P2 | BC10: 26,139 | BD10: 2
E11: SO01 - Rodinný dům | AZ11: Skladba_P3 | BC11: 208,231 | BD11: 2
D12: Úroveň 3: | AZ12: Povlak_střecha | BC12: 179,745 | BD12: 2
E13: D.1.1.01 - Architektonicko stavební řešení | AZ13: Povlak_střecha2 | BC13: 7,69 | BD13: 2
AZ14: Pult_střecha | BC14: 142,798 | BD14: 2
D15: KSO: | I15: CC-CZ: | AZ15: Malby_2 | BC15: 174,224 | BD15: 2
D16: Místo: | I16: Datum: | J16: ='Rekapitulace stavby'!AN8 -> 11. 5. 2017 | AZ16: Malby | BC16: 695,533 | BD16: 2
AZ17: Nátěr_tes | BC17: 133,522 | BD17: 2
D18: Zadavatel: | I18: IČ: | J18: =IF('Rekapitulace stavby'!AN10="","",'Rekapitulace stavby'!AN10) | AZ18: Lešení | BC18: 394,346 | BD18: 2
E19: =IF('Rekapitulace stavby'!E11="","",'Rekapitulace stavby'!E11) | I19: DIČ: | J19: =IF('Rekapitulace stavby'!AN11="","",'Rekapitulace stavby'!AN11) | AZ19: Omítka_spiroll | BC19: 101,88 | BD19: 2
AZ20: Zásyp | BC20: 31,2 | BD20: 2
D21: Uchazeč: | I21: IČ: | J21: =IF('Rekapitulace stavby'!AN13="Vyplň údaj","",IF('Rekapitulace stavby'!AN13="","",'Rekapitulace stavby'!AN13)) | AZ21: ZP_ornice_rozp | BC21: 95 | BD21: 2
E22: =IF('Rekapitulace stavby'!E14="Vyplň údaj","",IF('Rekapitulace stavby'!E14="","",'Rekapitulace stavby'!E14)) | I22: DIČ: | J22: =IF('Rekapitulace stavby'!AN14="Vyplň údaj","",IF('Rekapitulace stavby'!AN14="","",'Rekapitulace stavby'!AN14)) | AZ22: ZP_ornice | BC22: 64,2 | BD22: 2
AZ23: Odvoz | BC23: 137,298 | BD23: 2
D24: Projektant: | I24: IČ: | J24: =IF('Rekapitulace stavby'!AN16="","",'Rekapitulace stavby'!AN16) | AZ24: ZP_zásyp | BC24: 45,45 | BD24: 2
E25: =IF('Rekapitulace stavby'!E17="","",'Rekapitulace stavby'!E17) | I25: DIČ: | J25: =IF('Rekapitulace stavby'!AN17="","",'Rekapitulace stavby'!AN17) | AZ25: Obklad | BC25: 93,516 | BD25: 2
AZ26: Omítka_vni_stena | BC26: 671,077 | BD26: 2
D27: Poznámka: | AZ27: Profil_1 | BC27: 111,05 | BD27: 2
AZ28: Profil_2 | BC28: 34,65 | BD28: 2
AZ29: Profil_3 | BC29: 11 | BD29: 2
AZ30: Profil_4 | BC30: 5 | BD30: 2
D31: Cena bez DPH | J31: =ROUND(J113,2) -> 0 | AZ31: Silikon_stěna | BC31: 334,464 | BD31: 2
AZ32: Silikon_sloup | BC32: 3 | BD32: 2
F33: Základ daně | I33: Sazba daně | J33: Výše daně | AZ33: Silikon_podhled | BC33: 10,4 | BD33: 2
D34: DPH | E34: základní | F34: =ROUND(SUM(BE113:BE1676), 2) -> 0 | I34: 0.21 | J34: =ROUND(ROUND((SUM(BE113:BE1676)), 2)*I34, 2) -> 0 | AZ34: Bed_1 | BC34: 143,662 | BD34: 2
E35: snížená | F35: =ROUND(SUM(BF113:BF1676), 2) -> 0 | I35: 0.15 | J35: =ROUND(ROUND((SUM(BF113:BF1676)), 2)*I35, 2) -> 0 | AZ35: Ztrac_bed | BC35: 123,492 | BD35: 2
E36: zákl. přenesená | F36: =ROUND(SUM(BG113:BG1676), 2) -> 0 | I36: 0.21 | J36: 0 | AZ36: Bed_2 | BC36: 9,56 | BD36: 2
E37: sníž. přenesená | F37: =ROUND(SUM(BH113:BH1676), 2) -> 0 | I37: 0.15 | J37: 0 | AZ37: Bed_3 | BC37: 14,433 | BD37: 2
E38: nulová | F38: =ROUND(SUM(BI113:BI1676), 2) -> 0 | I38: 0 | J38: 0 | AZ38: Bed_4 | BC38: 156,35 | BD38: 2
AZ39: Bed_5 | BC39: 13,63 | BD39: 2
D40: Cena s DPH | G40: v | H40: CZK | J40: =SUM(J31:J38) -> 0 | AZ40: Podp_kce | BC40: 1,29 | BD40: 2
AZ41: Sokl | BC41: 34,726 | BD41: 2
AZ42: Izol_sv | BC42: 38,198 | BD42: 2
AZ43: Izol_vod | BC43: 329,95 | BD43: 2
AZ44: Dlažba | BC44: 67,175 | BD44: 2
C46: REKAPITULACE ČLENĚNÍ SOUPISU PRACÍ
C48: Stavba:
E49: =E7 -> Transformace ÚSP pro mládež Kvasiny – výstavba v lokalitě Kostelec nad Orlicí 2
C50: Objekt:
E51: A - Hlavní aktivity projektu
C52: Soupis:
E53: SO01 - Rodinný dům
C54: Úroveň 3:
E55: =E13 -> D.1.1.01 - Architektonicko stavební řešení
C57: Místo: | F57: =F16 | I57: Datum: | J57: =IF(J16="","",J16) -> 11. 5. 2017
C59: Zadavatel: | F59: =E19 | I59: Projektant: | J59: =E25
C60: Uchazeč: | F60: =IF(E22="","",E22)
C62: Kód dílu - Popis | J62: Cena celkem [CZK]
C64: Náklady soupisu celkem | J64: =J113 -> 0 | AU64: -1
D65: HSV - Práce a dodávky HSV | J65: =J114 -> 0
D66: 1 - Zemní práce | J66: =J115 -> 0
D67: 2 - Zakládání | J67: =J183 -> 0
D68: 3 - Svislé a kompletní konstrukce | J68: =J270 -> 0
D69: 4 - Vodorovné konstrukce | J69: =J366 -> 0
D70: 6 - Úpravy povrchů, podlahy a osazování výplní | J70: =J438 -> 0
D71: 9 - Ostatní konstrukce a práce, bourání | J71: =J671 -> 0
D72: 998 - Přesun hmot | J72: =J704 -> 0
D73: PSV - Práce a dodávky PSV | J73: =J707 -> 0
D74: 711 - Izolace proti vodě, vlhkosti a plynům | J74: =J708 -> 0
D75: 712 - Povlakové krytiny | J75: =J758 -> 0
D76: 713 - Izolace tepelné | J76: =J831 -> 0
D77: 762 - Konstrukce tesařské | J77: =J895 -> 0
D78: 763 - Konstrukce suché výstavby | J78: =J1040 -> 0
D79: 764 - Konstrukce klempířské | J79: =J1069 -> 0
D80: 765 - Krytina skládaná | J80: =J1163 -> 0
D81: 766 - Konstrukce truhlářské | J81: =J1193 -> 0
D82: 76601 - Vybavení kuchyňských linek | J82: =J1298 -> 0
D83: 76602 - Vybavení a nábytek | J83: =J1339 -> 0
D84: 767 - Konstrukce zámečnické | J84: =J1409 -> 0
D85: 771 - Podlahy z dlaždic | J85: =J1462 -> 0
D86: 776 - Podlahy povlakové | J86: =J1507 -> 0
D87: 781 - Dokončovací práce - obklady | J87: =J1564 -> 0
D88: 783 - Dokončovací práce - nátěry | J88: =J1621 -> 0
D89: 784 - Dokončovací práce - malby a tapety | J89: =J1647 -> 0
C96: SOUPIS PRACÍ
C98: Stavba:
E99: =E7 -> Transformace ÚSP pro mládež Kvasiny – výstavba v lokalitě Kostelec nad Orlicí 2
C100: Objekt:
E101: A - Hlavní aktivity projektu
C102: Soupis:
E103: SO01 - Rodinný dům
C104: Úroveň 3:
E105: =E13 -> D.1.1.01 - Architektonicko stavební řešení
C107: Místo: | F107: =F16 | I107: Datum: | J107: =IF(J16="","",J16) -> 11. 5. 2017
C109: Zadavatel: | F109: =E19 | I109: Projektant: | J109: =E25
C110: Uchazeč: | F110: =IF(E22="","",E22)
C112: PČ | D112: Typ | E112: Kód | F112: Popis | G112: MJ | H112: Množství | I112: J.cena [CZK] | J112: Cena celkem [CZK] | K112: Cenová soustava | M112: Poznámka | N112: DPH | O112: J. Nh [h] | P112: Nh celkem [h] | Q112: J. hmotnost_x000D_ [t] | R112: Hmotnost_x000D_ celkem [t] | S112: J. suť [t] | T112: Suť Celkem [t]
C113: Náklady soupisu celkem | J113: =BK113 -> 0 | P113: =P114+P707 -> 0 | R113: =R114+R707 -> 754.66524 | T113: =T114+T707 -> 0 | AT113: D | AU113: -1 | BK113: =BK114+BK707 -> 0
D114: D | E114: HSV | F114: Práce a dodávky HSV | J114: =BK114 -> 0 | P114: =P115+P183+P270+P366+P438+P671+P704 -> 0 | R114: =R115+R183+R270+R366+R438+R671+R704 -> 729.36872 | T114: =T115+T183+T270+T366+T438+T671+T704 -> 0 | AR114: 1 | AT114: D | AU114: 0 | AY114: ROZPOCET | BK114: =BK115+BK183+BK270+BK366+BK438+BK671+BK704 -> 0
D115: D | E115: 1 | F115: Zemní práce | J115: =BK115 -> 0 | P115: =SUM(P116:P182) -> 0 | R115: =SUM(R116:R182) -> 0 | T115: =SUM(T116:T182) -> 0 | AR115: 1 | AT115: D | AU115: 1 | AY115: ROZPOCET | BK115: =SUM(BK116:BK182) -> 0
C116: 1 | D116: K | E116: 121101101 | F116: Sejmutí ornice s přemístěním na vzdálenost do 50 m | G116: m3 | H116: 64.2 | J116: =ROUND(I116*H116,2) -> 0 | K116: CS ÚRS 2017 01 | N116: základní | P116: =O116*H116 -> 0 | Q116: 0 | R116: =Q116*H116 -> 0 | S116: 0 | T116: =S116*H116 -> 0 | AR116: 4 | AT116: K | AU116: 2 | AY116: ROZPOCET | BE116: =IF(N116="základní",J116,0) -> 0 | BF116: =IF(N116="snížená",J116,0) -> 0 | BG116: =IF(N116="zákl. přenesená",J116,0) -> 0 | BH116: =IF(N116="sníž. přenesená",J116,0) -> 0 | BI116: =IF(N116="nulová",J116,0) -> 0 | BJ116: 1 | BK116: =ROUND(I116*H116,2) -> 0 | BL116: 4 | BM116: 1401054512
...

Sheet D.1.1.04 - Zařízení pro v...
D1: List obsahuje: | F1: 1) Krycí list soupisu | G1: 2) Rekapitulace | J1: 3) Soupis prací | K1: Zpět na list: | L1: Rekapitulace stavby
AT2: {28f7fecf-ba58-41d9-a84a-364622fac12e}
AT3: 2
D4: KRYCÍ LIST SOUPISU | M4: v --- níže se nacházejí doplnkové a pomocné údaje k sestavám --- v | AT4: False
D6: Stavba:
E7: ='Rekapitulace stavby'!K6 -> Transformace ÚSP pro mládež Kvasiny – výstavba v lokalitě Kostelec nad Orlicí 2
D8: Objekt:
E9: A - Hlavní aktivity projektu
D10: Soupis:
E11: SO01 - Rodinný dům
D12: Úroveň 3:
E13: D.1.1.04 - Zařízení pro vytápění staveb, VZT
D15: KSO: | I15: CC-CZ:
D16: Místo: | I16: Datum: | J16: ='Rekapitulace stavby'!AN8 -> 11. 5. 2017
D18: Zadavatel: | I18: IČ: | J18: =IF('Rekapitulace stavby'!AN10="","",'Rekapitulace stavby'!AN10)
E19: =IF('Rekapitulace stavby'!E11="","",'Rekapitulace stavby'!E11) | I19: DIČ: | J19: =IF('Rekapitulace stavby'!AN11="","",'Rekapitulace stavby'!AN11)
D21: Uchazeč: | I21: IČ: | J21: =IF('Rekapitulace stavby'!AN13="Vyplň údaj","",IF('Rekapitulace stavby'!AN13="","",'Rekapitulace stavby'!AN13))
E22: =IF('Rekapitulace stavby'!E14="Vyplň údaj","",IF('Rekapitulace stavby'!E14="","",'Rekapitulace stavby'!E14)) | I22: DIČ: | J22: =IF('Rekapitulace stavby'!AN14="Vyplň údaj","",IF('Rekapitulace stavby'!AN14="","",'Rekapitulace stavby'!AN14))
D24: Projektant: | I24: IČ: | J24: =IF('Rekapitulace stavby'!AN16="","",'Rekapitulace stavby'!AN16)
E25: =IF('Rekapitulace stavby'!E17="","",'Rekapitulace stavby'!E17) | I25: DIČ: | J25: =IF('Rekapitulace stavby'!AN17="","",'Rekapitulace stavby'!AN17)
D27: Poznámka:
D31: Cena bez DPH | J31: =ROUND(J96,2) -> 0
F33: Základ daně | I33: Sazba daně | J33: Výše daně
D34: DPH | E34: základní | F34: =ROUND(SUM(BE96:BE314), 2) -> 0 | I34: 0.21 | J34: =ROUND(ROUND((SUM(BE96:BE314)), 2)*I34, 2) -> 0
E35: snížená | F35: =ROUND(SUM(BF96:BF314), 2) -> 0 | I35: 0.15 | J35: =ROUND(ROUND((SUM(BF96:BF314)), 2)*I35, 2) -> 0
E36: zákl. přenesená | F36: =ROUND(SUM(BG96:BG314), 2) -> 0 | I36: 0.21 | J36: 0
E37: sníž. přenesená | F37: =ROUND(SUM(BH96:BH314), 2) -> 0 | I37: 0.15 | J37: 0
E38: nulová | F38: =ROUND(SUM(BI96:BI314), 2) -> 0 | I38: 0 | J38: 0
D40: Cena s DPH | G40: v | H40: CZK | J40: =SUM(J31:J38) -> 0
C46: REKAPITULACE ČLENĚNÍ SOUPISU PRACÍ
C48: Stavba:
E49: =E7 -> Transformace ÚSP pro mládež Kvasiny – výstavba v lokalitě Kostelec nad Orlicí 2
C50: Objekt:
E51: A - Hlavní aktivity projektu
C52: Soupis:
E53: SO01 - Rodinný dům
C54: Úroveň 3:
E55: =E13 -> D.1.1.04 - Zařízení pro vytápění staveb, VZT
C57: Místo: | F57: =F16 | I57: Datum: | J57: =IF(J16="","",J16) -> 11. 5. 2017
C59: Zadavatel: | F59: =E19 | I59: Projektant: | J59: =E25
C60: Uchazeč: | F60: =IF(E22="","",E22)
C62: Kód dílu - Popis | J62: Cena celkem [CZK]
C64: Náklady soupisu celkem | J64: =J96 -> 0 | AU64: -1
D65: PSV - Práce a dodávky PSV | J65: =J97 -> 0
D66: 002 - Vzduchotechnika - Ostatní příslušenství | J66: =J98 -> 0
D67: 713 - Izolace tepelné | J67: =J135 -> 0
D68: 731 - Ústřední vytápění - kotelny | J68: =J160 -> 0
D69: 732 - Ústřední vytápění - strojovny | J69: =J192 -> 0
D70: 733 - Ústřední vytápění - rozvodné potrubí | J70: =J199 -> 0
D71: 734 - Ústřední topení, armatury | J71: =J222 -> 0
D72: 735 - Ústřední vytápění - otopná tělesa | J72: =J261 -> 0
C79: SOUPIS PRACÍ
C81: Stavba:
E82: =E7 -> Transformace ÚSP pro mládež Kvasiny – výstavba v lokalitě Kostelec nad Orlicí 2
C83: Objekt:
E84: A - Hlavní aktivity projektu
C85: Soupis:
E86: SO01 - Rodinný dům
C87: Úroveň 3:
E88: =E13 -> D.1.1.04 - Zařízení pro vytápění staveb, VZT
C90: Místo: | F90: =F16 | I90: Datum: | J90: =IF(J16="","",J16) -> 11. 5. 2017
C92: Zadavatel: | F92: =E19 | I92: Projektant: | J92: =E25
C93: Uchazeč: | F93: =IF(E22="","",E22)
C95: PČ | D95: Typ | E95: Kód | F95: Popis | G95: MJ | H95: Množství | I95: J.cena [CZK] | J95: Cena celkem [CZK] | K95: Cenová soustava | M95: Poznámka | N95: DPH | O95: J. Nh [h] | P95: Nh celkem [h] | Q95: J. hmotnost_x000D_ [t] | R95: Hmotnost_x000D_ celkem [t] | S95: J. suť [t] | T95: Suť Celkem [t]
C96: Náklady soupisu celkem | J96: =BK96 -> 0 | P96: =P97 -> 0 | R96: =R97 -> 0 | T96: =T97 -> 0 | AT96: D | AU96: -1 | BK96: =BK97 -> 0
D97: D | E97: PSV | F97: Práce a dodávky PSV | J97: =BK97 -> 0 | P97: =P98+P135+P160+P192+P199+P222+P261 -> 0 | R97: =R98+R135+R160+R192+R199+R222+R261 -> 0 | T97: =T98+T135+T160+T192+T199+T222+T261 -> 0 | AR97: 2 | AT97: D | AU97: 0 | AY97: ROZPOCET | BK97: =BK98+BK135+BK160+BK192+BK199+BK222+BK261 -> 0
D98: D | E98: 002 | F98: Vzduchotechnika - Ostatní příslušenství | J98: =BK98 -> 0 | P98: =SUM(P99:P134) -> 0 | R98: =SUM(R99:R134) -> 0 | T98: =SUM(T99:T134) -> 0 | AR98: 1 | AT98: D | AU98: 1 | AY98: ROZPOCET | BK98: =SUM(BK99:BK134) -> 0
C99: 1 | D99: M | E99: V001 | F99: Nástěnný ventilátor se zpětnou klapkou s montáží na stěnu a s doběhem ( ?p= 15 Pa, V=50 m3/h, 13W, 230V) | G99: kus | H99: 3 | J99: =ROUND(I99*H99,2) -> 0 | N99: základní | P99: =O99*H99 -> 0 | Q99: 0 | R99: =Q99*H99 -> 0 | S99: 0 | T99: =S99*H99 -> 0 | AR99: 8 | AT99: M | AU99: 2 | AY99: ROZPOCET | BE99: =IF(N99="základní",J99,0) -> 0 | BF99: =IF(N99="snížená",J99,0) -> 0 | BG99: =IF(N99="zákl. přenesená",J99,0) -> 0 | BH99: =IF(N99="sníž. přenesená",J99,0) -> 0 | BI99: =IF(N99="nulová",J99,0) -> 0 | BJ99: 1 | BK99: =ROUND(I99*H99,2) -> 0 | BL99: 4 | BM99: 2
D100: PP | F100: Nástěnný ventilátor se zpětnou klapkou s montáží na stěnu a s doběhem ( ?p= 15 Pa, V=50 m3/h, 13W, 230V) | AT100: PP | AU100: 2
C101: 2 | D101: M | E101: V002 | F101: Nástěnný ventilátor se zpětnou klapkou s montáží na stěnu a s doběhem ( ?p= 20 Pa, V=150 m3/h, 20W, 230V) | G101: kus | H101: 2 | J101: =ROUND(I101*H101,2) -> 0 | N101: základní | P101: =O101*H101 -> 0 | Q101: 0 | R101: =Q101*H101 -> 0 | S101: 0 | T101: =S101*H101 -> 0 | AR101: 8 | AT101: M | AU101: 2 | AY101: ROZPOCET | BE101: =IF(N101="základní",J101,0) -> 0 | BF101: =IF(N101="snížená",J101,0) -> 0 | BG101: =IF(N101="zákl. přenesená",J101,0) -> 0 | BH101: =IF(N101="sníž. přenesená",J101,0) -> 0 | BI101: =IF(N101="nulová",J101,0) -> 0 | BJ101: 1 | BK101: =ROUND(I101*H101,2) -> 0 | BL101: 4 | BM101: 4
D102: PP | F102: Nástěnný ventilátor se zpětnou klapkou s montáží na stěnu a s doběhem ( ?p= 20 Pa, V=150 m3/h, 20W, 230V) | AT102: PP | AU102: 2
C103: 3 | D103: M | E103: V003 | F103: Protidešťová žaluzie pr. 100 mm | G103: sada | H103: 3 | J103: =ROUND(I103*H103,2) -> 0 | N103: základní | P103: =O103*H103 -> 0 | Q103: 0 | R103: =Q103*H103 -> 0 | S103: 0 | T103: =S103*H103 -> 0 | AR103: 8 | AT103: M | AU103: 2 | AY103: ROZPOCET | BE103: =IF(N103="základní",J103,0) -> 0 | BF103: =IF(N103="snížená",J103,0) -> 0 | BG103: =IF(N103="zákl. přenesená",J103,0) -> 0 | BH103: =IF(N103="sníž. přenesená",J103,0) -> 0 | BI103: =IF(N103="nulová",J103,0) -> 0 | BJ103: 1 | BK103: =ROUND(I103*H103,2) -> 0 | BL103: 4 | BM103: 6
D104: PP | F104: Protidešťová žaluzie pr. 100 mm | AT104: PP | AU104: 2
C105: 4 | D105: M | E105: V004 | F105: Protidešťová žaluzie pr. 125 mm | G105: kus | H105: 2 | J105: =ROUND(I105*H105,2) -> 0 | N105: základní | P105: =O105*H105 -> 0 | Q105: 0 | R105: =Q105*H105 -> 0 | S105: 0 | T105: =S105*H105 -> 0 | AR105: 8 | AT105: M | AU105: 2 | AY105: ROZPOCET | BE105: =IF(N105="základní",J105,0) -> 0 | BF105: =IF(N105="snížená",J105,0) -> 0 | BG105: =IF(N105="zákl. přenesená",J105,0) -> 0 | BH105: =IF(N105="sníž. přenesená",J105,0) -> 0 | BI105: =IF(N105="nulová",J105,0) -> 0 | BJ105: 1 | BK105: =ROUND(I105*H105,2) -> 0 | BL105: 4 | BM105: 8
D106: PP | F106: Protidešťová žaluzie pr. 125 mm | AT106: PP | AU106: 2
C107: 5 | D107: M | E107: V005 | F107: Potrubí kruhové pozinkované průměr 100 mm vč. typové potrubní tvarovky - ohybu 90° | G107: m | H107: 2 | J107: =ROUND(I107*H107,2) -> 0 | N107: základní | P107: =O107*H107 -> 0 | Q107: 0 | R107: =Q107*H107 -> 0 | S107: 0 | T107: =S107*H107 -> 0 | AR107: 8 | AT107: M | AU107: 2 | AY107: ROZPOCET | BE107: =IF(N107="základní",J107,0) -> 0 | BF107: =IF(N107="snížená",J107,0) -> 0 | BG107: =IF(N107="zákl. přenesená",J107,0) -> 0 | BH107: =IF(N107="sníž. přenesená",J107,0) -> 0 | BI107: =IF(N107="nulová",J107,0) -> 0 | BJ107: 1 | BK107: =ROUND(I107*H107,2) -> 0 | BL107: 4 | BM107: 10
D108: PP | F108: Potrubí kruhové pozinkované průměr 100 mm vč. typové potrubní tvarovky - ohybu 90° | AT108: PP | AU108: 2
C109: 6 | D109: M | E109: V006 | F109: Potrubí kruhové pozinkované průměr 125 mm | G109: kus | H109: 1 | J109: =ROUND(I109*H109,2) -> 0 | N109: základní | P109: =O109*H109 -> 0 | Q109: 0 | R109: =Q109*H109 -> 0 | S109: 0 | T109: =S109*H109 -> 0 | AR109: 8 | AT109: M | AU109: 2 | AY109: ROZPOCET | BE109: =IF(N109="základní",J109,0) -> 0 | BF109: =IF(N109="snížená",J109,0) -> 0 | BG109: =IF(N109="zákl. přenesená",J109,0) -> 0 | BH109: =IF(N109="sníž. přenesená",J109,0) -> 0 | BI109: =IF(N109="nulová",J109,0) -> 0 | BJ109: 1 | BK109: =ROUND(I109*H109,2) -> 0 | BL109: 4 | BM109: 12
D110: PP | F110: Potrubí kruhové pozinkované průměr 125 mm | AT110: PP | AU110: 2
C111: 7 | D111: M | E111: V007 | F111: Izolace tepelná z minerální vaty o tl. 40 mm s AL polepem | G111: m2 | H111: 2 | J111: =ROUND(I111*H111,2) -> 0 | N111: základní | P111: =O111*H111 -> 0 | Q111: 0 | R111: =Q111*H111 -> 0 | S111: 0 | T111: =S111*H111 -> 0 | AR111: 8 | AT111: M | AU111: 2 | AY111: ROZPOCET | BE111: =IF(N111="základní",J111,0) -> 0 | BF111: =IF(N111="snížená",J111,0) -> 0 | BG111: =IF(N111="zákl. přenesená",J111,0) -> 0 | BH111: =IF(N111="sníž. přenesená",J111,0) -> 0 | BI111: =IF(N111="nulová",J111,0) -> 0 | BJ111: 1 | BK111: =ROUND(I111*H111,2) -> 0 | BL111: 4 | BM111: 14
D112: PP | F112: Izolace tepelná z minerální vaty o tl. 40 mm s AL polepem | AT112: PP | AU112: 2
C113: 8 | D113: M | E113: V008 | F113: Zpětná klapka pr. 160 mm | G113: kus | H113: 2 | J113: =ROUND(I113*H113,2) -> 0 | N113: základní | P113: =O113*H113 -> 0 | Q113: 0 | R113: =Q113*H113 -> 0 | S113: 0 | T113: =S113*H113 -> 0 | AR113: 8 | AT113: M | AU113: 2 | AY113: ROZPOCET | BE113: =IF(N113="základní",J113,0) -> 0 | BF113: =IF(N113="snížená",J113,0) -> 0 | BG113: =IF(N113="zákl. přenesená",J113,0) -> 0 | BH113: =IF(N113="sníž. přenesená",J113,0) -> 0 | BI113: =IF(N113="nulová",J113,0) -> 0 | BJ113: 1 | BK113: =ROUND(I113*H113,2) -> 0 | BL113: 4 | BM113: 16
D114: PP | F114: Zpětná klapka pr. 160 mm | AT114: PP | AU114: 2
C115: 9 | D115: M | E115: V009 | F115: Protidešťová stříška průměr 160mm | G115: kus | H115: 2 | J115: =ROUND(I115*H115,2) -> 0 | N115: základní | P115: =O115*H115 -> 0 | Q115: 0 | R115: =Q115*H115 -> 0 | S115: 0 | T115: =S115*H115 -> 0 | AR115: 8 | AT115: M | AU115: 2 | AY115: ROZPOCET | BE115: =IF(N115="základní",J115,0) -> 0 | BF115: =IF(N115="snížená",J115,0) -> 0 | BG115: =IF(N115="zákl. přenesená",J115,0) -> 0 | BH115: =IF(N115="sníž. přenesená",J115,0) -> 0 | BI115: =IF(N115="nulová",J115,0) -> 0 | BJ115: 1 | BK115: =ROUND(I115*H115,2) -> 0 | BL115: 4 | BM115: 18
D116: PP | F116: Protidešťová stříška průměr 160mm | AT116: PP | AU116: 2
C117: 10 | D117: M | E117: V010 | F117: Zaslepení připojovacího potrubí průměr 160 mm vč. montáže | G117: kus | H117: 2 | J117: =ROUND(I117*H117,2) -> 0 | N117: základní | P117: =O117*H117 -> 0 | Q117: 0 | R117: =Q117*H117 -> 0 | S117: 0 | T117: =S117*H117 -> 0 | AR117: 8 | AT117: M | AU117: 2 | AY117: ROZPOCET | BE117: =IF(N117="základní",J117,0) -> 0 | BF117: =IF(N117="snížená",J117,0) -> 0 | BG117: =IF(N117="zákl. přenesená",J117,0) -> 0 | BH117: =IF(N117="sníž. přenesená",J117,0) -> 0 | BI117: =IF(N117="nulová",J117,0) -> 0 | BJ117: 1 | BK117: =ROUND(I117*H117,2) -> 0 | BL117: 4 | BM117: 20
D118: PP | F118: Zaslepení připojovacího potrubí průměr 160 mm vč. montáže | AT118: PP | AU118: 2
C119: 11 | D119: M | E119: V011 | F119: Potrubí kruhové pozinkované průměr 160 mm | G119: m | H119: 7 | J119: =ROUND(I119*H119,2) -> 0 | N119: základní | P119: =O119*H119 -> 0 | Q119: 0 | R119: =Q119*H119 -> 0 | S119: 0 | T119: =S119*H119 -> 0 | AR119: 8 | AT119: M | AU119: 2 | AY119: ROZPOCET | BE119: =IF(N119="základní",J119,0) -> 0 | BF119: =IF(N119="snížená",J119,0) -> 0 | BG119: =IF(N119="zákl. přenesená",J119,0) -> 0 | BH119: =IF(N119="sníž. přenesená",J119,0) -> 0 | BI119: =IF(N119="nulová",J119,0) -> 0 | BJ119: 1 | BK119: =ROUND(I119*H119,2) -> 0 | BL119: 4 | BM119: 22
D120: PP | F120: Potrubí kruhové pozinkované průměr 160 mm | AT120: PP | AU120: 2
C121: 12 | D121: M | E121: V012 | F121: Izolace tepelná z minerální vaty o tl. 60 mm s AL polepem | G121: m2 | H121: 5 | J121: =ROUND(I121*H121,2) -> 0 | N121: základní | P121: =O121*H121 -> 0 | Q121: 0 | R121: =Q121*H121 -> 0 | S121: 0 | T121: =S121*H121 -> 0 | AR121: 8 | AT121: M | AU121: 2 | AY121: ROZPOCET | BE121: =IF(N121="základní",J121,0) -> 0 | BF121: =IF(N121="snížená",J121,0) -> 0 | BG121: =IF(N121="zákl. přenesená",J121,0) -> 0 | BH121: =IF(N121="sníž. přenesená",J121,0) -> 0 | BI121: =IF(N121="nulová",J121,0) -> 0 | BJ121: 1 | BK121: =ROUND(I121*H121,2) -> 0 | BL121: 4 | BM121: 24
D122: PP | F122: Izolace tepelná z minerální vaty o tl. 60 mm s AL polepem | AT122: PP | AU122: 2
C123: 13 | D123: M | E123: V013 | F123: Izolace tepelná z minerální vaty o tl. 60 mm ve venkovním provedení (tj. do plechu) | G123: m2 | H123: 1.5 | J123: =ROUND(I123*H123,2) -> 0 | N123: základní | P123: =O123*H123 -> 0 | Q123: 0 | R123: =Q123*H123 -> 0 | S123: 0 | T123: =S123*H123 -> 0 | AR123: 8 | AT123: M | AU123: 2 | AY123: ROZPOCET | BE123: =IF(N123="základní",J123,0) -> 0 | BF123: =IF(N123="snížená",J123,0) -> 0 | BG123: =IF(N123="zákl. přenesená",J123,0) -> 0 | BH123: =IF(N123="sníž. přenesená",J123,0) -> 0 | BI123: =IF(N123="nulová",J123,0) -> 0 | BJ123: 1 | BK123: =ROUND(I123*H123,2) -> 0 | BL123: 4 | BM123: 26
D124: PP | F124: Izolace tepelná z minerální vaty o tl. 60 mm ve venkovním provedení (tj. do plechu) | AT124: PP | AU124: 2
C125: 14 | D125: M | E125: V014 | F125: Přesun hmot vnitrostaveništní | G125: sada | H125: 1 | J125: =ROUND(I125*H125,2) -> 0 | N125: základní | P125: =O125*H125 -> 0 | Q125: 0 | R125: =Q125*H125 -> 0 | S125: 0 | T125: =S125*H125 -> 0 | AR125: 8 | AT125: M | AU125: 2 | AY125: ROZPOCET | BE125: =IF(N125="základní",J125,0) -> 0 | BF125: =IF(N125="snížená",J125,0) -> 0 | BG125: =IF(N125="zákl. přenesená",J125,0) -> 0 | BH125: =IF(N125="sníž. přenesená",J125,0) -> 0 | BI125: =IF(N125="nulová",J125,0) -> 0 | BJ125: 1 | BK125: =ROUND(I125*H125,2) -> 0 | BL125: 4 | BM125: 28
D126: PP | F126: Přesun hmot vnitrostaveništní | AT126: PP | AU126: 2
C127: 15 | D127: M | E127: V015 | F127: Příplatek k přesunu hmot za zvětšený přesun do 500 m | G127: sada | H127: 1 | J127: =ROUND(I127*H127,2) -> 0 | N127: základní | P127: =O127*H127 -> 0 | Q127: 0 | R127: =Q127*H127 -> 0 | S127: 0 | T127: =S127*H127 -> 0 | AR127: 8 | AT127: M | AU127: 2 | AY127: ROZPOCET | BE127: =IF(N127="základní",J127,0) -> 0 | BF127: =IF(N127="snížená",J127,0) -> 0 | BG127: =IF(N127="zákl. přenesená",J127,0) -> 0 | BH127: =IF(N127="sníž. přenesená",J127,0) -> 0 | BI127: =IF(N127="nulová",J127,0) -> 0 | BJ127: 1 | BK127: =ROUND(I127*H127,2) -> 0 | BL127: 4 | BM127: 30
D128: PP | F128: Příplatek k přesunu hmot za zvětšený přesun do 500 m | AT128: PP | AU128: 2
C129: 16 | D129: M | E129: V016 | F129: Zprovoznění zařízení a uvedení do provozu | G129: sada | H129: 1 | J129: =ROUND(I129*H129,2) -> 0 | N129: základní | P129: =O129*H129 -> 0 | Q129: 0 | R129: =Q129*H129 -> 0 | S129: 0 | T129: =S129*H129 -> 0 | AR129: 8 | AT129: M | AU129: 2 | AY129: ROZPOCET | BE129: =IF(N129="základní",J129,0) -> 0 | BF129: =IF(N129="snížená",J129,0) -> 0 | BG129: =IF(N129="zákl. přenesená",J129,0) -> 0 | BH129: =IF(N129="sníž. přenesená",J129,0) -> 0 | BI129: =IF(N129="nulová",J129,0) -> 0 | BJ129: 1 | BK129: =ROUND(I129*H129,2) -> 0 | BL129: 4 | BM129: 32
D130: PP | F130: Zprovoznění zařízení a uvedení do provozu | AT130: PP | AU130: 2
C131: 17 | D131: M | E131: V017 | F131: Dopravní a režijní náklady | G131: sada | H131: 1 | J131: =ROUND(I131*H131,2) -> 0 | N131: základní | P131: =O131*H131 -> 0 | Q131: 0 | R131: =Q131*H131 -> 0 | S131: 0 | T131: =S131*H131 -> 0 | AR131: 8 | AT131: M | AU131: 2 | AY131: ROZPOCET | BE131: =IF(N131="základní",J131,0) -> 0 | BF131: =IF(N131="snížená",J131,0) -> 0 | BG131: =IF(N131="zákl. přenesená",J131,0) -> 0 | BH131: =IF(N131="sníž. přenesená",J131,0) -> 0 | BI131: =IF(N131="nulová",J131,0) -> 0 | BJ131: 1 | BK131: =ROUND(I131*H131,2) -> 0 | BL131: 4 | BM131: 34
...

Sheet D.1.1.05 - Zdravotně tech...
D1: List obsahuje: | F1: 1) Krycí list soupisu | G1: 2) Rekapitulace | J1: 3) Soupis prací | K1: Zpět na list: | L1: Rekapitulace stavby
AT2: {b7db3b7c-5731-4890-9a58-3f8541eeb4b0} | AZ2: Odvoz | BC2: 36,04 | BD2: 2
AT3: 2
D4: KRYCÍ LIST SOUPISU | M4: v --- níže se nacházejí doplnkové a pomocné údaje k sestavám --- v | AT4: False
D6: Stavba:
E7: ='Rekapitulace stavby'!K6 -> Transformace ÚSP pro mládež Kvasiny – výstavba v lokalitě Kostelec nad Orlicí 2
D8: Objekt:
E9: A - Hlavní aktivity projektu
D10: Soupis:
E11: SO01 - Rodinný dům
D12: Úroveň 3:
E13: D.1.1.05 - Zdravotně technické instalace
D15: KSO: | I15: CC-CZ:
D16: Místo: | I16: Datum: | J16: ='Rekapitulace stavby'!AN8 -> 11. 5. 2017
D18: Zadavatel: | I18: IČ: | J18: =IF('Rekapitulace stavby'!AN10="","",'Rekapitulace stavby'!AN10)
E19: =IF('Rekapitulace stavby'!E11="","",'Rekapitulace stavby'!E11) | I19: DIČ: | J19: =IF('Rekapitulace stavby'!AN11="","",'Rekapitulace stavby'!AN11)
D21: Uchazeč: | I21: IČ: | J21: =IF('Rekapitulace stavby'!AN13="Vyplň údaj","",IF('Rekapitulace stavby'!AN13="","",'Rekapitulace stavby'!AN13))
E22: =IF('Rekapitulace stavby'!E14="Vyplň údaj","",IF('Rekapitulace stavby'!E14="","",'Rekapitulace stavby'!E14)) | I22: DIČ: | J22: =IF('Rekapitulace stavby'!AN14="Vyplň údaj","",IF('Rekapitulace stavby'!AN14="","",'Rekapitulace stavby'!AN14))
D24: Projektant: | I24: IČ: | J24: =IF('Rekapitulace stavby'!AN16="","",'Rekapitulace stavby'!AN16)
E25: =IF('Rekapitulace stavby'!E17="","",'Rekapitulace stavby'!E17) | I25: DIČ: | J25: =IF('Rekapitulace stavby'!AN17="","",'Rekapitulace stavby'!AN17)
D27: Poznámka:
D31: Cena bez DPH | J31: =ROUND(J99,2) -> 0
F33: Základ daně | I33: Sazba daně | J33: Výše daně
D34: DPH | E34: základní | F34: =ROUND(SUM(BE99:BE414), 2) -> 0 | I34: 0.21 | J34: =ROUND(ROUND((SUM(BE99:BE414)), 2)*I34, 2) -> 0
E35: snížená | F35: =ROUND(SUM(BF99:BF414), 2) -> 0 | I35: 0.15 | J35: =ROUND(ROUND((SUM(BF99:BF414)), 2)*I35, 2) -> 0
E36: zákl. přenesená | F36: =ROUND(SUM(BG99:BG414), 2) -> 0 | I36: 0.21 | J36: 0
E37: sníž. přenesená | F37: =ROUND(SUM(BH99:BH414), 2) -> 0 | I37: 0.15 | J37: 0
E38: nulová | F38: =ROUND(SUM(BI99:BI414), 2) -> 0 | I38: 0 | J38: 0
D40: Cena s DPH | G40: v | H40: CZK | J40: =SUM(J31:J38) -> 0
C46: REKAPITULACE ČLENĚNÍ SOUPISU PRACÍ
C48: Stavba:
E49: =E7 -> Transformace ÚSP pro mládež Kvasiny – výstavba v lokalitě Kostelec nad Orlicí 2
C50: Objekt:
E51: A - Hlavní aktivity projektu
C52: Soupis:
E53: SO01 - Rodinný dům
C54: Úroveň 3:
E55: =E13 -> D.1.1.05 - Zdravotně technické instalace
C57: Místo: | F57: =F16 | I57: Datum: | J57: =IF(J16="","",J16) -> 11. 5. 2017
C59: Zadavatel: | F59: =E19 | I59: Projektant: | J59: =E25
C60: Uchazeč: | F60: =IF(E22="","",E22)
C62: Kód dílu - Popis | J62: Cena celkem [CZK]
C64: Náklady soupisu celkem | J64: =J99 -> 0 | AU64: -1
D65: HSV - Práce a dodávky HSV | J65: =J100 -> 0
D66: 1 - Zemní práce | J66: =J101 -> 0
D67: 4 - Vodorovné konstrukce | J67: =J147 -> 0
D68: 9 - Ostatní konstrukce a práce-bourání | J68: =J150 -> 0
D69: PSV - Práce a dodávky PSV | J69: =J153 -> 0
D70: 713 - Izolace tepelné | J70: =J154 -> 0
D71: 721 - Zdravotechnika - vnitřní kanalizace | J71: =J181 -> 0
D72: 722 - Zdravotechnika - vnitřní vodovod | J72: =J256 -> 0
D73: 724 - Zdravotechnika - strojní vybavení | J73: =J331 -> 0
D74: 725 - Zdravotechnika - zařizovací předměty | J74: =J352 -> 0
D75: 726 - Zdravotechnika - předstěnové instalace | J75: =J401 -> 0
C82: SOUPIS PRACÍ
C84: Stavba:
E85: =E7 -> Transformace ÚSP pro mládež Kvasiny – výstavba v lokalitě Kostelec nad Orlicí 2
C86: Objekt:
E87: A - Hlavní aktivity projektu
C88: Soupis:
E89: SO01 - Rodinný dům
C90: Úroveň 3:
E91: =E13 -> D.1.1.05 - Zdravotně technické instalace
C93: Místo: | F93: =F16 | I93: Datum: | J93: =IF(J16="","",J16) -> 11. 5. 2017
C95: Zadavatel: | F95: =E19 | I95: Projektant: | J95: =E25
C96: Uchazeč: | F96: =IF(E22="","",E22)
C98: PČ | D98: Typ | E98: Kód | F98: Popis | G98: MJ | H98: Množství | I98: J.cena [CZK] | J98: Cena celkem [CZK] | K98: Cenová soustava | M98: Poznámka | N98: DPH | O98: J. Nh [h] | P98: Nh celkem [h] | Q98: J. hmotnost_x000D_ [t] | R98: Hmotnost_x000D_ celkem [t] | S98: J. suť [t] | T98: Suť Celkem [t]
C99: Náklady soupisu celkem | J99: =BK99 -> 0 | P99: =P100+P153 -> 0 | R99: =R100+R153 -> 66.795791 | T99: =T100+T153 -> 0 | AT99: D | AU99: -1 | BK99: =BK100+BK153 -> 0
D100: D | E100: HSV | F100: Práce a dodávky HSV | J100: =BK100 -> 0 | P100: =P101+P147+P150 -> 0 | R100: =R101+R147+R150 -> 66.032236 | T100: =T101+T147+T150 -> 0 | AR100: 1 | AT100: D | AU100: 0 | AY100: ROZPOCET | BK100: =BK101+BK147+BK150 -> 0
D101: D | E101: 1 | F101: Zemní práce | J101: =BK101 -> 0 | P101: =SUM(P102:P146) -> 0 | R101: =SUM(R102:R146) -> 53.175 | T101: =SUM(T102:T146) -> 0 | AR101: 1 | AT101: D | AU101: 1 | AY101: ROZPOCET | BK101: =SUM(BK102:BK146) -> 0
C102: 1 | D102: K | E102: 132201201 | F102: Hloubení rýh š do 2000 mm v hornině tř. 3 objemu do 100 m3 | G102: m3 | H102: 68 | J102: =ROUND(I102*H102,2) -> 0 | K102: CS ÚRS 2017 01 | N102: základní | P102: =O102*H102 -> 0 | Q102: 0 | R102: =Q102*H102 -> 0 | S102: 0 | T102: =S102*H102 -> 0 | AR102: 4 | AT102: K | AU102: 2 | AY102: ROZPOCET | BE102: =IF(N102="základní",J102,0) -> 0 | BF102: =IF(N102="snížená",J102,0) -> 0 | BG102: =IF(N102="zákl. přenesená",J102,0) -> 0 | BH102: =IF(N102="sníž. přenesená",J102,0) -> 0 | BI102: =IF(N102="nulová",J102,0) -> 0 | BJ102: 1 | BK102: =ROUND(I102*H102,2) -> 0 | BL102: 4 | BM102: 2
D103: PP | F103: Hloubení rýh š do 2000 mm v hornině tř. 3 objemu do 100 m3 | AT103: PP | AU103: 2
D104: VV | F104: ((15+38+28+4)*0,8*1,0) "ležatá kanalizace | H104: 68 | AT104: VV | AU104: 2 | AV104: 2 | AW104: True | AX104: 0 | AY104: ROZPOCET
D105: VV | F105: Součet | H105: 68 | AT105: VV | AU105: 2 | AV105: 4 | AW105: True | AX105: 1 | AY105: ROZPOCET
C106: 2 | D106: K | E106: 132212209 | F106: Příplatek za lepivost u hloubení rýh š do 2000 mm ručním nebo pneum nářadím v hornině tř. 3 | G106: m3 | H106: 34 | J106: =ROUND(I106*H106,2) -> 0 | K106: CS ÚRS 2017 01 | N106: základní | P106: =O106*H106 -> 0 | Q106: 0 | R106: =Q106*H106 -> 0 | S106: 0 | T106: =S106*H106 -> 0 | AR106: 4 | AT106: K | AU106: 2 | AY106: ROZPOCET | BE106: =IF(N106="základní",J106,0) -> 0 | BF106: =IF(N106="snížená",J106,0) -> 0 | BG106: =IF(N106="zákl. přenesená",J106,0) -> 0 | BH106: =IF(N106="sníž. přenesená",J106,0) -> 0 | BI106: =IF(N106="nulová",J106,0) -> 0 | BJ106: 1 | BK106: =ROUND(I106*H106,2) -> 0 | BL106: 4 | BM106: 4
D107: PP | F107: Příplatek za lepivost u hloubení rýh š do 2000 mm ručním nebo pneum nářadím v hornině tř. 3 | AT107: PP | AU107: 2
D108: VV | F108: 0,5*68,00 | H108: 34 | AT108: VV | AU108: 2 | AV108: 2 | AW108: True | AX108: 0 | AY108: ROZPOCET
D109: VV | F109: Součet | H109: 34 | AT109: VV | AU109: 2 | AV109: 4 | AW109: True | AX109: 1 | AY109: ROZPOCET
C110: 3 | D110: K | E110: 161101101 | F110: Svislé přemístění výkopku z horniny tř. 1 až 4 hl výkopu do 2,5 m | G110: m3 | H110: 34 | J110: =ROUND(I110*H110,2) -> 0 | K110: CS ÚRS 2017 01 | N110: základní | P110: =O110*H110 -> 0 | Q110: 0 | R110: =Q110*H110 -> 0 | S110: 0 | T110: =S110*H110 -> 0 | AR110: 4 | AT110: K | AU110: 2 | AY110: ROZPOCET | BE110: =IF(N110="základní",J110,0) -> 0 | BF110: =IF(N110="snížená",J110,0) -> 0 | BG110: =IF(N110="zákl. přenesená",J110,0) -> 0 | BH110: =IF(N110="sníž. přenesená",J110,0) -> 0 | BI110: =IF(N110="nulová",J110,0) -> 0 | BJ110: 1 | BK110: =ROUND(I110*H110,2) -> 0 | BL110: 4 | BM110: 6
D111: PP | F111: Svislé přemístění výkopku z horniny tř. 1 až 4 hl výkopu do 2,5 m | AT111: PP | AU111: 2
C112: 4 | D112: K | E112: 162601102 | F112: Vodorovné přemístění do 5000 m výkopku/sypaniny z horniny tř. 1 až 4 | G112: m3 | H112: 36.04 | J112: =ROUND(I112*H112,2) -> 0 | K112: CS ÚRS 2017 01 | N112: základní | P112: =O112*H112 -> 0 | Q112: 0 | R112: =Q112*H112 -> 0 | S112: 0 | T112: =S112*H112 -> 0 | AR112: 4 | AT112: K | AU112: 2 | AY112: ROZPOCET | BE112: =IF(N112="základní",J112,0) -> 0 | BF112: =IF(N112="snížená",J112,0) -> 0 | BG112: =IF(N112="zákl. přenesená",J112,0) -> 0 | BH112: =IF(N112="sníž. přenesená",J112,0) -> 0 | BI112: =IF(N112="nulová",J112,0) -> 0 | BJ112: 1 | BK112: =ROUND(I112*H112,2) -> 0 | BL112: 4 | BM112: 8
D113: PP | F113: Vodorovné přemístění do 5000 m výkopku/sypaniny z horniny tř. 1 až 4 | AT113: PP | AU113: 2
D114: VV | F114: 6,800 "lože | H114: 6.8 | AT114: VV | AU114: 2 | AV114: 2 | AW114: True | AX114: 0 | AY114: ROZPOCET
D115: VV | F115: 28,135 "obsypy | H115: 28.135 | AT115: VV | AU115: 2 | AV115: 2 | AW115: True | AX115: 0 | AY115: ROZPOCET
D116: VV | F116: 0,013*(15+38+28+4) "potrubí | H116: 1.105 | AT116: VV | AU116: 2 | AV116: 2 | AW116: True | AX116: 0 | AY116: ROZPOCET
D117: VV | F117: Součet | H117: 36.04 | AT117: VV | AU117: 2 | AV117: 4 | AW117: True | AX117: 1 | AY117: ROZPOCET
C118: 5 | D118: K | E118: 162701105 | F118: Vodorovné přemístění do 10000 m výkopku/sypaniny z horniny tř. 1 až 4 | G118: m3 | H118: 36.04 | J118: =ROUND(I118*H118,2) -> 0 | K118: CS ÚRS 2017 01 | N118: základní | P118: =O118*H118 -> 0 | Q118: 0 | R118: =Q118*H118 -> 0 | S118: 0 | T118: =S118*H118 -> 0 | AR118: 4 | AT118: K | AU118: 2 | AY118: ROZPOCET | BE118: =IF(N118="základní",J118,0) -> 0 | BF118: =IF(N118="snížená",J118,0) -> 0 | BG118: =IF(N118="zákl. přenesená",J118,0) -> 0 | BH118: =IF(N118="sníž. přenesená",J118,0) -> 0 | BI118: =IF(N118="nulová",J118,0) -> 0 | BJ118: 1 | BK118: =ROUND(I118*H118,2) -> 0 | BL118: 4 | BM118: -1962252549
D119: PP | F119: Vodorovné přemístění výkopku nebo sypaniny po suchu na obvyklém dopravním prostředku, bez naložení výkopku, avšak se složením bez rozhrnutí z horniny tř. 1 až 4 na vzdálenost přes 9 000 do 10 000 m | AT119: PP | AU119: 2
D120: VV | F120: 6,800 "lože | H120: 6.8 | AT120: VV | AU120: 2 | AV120: 2 | AW120: True | AX120: 0 | AY120: ROZPOCET
D121: VV | F121: 28,135 "obsypy | H121: 28.135 | AT121: VV | AU121: 2 | AV121: 2 | AW121: True | AX121: 0 | AY121: ROZPOCET
D122: VV | F122: 0,013*(15+38+28+4) "potrubí | H122: 1.105 | AT122: VV | AU122: 2 | AV122: 2 | AW122: True | AX122: 0 | AY122: ROZPOCET
D123: VV | E123: Odvoz | F123: Součet | H123: 36.04 | AT123: VV | AU123: 2 | AV123: 4 | AW123: True | AX123: 1 | AY123: ROZPOCET
C124: 6 | D124: K | E124: 162701109 | F124: Příplatek k vodorovnému přemístění výkopku/sypaniny z horniny tř. 1 až 4 ZKD 1000 m přes 10000 m | G124: m3 | H124: 324.36 | J124: =ROUND(I124*H124,2) -> 0 | K124: CS ÚRS 2017 01 | N124: základní | P124: =O124*H124 -> 0 | Q124: 0 | R124: =Q124*H124 -> 0 | S124: 0 | T124: =S124*H124 -> 0 | AR124: 4 | AT124: K | AU124: 2 | AY124: ROZPOCET | BE124: =IF(N124="základní",J124,0) -> 0 | BF124: =IF(N124="snížená",J124,0) -> 0 | BG124: =IF(N124="zákl. přenesená",J124,0) -> 0 | BH124: =IF(N124="sníž. přenesená",J124,0) -> 0 | BI124: =IF(N124="nulová",J124,0) -> 0 | BJ124: 1 | BK124: =ROUND(I124*H124,2) -> 0 | BL124: 4 | BM124: 1070710674
D125: PP | F125: Vodorovné přemístění výkopku nebo sypaniny po suchu na obvyklém dopravním prostředku, bez naložení výkopku, avšak se složením bez rozhrnutí z horniny tř. 1 až 4 na vzdálenost Příplatek k ceně za každých dalších i započatých 1 000 m | AT125: PP | AU125: 2
D126: VV | F126: Odvoz | H126: 36.04 | AT126: VV | AU126: 2 | AV126: 2 | AW126: True | AX126: 1 | AY126: ROZPOCET
D127: VV | F127: 36,04*9 'Přepočtené koeficientem množství | H127: 324.36 | AT127: VV | AU127: 2 | AV127: 2 | AW127: False | AX127: 1 | AY127: ROZPOCET
C128: 7 | D128: K | E128: 171201201 | F128: Uložení sypaniny na skládky | G128: m3 | H128: 36.04 | J128: =ROUND(I128*H128,2) -> 0 | K128: CS ÚRS 2017 01 | N128: základní | P128: =O128*H128 -> 0 | Q128: 0 | R128: =Q128*H128 -> 0 | S128: 0 | T128: =S128*H128 -> 0 | AR128: 4 | AT128: K | AU128: 2 | AY128: ROZPOCET | BE128: =IF(N128="základní",J128,0) -> 0 | BF128: =IF(N128="snížená",J128,0) -> 0 | BG128: =IF(N128="zákl. přenesená",J128,0) -> 0 | BH128: =IF(N128="sníž. přenesená",J128,0) -> 0 | BI128: =IF(N128="nulová",J128,0) -> 0 | BJ128: 1 | BK128: =ROUND(I128*H128,2) -> 0 | BL128: 4 | BM128: 10
D129: PP | F129: Uložení sypaniny na skládky | AT129: PP | AU129: 2
C130: 8 | D130: K | E130: 171201211 | F130: Poplatek za uložení odpadu ze sypaniny na skládce (skládkovné) | G130: t | H130: 64.872 | J130: =ROUND(I130*H130,2) -> 0 | K130: CS ÚRS 2017 01 | N130: základní | P130: =O130*H130 -> 0 | Q130: 0 | R130: =Q130*H130 -> 0 | S130: 0 | T130: =S130*H130 -> 0 | AR130: 4 | AT130: K | AU130: 2 | AY130: ROZPOCET | BE130: =IF(N130="základní",J130,0) -> 0 | BF130: =IF(N130="snížená",J130,0) -> 0 | BG130: =IF(N130="zákl. přenesená",J130,0) -> 0 | BH130: =IF(N130="sníž. přenesená",J130,0) -> 0 | BI130: =IF(N130="nulová",J130,0) -> 0 | BJ130: 1 | BK130: =ROUND(I130*H130,2) -> 0 | BL130: 4 | BM130: 12
D131: PP | F131: Poplatek za uložení odpadu ze sypaniny na skládce (skládkovné) | AT131: PP | AU131: 2
...

Sheet D.1.1.06 - Silnoproudá el...
D1: List obsahuje: | F1: 1) Krycí list soupisu | G1: 2) Rekapitulace | J1: 3) Soupis prací | K1: Zpět na list: | L1: Rekapitulace stavby
AT2: {81ff8963-aae4-4d1f-9b4f-a83f1bdf00dd}
AT3: 2
D4: KRYCÍ LIST SOUPISU | M4: v --- níže se nacházejí doplnkové a pomocné údaje k sestavám --- v | AT4: False
D6: Stavba:
E7: ='Rekapitulace stavby'!K6 -> Transformace ÚSP pro mládež Kvasiny – výstavba v lokalitě Kostelec nad Orlicí 2
D8: Objekt:
E9: A - Hlavní aktivity projektu
D10: Soupis:
E11: SO01 - Rodinný dům
D12: Úroveň 3:
E13: D.1.1.06 - Silnoproudá elektroinstalace, bleskosvod
D15: KSO: | I15: CC-CZ:
D16: Místo: | I16: Datum: | J16: ='Rekapitulace stavby'!AN8 -> 11. 5. 2017
D18: Zadavatel: | I18: IČ: | J18: =IF('Rekapitulace stavby'!AN10="","",'Rekapitulace stavby'!AN10)
E19: =IF('Rekapitulace stavby'!E11="","",'Rekapitulace stavby'!E11) | I19: DIČ: | J19: =IF('Rekapitulace stavby'!AN11="","",'Rekapitulace stavby'!AN11)
D21: Uchazeč: | I21: IČ: | J21: =IF('Rekapitulace stavby'!AN13="Vyplň údaj","",IF('Rekapitulace stavby'!AN13="","",'Rekapitulace stavby'!AN13))
E22: =IF('Rekapitulace stavby'!E14="Vyplň údaj","",IF('Rekapitulace stavby'!E14="","",'Rekapitulace stavby'!E14)) | I22: DIČ: | J22: =IF('Rekapitulace stavby'!AN14="Vyplň údaj","",IF('Rekapitulace stavby'!AN14="","",'Rekapitulace stavby'!AN14))
D24: Projektant: | I24: IČ: | J24: =IF('Rekapitulace stavby'!AN16="","",'Rekapitulace stavby'!AN16)
E25: =IF('Rekapitulace stavby'!E17="","",'Rekapitulace stavby'!E17) | I25: DIČ: | J25: =IF('Rekapitulace stavby'!AN17="","",'Rekapitulace stavby'!AN17)
D27: Poznámka:
D31: Cena bez DPH | J31: =ROUND(J98,2) -> 0
F33: Základ daně | I33: Sazba daně | J33: Výše daně
D34: DPH | E34: základní | F34: =ROUND(SUM(BE98:BE285), 2) -> 0 | I34: 0.21 | J34: =ROUND(ROUND((SUM(BE98:BE285)), 2)*I34, 2) -> 0
E35: snížená | F35: =ROUND(SUM(BF98:BF285), 2) -> 0 | I35: 0.15 | J35: =ROUND(ROUND((SUM(BF98:BF285)), 2)*I35, 2) -> 0
E36: zákl. přenesená | F36: =ROUND(SUM(BG98:BG285), 2) -> 0 | I36: 0.21 | J36: 0
E37: sníž. přenesená | F37: =ROUND(SUM(BH98:BH285), 2) -> 0 | I37: 0.15 | J37: 0
E38: nulová | F38: =ROUND(SUM(BI98:BI285), 2) -> 0 | I38: 0 | J38: 0
D40: Cena s DPH | G40: v | H40: CZK | J40: =SUM(J31:J38) -> 0
C46: REKAPITULACE ČLENĚNÍ SOUPISU PRACÍ
C48: Stavba:
E49: =E7 -> Transformace ÚSP pro mládež Kvasiny – výstavba v lokalitě Kostelec nad Orlicí 2
C50: Objekt:
E51: A - Hlavní aktivity projektu
C52: Soupis:
E53: SO01 - Rodinný dům
C54: Úroveň 3:
E55: =E13 -> D.1.1.06 - Silnoproudá elektroinstalace, bleskosvod
C57: Místo: | F57: =F16 | I57: Datum: | J57: =IF(J16="","",J16) -> 11. 5. 2017
C59: Zadavatel: | F59: =E19 | I59: Projektant: | J59: =E25
C60: Uchazeč: | F60: =IF(E22="","",E22)
C62: Kód dílu - Popis | J62: Cena celkem [CZK]
C64: Náklady soupisu celkem | J64: =J98 -> 0 | AU64: -1
D65: D1 - Specifikace rozváděčů dle výkresového schématu | J65: =J99 -> 0
D66: D2 - Instalační krabice včetně montáže a podružného materiálu | J66: =J109 -> 0
D67: D3 - Ohebné instalační trubky | J67: =J113 -> 0
D68: D4 - Ukončení kabelů | J68: =J118 -> 0
D69: D5 - Instalační přístroje pod omítku, vypínače a zásuvky,signalizace,pohybová čidla doběhová relé KOMPLET | J69: =J124 -> 0
D70: D6 - Kabely samozhášivé s dvojItou izolací PVC včetně uložení, prořezu, | J70: =J147 -> 0
D71: D7 - Svítidla včetně zdrojů a montáže | J71: =J169 -> 0
D72: D8 - Uzemňovací vedení včetně montážních prací a ukončení | J72: =J206 -> 0
D73: D9 - Bleskosvod materiál komletní včetně montáže | J73: =J219 -> 0
D74: D10 - Hodinové zúčtovací sazby | J74: =J277 -> 0
C81: SOUPIS PRACÍ
C83: Stavba:
E84: =E7 -> Transformace ÚSP pro mládež Kvasiny – výstavba v lokalitě Kostelec nad Orlicí 2
C85: Objekt:
E86: A - Hlavní aktivity projektu
C87: Soupis:
E88: SO01 - Rodinný dům
C89: Úroveň 3:
E90: =E13 -> D.1.1.06 - Silnoproudá elektroinstalace, bleskosvod
C92: Místo: | F92: =F16 | I92: Datum: | J92: =IF(J16="","",J16) -> 11. 5. 2017
C94: Zadavatel: | F94: =E19 | I94: Projektant: | J94: =E25
C95: Uchazeč: | F95: =IF(E22="","",E22)
C97: PČ | D97: Typ | E97: Kód | F97: Popis | G97: MJ | H97: Množství | I97: J.cena [CZK] | J97: Cena celkem [CZK] | K97: Cenová soustava | M97: Poznámka | N97: DPH | O97: J. Nh [h] | P97: Nh celkem [h] | Q97: J. hmotnost_x000D_ [t] | R97: Hmotnost_x000D_ celkem [t] | S97: J. suť [t] | T97: Suť Celkem [t]
C98: Náklady soupisu celkem | J98: =BK98 -> 0 | P98: =P99+P109+P113+P124+P147+P169+P206+P219+P277 -> 0 | R98: =R99+R109+R113+R124+R147+R169+R206+R219+R277 -> 0 | T98: =T99+T109+T113+T124+T147+T169+T206+T219+T277 -> 0 | AT98: D | AU98: -1 | BK98: =BK99+BK109+BK113+BK124+BK147+BK169+BK206+BK219+BK277 -> 0
D99: D | E99: D1 | F99: Specifikace rozváděčů dle výkresového schématu | J99: =BK99 -> 0 | P99: =SUM(P100:P108) -> 0 | R99: =SUM(R100:R108) -> 0 | T99: =SUM(T100:T108) -> 0 | AR99: 1 | AT99: D | AU99: 0 | AY99: ROZPOCET | BK99: =SUM(BK100:BK108) -> 0
C100: 1 | D100: K | E100: Pol82 | F100: Rozváděč RD | G100: ks | H100: 1 | J100: =ROUND(I100*H100,2) -> 0 | N100: základní | P100: =O100*H100 -> 0 | Q100: 0 | R100: =Q100*H100 -> 0 | S100: 0 | T100: =S100*H100 -> 0 | AR100: 4 | AT100: K | AU100: 1 | AY100: ROZPOCET | BE100: =IF(N100="základní",J100,0) -> 0 | BF100: =IF(N100="snížená",J100,0) -> 0 | BG100: =IF(N100="zákl. přenesená",J100,0) -> 0 | BH100: =IF(N100="sníž. přenesená",J100,0) -> 0 | BI100: =IF(N100="nulová",J100,0) -> 0 | BJ100: 1 | BK100: =ROUND(I100*H100,2) -> 0 | BL100: 4 | BM100: 2
D101: PP | F101: Rozváděč RD | AT101: PP | AU101: 1
D102: P | F102: Poznámka k položce: Rozváděč RD, rozměr skříně dle výkresu, počty přístrojů dle výkresu, jističe 10kA, char. B aC, chrániče 30mA, přepěťová ochrana II.stupeň. | AT102: P | AU102: 1
C103: 2 | D103: K | E103: Pol83 | F103: ER-Elektroměrový rozváděč v pilíři . | G103: ks | H103: 1 | J103: =ROUND(I103*H103,2) -> 0 | N103: základní | P103: =O103*H103 -> 0 | Q103: 0 | R103: =Q103*H103 -> 0 | S103: 0 | T103: =S103*H103 -> 0 | AR103: 4 | AT103: K | AU103: 1 | AY103: ROZPOCET | BE103: =IF(N103="základní",J103,0) -> 0 | BF103: =IF(N103="snížená",J103,0) -> 0 | BG103: =IF(N103="zákl. přenesená",J103,0) -> 0 | BH103: =IF(N103="sníž. přenesená",J103,0) -> 0 | BI103: =IF(N103="nulová",J103,0) -> 0 | BJ103: 1 | BK103: =ROUND(I103*H103,2) -> 0 | BL103: 4 | BM103: 4
D104: PP | F104: ER-Elektroměrový rozváděč v pilíři . | AT104: PP | AU104: 1
D105: P | F105: Poznámka k položce: Rozváděč ER, rozměr skříně dle výkresu, počty přístrojů dle výkresu, jističe 10kA, char. B aC, chrániče 30mA, přepěťová ochrana II.stupeň. | AT105: P | AU105: 1
C106: 3 | D106: K | E106: Pol84 | F106: Montáž rozváděče | G106: ks | H106: 2 | J106: =ROUND(I106*H106,2) -> 0 | N106: základní | P106: =O106*H106 -> 0 | Q106: 0 | R106: =Q106*H106 -> 0 | S106: 0 | T106: =S106*H106 -> 0 | AR106: 4 | AT106: K | AU106: 1 | AY106: ROZPOCET | BE106: =IF(N106="základní",J106,0) -> 0 | BF106: =IF(N106="snížená",J106,0) -> 0 | BG106: =IF(N106="zákl. přenesená",J106,0) -> 0 | BH106: =IF(N106="sníž. přenesená",J106,0) -> 0 | BI106: =IF(N106="nulová",J106,0) -> 0 | BJ106: 1 | BK106: =ROUND(I106*H106,2) -> 0 | BL106: 4 | BM106: 6
D107: PP | F107: Montáž rozváděče | AT107: PP | AU107: 1
D108: P | F108: Poznámka k položce: Osazení do niky ve zdi. | AT108: P | AU108: 1
D109: D | E109: D2 | F109: Instalační krabice včetně montáže a podružného materiálu | J109: =BK109 -> 0 | P109: =SUM(P110:P112) -> 0 | R109: =SUM(R110:R112) -> 0 | T109: =SUM(T110:T112) -> 0 | AR109: 1 | AT109: D | AU109: 0 | AY109: ROZPOCET | BK109: =SUM(BK110:BK112) -> 0
C110: 4 | D110: K | E110: Pol85 | F110: Krabice rozbočná 68mm pod omítku | G110: ks | H110: 45 | J110: =ROUND(I110*H110,2) -> 0 | N110: základní | P110: =O110*H110 -> 0 | Q110: 0 | R110: =Q110*H110 -> 0 | S110: 0 | T110: =S110*H110 -> 0 | AR110: 4 | AT110: K | AU110: 1 | AY110: ROZPOCET | BE110: =IF(N110="základní",J110,0) -> 0 | BF110: =IF(N110="snížená",J110,0) -> 0 | BG110: =IF(N110="zákl. přenesená",J110,0) -> 0 | BH110: =IF(N110="sníž. přenesená",J110,0) -> 0 | BI110: =IF(N110="nulová",J110,0) -> 0 | BJ110: 1 | BK110: =ROUND(I110*H110,2) -> 0 | BL110: 4 | BM110: 8
D111: PP | F111: Krabice rozbočná 68mm pod omítku | AT111: PP | AU111: 1
D112: P | F112: Poznámka k položce: Krabice rozbočná 68mm pod omítku a do sádrokartonu včetně montáže, prořezu a podružného materiálu,svorek | AT112: P | AU112: 1
D113: D | E113: D3 | F113: Ohebné instalační trubky | J113: =BK113 -> 0 | P113: =P114+SUM(P115:P118) -> 0 | R113: =R114+SUM(R115:R118) -> 0 | T113: =T114+SUM(T115:T118) -> 0 | AR113: 1 | AT113: D | AU113: 0 | AY113: ROZPOCET | BK113: =BK114+SUM(BK115:BK118) -> 0
C114: 5 | D114: K | E114: Pol86 | F114: TOY - průměr 29mm | G114: m | H114: 10 | J114: =ROUND(I114*H114,2) -> 0 | N114: základní | P114: =O114*H114 -> 0 | Q114: 0 | R114: =Q114*H114 -> 0 | S114: 0 | T114: =S114*H114 -> 0 | AR114: 4 | AT114: K | AU114: 1 | AY114: ROZPOCET | BE114: =IF(N114="základní",J114,0) -> 0 | BF114: =IF(N114="snížená",J114,0) -> 0 | BG114: =IF(N114="zákl. přenesená",J114,0) -> 0 | BH114: =IF(N114="sníž. přenesená",J114,0) -> 0 | BI114: =IF(N114="nulová",J114,0) -> 0 | BJ114: 1 | BK114: =ROUND(I114*H114,2) -> 0 | BL114: 4 | BM114: 10
D115: PP | F115: TOY - průměr 29mm | AT115: PP | AU115: 1
C116: 6 | D116: K | E116: Pol87 | F116: TOY - průměr 50 mm. | G116: m | H116: 10 | J116: =ROUND(I116*H116,2) -> 0 | N116: základní | P116: =O116*H116 -> 0 | Q116: 0 | R116: =Q116*H116 -> 0 | S116: 0 | T116: =S116*H116 -> 0 | AR116: 4 | AT116: K | AU116: 1 | AY116: ROZPOCET | BE116: =IF(N116="základní",J116,0) -> 0 | BF116: =IF(N116="snížená",J116,0) -> 0 | BG116: =IF(N116="zákl. přenesená",J116,0) -> 0 | BH116: =IF(N116="sníž. přenesená",J116,0) -> 0 | BI116: =IF(N116="nulová",J116,0) -> 0 | BJ116: 1 | BK116: =ROUND(I116*H116,2) -> 0 | BL116: 4 | BM116: 12
D117: PP | F117: TOY - průměr 50 mm. | AT117: PP | AU117: 1
D118: D | E118: D4 | F118: Ukončení kabelů | J118: =BK118 -> 0 | P118: =SUM(P119:P123) -> 0 | R118: =SUM(R119:R123) -> 0 | T118: =SUM(T119:T123) -> 0 | AR118: 1 | AT118: D | AU118: 1 | AY118: ROZPOCET | BK118: =SUM(BK119:BK123) -> 0
C119: 7 | D119: K | E119: Pol88 | F119: Ukončení kabelů v rozváděči | G119: ks | H119: 104 | J119: =ROUND(I119*H119,2) -> 0 | N119: základní | P119: =O119*H119 -> 0 | Q119: 0 | R119: =Q119*H119 -> 0 | S119: 0 | T119: =S119*H119 -> 0 | AR119: 4 | AT119: K | AU119: 2 | AY119: ROZPOCET | BE119: =IF(N119="základní",J119,0) -> 0 | BF119: =IF(N119="snížená",J119,0) -> 0 | BG119: =IF(N119="zákl. přenesená",J119,0) -> 0 | BH119: =IF(N119="sníž. přenesená",J119,0) -> 0 | BI119: =IF(N119="nulová",J119,0) -> 0 | BJ119: 1 | BK119: =ROUND(I119*H119,2) -> 0 | BL119: 4 | BM119: 38
D120: PP | F120: Ukončení kabelů v rozváděči | AT120: PP | AU120: 2
D121: VV | F121: 86+18 | H121: 104 | AT121: VV | AU121: 2 | AV121: 2 | AW121: True | AX121: 1 | AY121: ROZPOCET
C122: 8 | D122: K | E122: Pol100 | F122: Ukončení kabelů a zapojení zařízení dodávaných ostatními profesemi. | G122: ks | H122: 15 | J122: =ROUND(I122*H122,2) -> 0 | N122: základní | P122: =O122*H122 -> 0 | Q122: 0 | R122: =Q122*H122 -> 0 | S122: 0 | T122: =S122*H122 -> 0 | AR122: 4 | AT122: K | AU122: 2 | AY122: ROZPOCET | BE122: =IF(N122="základní",J122,0) -> 0 | BF122: =IF(N122="snížená",J122,0) -> 0 | BG122: =IF(N122="zákl. přenesená",J122,0) -> 0 | BH122: =IF(N122="sníž. přenesená",J122,0) -> 0 | BI122: =IF(N122="nulová",J122,0) -> 0 | BJ122: 1 | BK122: =ROUND(I122*H122,2) -> 0 | BL122: 4 | BM122: 40
D123: PP | F123: Ukončení kabelů a zapojení zařízení dodávaných ostatními profesemi. | AT123: PP | AU123: 2
D124: D | E124: D5 | F124: Instalační přístroje pod omítku, vypínače a zásuvky,signalizace,pohybová čidla doběhová relé KOMPLET | J124: =BK124 -> 0 | P124: =SUM(P125:P146) -> 0 | R124: =SUM(R125:R146) -> 0 | T124: =SUM(T125:T146) -> 0 | AR124: 1 | AT124: D | AU124: 0 | AY124: ROZPOCET | BK124: =SUM(BK125:BK146) -> 0
C125: 9 | D125: K | E125: Pol89 | F125: Spínač 1pólový, řazení 1, 10A, 230V | G125: ks | H125: 29 | J125: =ROUND(I125*H125,2) -> 0 | N125: základní | P125: =O125*H125 -> 0 | Q125: 0 | R125: =Q125*H125 -> 0 | S125: 0 | T125: =S125*H125 -> 0 | AR125: 4 | AT125: K | AU125: 1 | AY125: ROZPOCET | BE125: =IF(N125="základní",J125,0) -> 0 | BF125: =IF(N125="snížená",J125,0) -> 0 | BG125: =IF(N125="zákl. přenesená",J125,0) -> 0 | BH125: =IF(N125="sníž. přenesená",J125,0) -> 0 | BI125: =IF(N125="nulová",J125,0) -> 0 | BJ125: 1 | BK125: =ROUND(I125*H125,2) -> 0 | BL125: 4 | BM125: 16
D126: PP | F126: Spínač 1pólový, řazení 1, 10A, 230V | AT126: PP | AU126: 1
C127: 10 | D127: K | E127: Pol90 | F127: Tlačítko jednopolové řazení 1/0, 10A, 230V | G127: ks | H127: 19 | J127: =ROUND(I127*H127,2) -> 0 | N127: základní | P127: =O127*H127 -> 0 | Q127: 0 | R127: =Q127*H127 -> 0 | S127: 0 | T127: =S127*H127 -> 0 | AR127: 4 | AT127: K | AU127: 1 | AY127: ROZPOCET | BE127: =IF(N127="základní",J127,0) -> 0 | BF127: =IF(N127="snížená",J127,0) -> 0 | BG127: =IF(N127="zákl. přenesená",J127,0) -> 0 | BH127: =IF(N127="sníž. přenesená",J127,0) -> 0 | BI127: =IF(N127="nulová",J127,0) -> 0 | BJ127: 1 | BK127: =ROUND(I127*H127,2) -> 0 | BL127: 4 | BM127: 18
D128: PP | F128: Tlačítko jednopolové řazení 1/0, 10A, 230V | AT128: PP | AU128: 1
C129: 11 | D129: K | E129: Pol91 | F129: Spínač atřídavý řazení 6, 10A, 230V | G129: ks | H129: 12 | J129: =ROUND(I129*H129,2) -> 0 | N129: základní | P129: =O129*H129 -> 0 | Q129: 0 | R129: =Q129*H129 -> 0 | S129: 0 | T129: =S129*H129 -> 0 | AR129: 4 | AT129: K | AU129: 1 | AY129: ROZPOCET | BE129: =IF(N129="základní",J129,0) -> 0 | BF129: =IF(N129="snížená",J129,0) -> 0 | BG129: =IF(N129="zákl. přenesená",J129,0) -> 0 | BH129: =IF(N129="sníž. přenesená",J129,0) -> 0 | BI129: =IF(N129="nulová",J129,0) -> 0 | BJ129: 1 | BK129: =ROUND(I129*H129,2) -> 0 | BL129: 4 | BM129: 20
D130: PP | F130: Spínač atřídavý řazení 6, 10A, 230V | AT130: PP | AU130: 1
C131: 12 | D131: K | E131: Pol92 | F131: Žaluziový ovladač jednopolový.1+1 s blokováním zapuštěný | G131: ks | H131: 9 | J131: =ROUND(I131*H131,2) -> 0 | N131: základní | P131: =O131*H131 -> 0 | Q131: 0 | R131: =Q131*H131 -> 0 | S131: 0 | T131: =S131*H131 -> 0 | AR131: 4 | AT131: K | AU131: 1 | AY131: ROZPOCET | BE131: =IF(N131="základní",J131,0) -> 0 | BF131: =IF(N131="snížená",J131,0) -> 0 | BG131: =IF(N131="zákl. přenesená",J131,0) -> 0 | BH131: =IF(N131="sníž. přenesená",J131,0) -> 0 | BI131: =IF(N131="nulová",J131,0) -> 0 | BJ131: 1 | BK131: =ROUND(I131*H131,2) -> 0 | BL131: 4 | BM131: 22
...

Sheet D.1.1.07 - Slaboproudá el...
D1: List obsahuje: | F1: 1) Krycí list soupisu | G1: 2) Rekapitulace | J1: 3) Soupis prací | K1: Zpět na list: | L1: Rekapitulace stavby
AT2: {299425f4-185b-40d2-a647-f6019e7c8444}
AT3: 2
D4: KRYCÍ LIST SOUPISU | M4: v --- níže se nacházejí doplnkové a pomocné údaje k sestavám --- v | AT4: False
D6: Stavba:
E7: ='Rekapitulace stavby'!K6 -> Transformace ÚSP pro mládež Kvasiny – výstavba v lokalitě Kostelec nad Orlicí 2
D8: Objekt:
E9: A - Hlavní aktivity projektu
D10: Soupis:
E11: SO01 - Rodinný dům
D12: Úroveň 3:
E13: D.1.1.07 - Slaboproudá elektroinstalace
D15: KSO: | I15: CC-CZ:
D16: Místo: | I16: Datum: | J16: ='Rekapitulace stavby'!AN8 -> 11. 5. 2017
D18: Zadavatel: | I18: IČ: | J18: =IF('Rekapitulace stavby'!AN10="","",'Rekapitulace stavby'!AN10)
E19: =IF('Rekapitulace stavby'!E11="","",'Rekapitulace stavby'!E11) | I19: DIČ: | J19: =IF('Rekapitulace stavby'!AN11="","",'Rekapitulace stavby'!AN11)
D21: Uchazeč: | I21: IČ: | J21: =IF('Rekapitulace stavby'!AN13="Vyplň údaj","",IF('Rekapitulace stavby'!AN13="","",'Rekapitulace stavby'!AN13))
E22: =IF('Rekapitulace stavby'!E14="Vyplň údaj","",IF('Rekapitulace stavby'!E14="","",'Rekapitulace stavby'!E14)) | I22: DIČ: | J22: =IF('Rekapitulace stavby'!AN14="Vyplň údaj","",IF('Rekapitulace stavby'!AN14="","",'Rekapitulace stavby'!AN14))
D24: Projektant: | I24: IČ: | J24: =IF('Rekapitulace stavby'!AN16="","",'Rekapitulace stavby'!AN16)
E25: =IF('Rekapitulace stavby'!E17="","",'Rekapitulace stavby'!E17) | I25: DIČ: | J25: =IF('Rekapitulace stavby'!AN17="","",'Rekapitulace stavby'!AN17)
D27: Poznámka:
D31: Cena bez DPH | J31: =ROUND(J93,2) -> 0
F33: Základ daně | I33: Sazba daně | J33: Výše daně
D34: DPH | E34: základní | F34: =ROUND(SUM(BE93:BE138), 2) -> 0 | I34: 0.21 | J34: =ROUND(ROUND((SUM(BE93:BE138)), 2)*I34, 2) -> 0
E35: snížená | F35: =ROUND(SUM(BF93:BF138), 2) -> 0 | I35: 0.15 | J35: =ROUND(ROUND((SUM(BF93:BF138)), 2)*I35, 2) -> 0
E36: zákl. přenesená | F36: =ROUND(SUM(BG93:BG138), 2) -> 0 | I36: 0.21 | J36: 0
E37: sníž. přenesená | F37: =ROUND(SUM(BH93:BH138), 2) -> 0 | I37: 0.15 | J37: 0
E38: nulová | F38: =ROUND(SUM(BI93:BI138), 2) -> 0 | I38: 0 | J38: 0
D40: Cena s DPH | G40: v | H40: CZK | J40: =SUM(J31:J38) -> 0
C46: REKAPITULACE ČLENĚNÍ SOUPISU PRACÍ
C48: Stavba:
E49: =E7 -> Transformace ÚSP pro mládež Kvasiny – výstavba v lokalitě Kostelec nad Orlicí 2
C50: Objekt:
E51: A - Hlavní aktivity projektu
C52: Soupis:
E53: SO01 - Rodinný dům
C54: Úroveň 3:
E55: =E13 -> D.1.1.07 - Slaboproudá elektroinstalace
C57: Místo: | F57: =F16 | I57: Datum: | J57: =IF(J16="","",J16) -> 11. 5. 2017
C59: Zadavatel: | F59: =E19 | I59: Projektant: | J59: =E25
C60: Uchazeč: | F60: =IF(E22="","",E22)
C62: Kód dílu - Popis | J62: Cena celkem [CZK]
C64: Náklady soupisu celkem | J64: =J93 -> 0 | AU64: -1
D65: D1 - Domácí telefon | J65: =J94 -> 0
D66: D2 - Kabelláž | J66: =J97 -> 0
D67: D3 - Sestava -PC vedení + pevné telefoní linky | J67: =J100 -> 0
D68: D4 - TECHNOLOGIE STA+SAT | J68: =J109 -> 0
D69: D5 - Hodinové zúčtovací sazby | J69: =J130 -> 0
C76: SOUPIS PRACÍ
C78: Stavba:
E79: =E7 -> Transformace ÚSP pro mládež Kvasiny – výstavba v lokalitě Kostelec nad Orlicí 2
C80: Objekt:
E81: A - Hlavní aktivity projektu
C82: Soupis:
E83: SO01 - Rodinný dům
C84: Úroveň 3:
E85: =E13 -> D.1.1.07 - Slaboproudá elektroinstalace
C87: Místo: | F87: =F16 | I87: Datum: | J87: =IF(J16="","",J16) -> 11. 5. 2017
C89: Zadavatel: | F89: =E19 | I89: Projektant: | J89: =E25
C90: Uchazeč: | F90: =IF(E22="","",E22)
C92: PČ | D92: Typ | E92: Kód | F92: Popis | G92: MJ | H92: Množství | I92: J.cena [CZK] | J92: Cena celkem [CZK] | K92: Cenová soustava | M92: Poznámka | N92: DPH | O92: J. Nh [h] | P92: Nh celkem [h] | Q92: J. hmotnost_x000D_ [t] | R92: Hmotnost_x000D_ celkem [t] | S92: J. suť [t] | T92: Suť Celkem [t]
C93: Náklady soupisu celkem | J93: =BK93 -> 0 | P93: =P94+P97+P100+P109+P130 -> 0 | R93: =R94+R97+R100+R109+R130 -> 0 | T93: =T94+T97+T100+T109+T130 -> 0 | AT93: D | AU93: -1 | BK93: =BK94+BK97+BK100+BK109+BK130 -> 0
D94: D | E94: D1 | F94: Domácí telefon | J94: =BK94 -> 0 | P94: =SUM(P95:P96) -> 0 | R94: =SUM(R95:R96) -> 0 | T94: =SUM(T95:T96) -> 0 | AR94: 1 | AT94: D | AU94: 0 | AY94: ROZPOCET | BK94: =SUM(BK95:BK96) -> 0
C95: 1 | D95: K | E95: Pol148 | F95: Sestava domácího videotelefonu pro tři jednotky . Napájení všech jednotek z centrálního zdroje, tři displeje s úhlopříčkou 18cm a venkovním tablem antivandal s odolnou kamerou pro dva účastníky | G95: kpl | H95: 1 | J95: =ROUND(I95*H95,2) -> 0 | N95: základní | P95: =O95*H95 -> 0 | Q95: 0 | R95: =Q95*H95 -> 0 | S95: 0 | T95: =S95*H95 -> 0 | AR95: 4 | AT95: K | AU95: 1 | AY95: ROZPOCET | BE95: =IF(N95="základní",J95,0) -> 0 | BF95: =IF(N95="snížená",J95,0) -> 0 | BG95: =IF(N95="zákl. přenesená",J95,0) -> 0 | BH95: =IF(N95="sníž. přenesená",J95,0) -> 0 | BI95: =IF(N95="nulová",J95,0) -> 0 | BJ95: 1 | BK95: =ROUND(I95*H95,2) -> 0 | BL95: 4 | BM95: 2
D96: PP | F96: Sestava domácího videotelefonu pro tři jednotky . Napájení všech jednotek z centrálního zdroje, tři displeje s úhlopříčkou 18cm a venkovním tablem antivandal s odolnou kamerou pro dva účastníky | AT96: PP | AU96: 1
D97: D | E97: D2 | F97: Kabelláž | J97: =BK97 -> 0 | P97: =SUM(P98:P99) -> 0 | R97: =SUM(R98:R99) -> 0 | T97: =SUM(T98:T99) -> 0 | AR97: 1 | AT97: D | AU97: 0 | AY97: ROZPOCET | BK97: =SUM(BK98:BK99) -> 0
C98: 2 | D98: K | E98: Pol149 | F98: kabel JY(ST)Y 5x2x0,8 nebo UTP dle vybraného zařízení | G98: m | H98: 20 | J98: =ROUND(I98*H98,2) -> 0 | N98: základní | P98: =O98*H98 -> 0 | Q98: 0 | R98: =Q98*H98 -> 0 | S98: 0 | T98: =S98*H98 -> 0 | AR98: 4 | AT98: K | AU98: 1 | AY98: ROZPOCET | BE98: =IF(N98="základní",J98,0) -> 0 | BF98: =IF(N98="snížená",J98,0) -> 0 | BG98: =IF(N98="zákl. přenesená",J98,0) -> 0 | BH98: =IF(N98="sníž. přenesená",J98,0) -> 0 | BI98: =IF(N98="nulová",J98,0) -> 0 | BJ98: 1 | BK98: =ROUND(I98*H98,2) -> 0 | BL98: 4 | BM98: 4
D99: PP | F99: kabel JY(ST)Y 5x2x0,8 nebo UTP dle vybraného zařízení | AT99: PP | AU99: 1
D100: D | E100: D3 | F100: Sestava -PC vedení + pevné telefoní linky | J100: =BK100 -> 0 | P100: =SUM(P101:P108) -> 0 | R100: =SUM(R101:R108) -> 0 | T100: =SUM(T101:T108) -> 0 | AR100: 1 | AT100: D | AU100: 0 | AY100: ROZPOCET | BK100: =SUM(BK101:BK108) -> 0
C101: 3 | D101: K | E101: Pol150 | F101: Zásuvka RJ 45 VČETNĚ KRABICE | G101: ks | H101: 6 | J101: =ROUND(I101*H101,2) -> 0 | N101: základní | P101: =O101*H101 -> 0 | Q101: 0 | R101: =Q101*H101 -> 0 | S101: 0 | T101: =S101*H101 -> 0 | AR101: 4 | AT101: K | AU101: 1 | AY101: ROZPOCET | BE101: =IF(N101="základní",J101,0) -> 0 | BF101: =IF(N101="snížená",J101,0) -> 0 | BG101: =IF(N101="zákl. přenesená",J101,0) -> 0 | BH101: =IF(N101="sníž. přenesená",J101,0) -> 0 | BI101: =IF(N101="nulová",J101,0) -> 0 | BJ101: 1 | BK101: =ROUND(I101*H101,2) -> 0 | BL101: 4 | BM101: 6
D102: PP | F102: Zásuvka RJ 45 VČETNĚ KRABICE | AT102: PP | AU102: 1
C103: 4 | D103: K | E103: Pol151 | F103: Kabelové rozvody UTP | G103: m | H103: 30 | J103: =ROUND(I103*H103,2) -> 0 | N103: základní | P103: =O103*H103 -> 0 | Q103: 0 | R103: =Q103*H103 -> 0 | S103: 0 | T103: =S103*H103 -> 0 | AR103: 4 | AT103: K | AU103: 1 | AY103: ROZPOCET | BE103: =IF(N103="základní",J103,0) -> 0 | BF103: =IF(N103="snížená",J103,0) -> 0 | BG103: =IF(N103="zákl. přenesená",J103,0) -> 0 | BH103: =IF(N103="sníž. přenesená",J103,0) -> 0 | BI103: =IF(N103="nulová",J103,0) -> 0 | BJ103: 1 | BK103: =ROUND(I103*H103,2) -> 0 | BL103: 4 | BM103: 8
D104: PP | F104: Kabelové rozvody UTP | AT104: PP | AU104: 1
C105: 5 | D105: K | E105: Pol152 | F105: DÍLENSKÁ DOKUMENTACE | G105: kpl | H105: 1 | J105: =ROUND(I105*H105,2) -> 0 | N105: základní | P105: =O105*H105 -> 0 | Q105: 0 | R105: =Q105*H105 -> 0 | S105: 0 | T105: =S105*H105 -> 0 | AR105: 4 | AT105: K | AU105: 1 | AY105: ROZPOCET | BE105: =IF(N105="základní",J105,0) -> 0 | BF105: =IF(N105="snížená",J105,0) -> 0 | BG105: =IF(N105="zákl. přenesená",J105,0) -> 0 | BH105: =IF(N105="sníž. přenesená",J105,0) -> 0 | BI105: =IF(N105="nulová",J105,0) -> 0 | BJ105: 1 | BK105: =ROUND(I105*H105,2) -> 0 | BL105: 4 | BM105: 10
D106: PP | F106: DÍLENSKÁ DOKUMENTACE | AT106: PP | AU106: 1
C107: 6 | D107: K | E107: Pol153 | F107: TRUBKA OHEBNA INSTALAČNÍ D 13-29 | G107: m | H107: 60 | J107: =ROUND(I107*H107,2) -> 0 | N107: základní | P107: =O107*H107 -> 0 | Q107: 0 | R107: =Q107*H107 -> 0 | S107: 0 | T107: =S107*H107 -> 0 | AR107: 4 | AT107: K | AU107: 1 | AY107: ROZPOCET | BE107: =IF(N107="základní",J107,0) -> 0 | BF107: =IF(N107="snížená",J107,0) -> 0 | BG107: =IF(N107="zákl. přenesená",J107,0) -> 0 | BH107: =IF(N107="sníž. přenesená",J107,0) -> 0 | BI107: =IF(N107="nulová",J107,0) -> 0 | BJ107: 1 | BK107: =ROUND(I107*H107,2) -> 0 | BL107: 4 | BM107: 12
D108: PP | F108: TRUBKA OHEBNA INSTALAČNÍ D 13-29 | AT108: PP | AU108: 1
D109: D | E109: D4 | F109: TECHNOLOGIE STA+SAT | J109: =BK109 -> 0 | P109: =SUM(P110:P129) -> 0 | R109: =SUM(R110:R129) -> 0 | T109: =SUM(T110:T129) -> 0 | AR109: 1 | AT109: D | AU109: 0 | AY109: ROZPOCET | BK109: =SUM(BK110:BK129) -> 0
C110: 7 | D110: K | E110: Pol154 | F110: Antény-pozemní příjem+satelit | G110: kpl | H110: 1 | J110: =ROUND(I110*H110,2) -> 0 | N110: základní | P110: =O110*H110 -> 0 | Q110: 0 | R110: =Q110*H110 -> 0 | S110: 0 | T110: =S110*H110 -> 0 | AR110: 4 | AT110: K | AU110: 1 | AY110: ROZPOCET | BE110: =IF(N110="základní",J110,0) -> 0 | BF110: =IF(N110="snížená",J110,0) -> 0 | BG110: =IF(N110="zákl. přenesená",J110,0) -> 0 | BH110: =IF(N110="sníž. přenesená",J110,0) -> 0 | BI110: =IF(N110="nulová",J110,0) -> 0 | BJ110: 1 | BK110: =ROUND(I110*H110,2) -> 0 | BL110: 4 | BM110: 14
D111: PP | F111: Antény-pozemní příjem+satelit | AT111: PP | AU111: 1
C112: 8 | D112: K | E112: Pol155 | F112: zesilovače, rozbočovače | G112: kpl | H112: 1 | J112: =ROUND(I112*H112,2) -> 0 | N112: základní | P112: =O112*H112 -> 0 | Q112: 0 | R112: =Q112*H112 -> 0 | S112: 0 | T112: =S112*H112 -> 0 | AR112: 4 | AT112: K | AU112: 1 | AY112: ROZPOCET | BE112: =IF(N112="základní",J112,0) -> 0 | BF112: =IF(N112="snížená",J112,0) -> 0 | BG112: =IF(N112="zákl. přenesená",J112,0) -> 0 | BH112: =IF(N112="sníž. přenesená",J112,0) -> 0 | BI112: =IF(N112="nulová",J112,0) -> 0 | BJ112: 1 | BK112: =ROUND(I112*H112,2) -> 0 | BL112: 4 | BM112: 16
D113: PP | F113: zesilovače, rozbočovače | AT113: PP | AU113: 1
C114: 9 | D114: K | E114: Pol156 | F114: účastnické zásuvky | G114: ks | H114: 3 | J114: =ROUND(I114*H114,2) -> 0 | N114: základní | P114: =O114*H114 -> 0 | Q114: 0 | R114: =Q114*H114 -> 0 | S114: 0 | T114: =S114*H114 -> 0 | AR114: 4 | AT114: K | AU114: 1 | AY114: ROZPOCET | BE114: =IF(N114="základní",J114,0) -> 0 | BF114: =IF(N114="snížená",J114,0) -> 0 | BG114: =IF(N114="zákl. přenesená",J114,0) -> 0 | BH114: =IF(N114="sníž. přenesená",J114,0) -> 0 | BI114: =IF(N114="nulová",J114,0) -> 0 | BJ114: 1 | BK114: =ROUND(I114*H114,2) -> 0 | BL114: 4 | BM114: 18
D115: PP | F115: účastnické zásuvky | AT115: PP | AU115: 1
C116: 10 | D116: K | E116: Pol157 | F116: kabelové rozvody KOAXIÁLNÍ KABEL | G116: m | H116: 30 | J116: =ROUND(I116*H116,2) -> 0 | N116: základní | P116: =O116*H116 -> 0 | Q116: 0 | R116: =Q116*H116 -> 0 | S116: 0 | T116: =S116*H116 -> 0 | AR116: 4 | AT116: K | AU116: 1 | AY116: ROZPOCET | BE116: =IF(N116="základní",J116,0) -> 0 | BF116: =IF(N116="snížená",J116,0) -> 0 | BG116: =IF(N116="zákl. přenesená",J116,0) -> 0 | BH116: =IF(N116="sníž. přenesená",J116,0) -> 0 | BI116: =IF(N116="nulová",J116,0) -> 0 | BJ116: 1 | BK116: =ROUND(I116*H116,2) -> 0 | BL116: 4 | BM116: 20
D117: PP | F117: kabelové rozvody KOAXIÁLNÍ KABEL | AT117: PP | AU117: 1
C118: 11 | D118: K | E118: Pol158 | F118: uvedení do provozu | G118: kpl | H118: 1 | J118: =ROUND(I118*H118,2) -> 0 | N118: základní | P118: =O118*H118 -> 0 | Q118: 0 | R118: =Q118*H118 -> 0 | S118: 0 | T118: =S118*H118 -> 0 | AR118: 4 | AT118: K | AU118: 1 | AY118: ROZPOCET | BE118: =IF(N118="základní",J118,0) -> 0 | BF118: =IF(N118="snížená",J118,0) -> 0 | BG118: =IF(N118="zákl. přenesená",J118,0) -> 0 | BH118: =IF(N118="sníž. přenesená",J118,0) -> 0 | BI118: =IF(N118="nulová",J118,0) -> 0 | BJ118: 1 | BK118: =ROUND(I118*H118,2) -> 0 | BL118: 4 | BM118: 22
D119: PP | F119: uvedení do provozu | AT119: PP | AU119: 1
C120: 12 | D120: K | E120: Pol152 | F120: DÍLENSKÁ DOKUMENTACE | G120: kpl | H120: 1 | J120: =ROUND(I120*H120,2) -> 0 | N120: základní | P120: =O120*H120 -> 0 | Q120: 0 | R120: =Q120*H120 -> 0 | S120: 0 | T120: =S120*H120 -> 0 | AR120: 4 | AT120: K | AU120: 1 | AY120: ROZPOCET | BE120: =IF(N120="základní",J120,0) -> 0 | BF120: =IF(N120="snížená",J120,0) -> 0 | BG120: =IF(N120="zákl. přenesená",J120,0) -> 0 | BH120: =IF(N120="sníž. přenesená",J120,0) -> 0 | BI120: =IF(N120="nulová",J120,0) -> 0 | BJ120: 1 | BK120: =ROUND(I120*H120,2) -> 0 | BL120: 4 | BM120: 24
D121: PP | F121: DÍLENSKÁ DOKUMENTACE | AT121: PP | AU121: 1
C122: 13 | D122: K | E122: Pol159 | F122: AT - Anténní stožár s držákem | G122: ks | H122: 1 | J122: =ROUND(I122*H122,2) -> 0 | N122: základní | P122: =O122*H122 -> 0 | Q122: 0 | R122: =Q122*H122 -> 0 | S122: 0 | T122: =S122*H122 -> 0 | AR122: 4 | AT122: K | AU122: 1 | AY122: ROZPOCET | BE122: =IF(N122="základní",J122,0) -> 0 | BF122: =IF(N122="snížená",J122,0) -> 0 | BG122: =IF(N122="zákl. přenesená",J122,0) -> 0 | BH122: =IF(N122="sníž. přenesená",J122,0) -> 0 | BI122: =IF(N122="nulová",J122,0) -> 0 | BJ122: 1 | BK122: =ROUND(I122*H122,2) -> 0 | BL122: 4 | BM122: 26
D123: PP | F123: AT - Anténní stožár s držákem | AT123: PP | AU123: 1
C124: 14 | D124: K | E124: Pol153 | F124: TRUBKA OHEBNA INSTALAČNÍ D 13-29 | G124: m | H124: 30 | J124: =ROUND(I124*H124,2) -> 0 | N124: základní | P124: =O124*H124 -> 0 | Q124: 0 | R124: =Q124*H124 -> 0 | S124: 0 | T124: =S124*H124 -> 0 | AR124: 4 | AT124: K | AU124: 1 | AY124: ROZPOCET | BE124: =IF(N124="základní",J124,0) -> 0 | BF124: =IF(N124="snížená",J124,0) -> 0 | BG124: =IF(N124="zákl. přenesená",J124,0) -> 0 | BH124: =IF(N124="sníž. přenesená",J124,0) -> 0 | BI124: =IF(N124="nulová",J124,0) -> 0 | BJ124: 1 | BK124: =ROUND(I124*H124,2) -> 0 | BL124: 4 | BM124: 28
D125: PP | F125: TRUBKA OHEBNA INSTALAČNÍ D 13-29 | AT125: PP | AU125: 1
C126: 15 | D126: K | E126: Pol160 | F126: KRABICE PRISTROJOVA | G126: ks | H126: 3 | J126: =ROUND(I126*H126,2) -> 0 | N126: základní | P126: =O126*H126 -> 0 | Q126: 0 | R126: =Q126*H126 -> 0 | S126: 0 | T126: =S126*H126 -> 0 | AR126: 4 | AT126: K | AU126: 1 | AY126: ROZPOCET | BE126: =IF(N126="základní",J126,0) -> 0 | BF126: =IF(N126="snížená",J126,0) -> 0 | BG126: =IF(N126="zákl. přenesená",J126,0) -> 0 | BH126: =IF(N126="sníž. přenesená",J126,0) -> 0 | BI126: =IF(N126="nulová",J126,0) -> 0 | BJ126: 1 | BK126: =ROUND(I126*H126,2) -> 0 | BL126: 4 | BM126: 30
D127: PP | F127: KRABICE PRISTROJOVA | AT127: PP | AU127: 1
C128: 16 | D128: K | E128: Pol161 | F128: KRABICE ODBOCNA S VICKEM BEZ SVORKOVNICE pod omítku a dutých stěn | G128: ks | H128: 10 | J128: =ROUND(I128*H128,2) -> 0 | N128: základní | P128: =O128*H128 -> 0 | Q128: 0 | R128: =Q128*H128 -> 0 | S128: 0 | T128: =S128*H128 -> 0 | AR128: 4 | AT128: K | AU128: 1 | AY128: ROZPOCET | BE128: =IF(N128="základní",J128,0) -> 0 | BF128: =IF(N128="snížená",J128,0) -> 0 | BG128: =IF(N128="zákl. přenesená",J128,0) -> 0 | BH128: =IF(N128="sníž. přenesená",J128,0) -> 0 | BI128: =IF(N128="nulová",J128,0) -> 0 | BJ128: 1 | BK128: =ROUND(I128*H128,2) -> 0 | BL128: 4 | BM128: 32
D129: PP | F129: KRABICE ODBOCNA S VICKEM BEZ SVORKOVNICE pod omítku a dutých stěn | AT129: PP | AU129: 1
D130: D | E130: D5 | F130: Hodinové zúčtovací sazby | J130: =BK130 -> 0 | P130: =SUM(P131:P138) -> 0 | R130: =SUM(R131:R138) -> 0 | T130: =SUM(T131:T138) -> 0 | AR130: 1 | AT130: D | AU130: 0 | AY130: ROZPOCET | BK130: =SUM(BK131:BK138) -> 0
C131: 17 | D131: K | E131: Pol162 | F131: Revizni technik | G131: hod | H131: 3 | J131: =ROUND(I131*H131,2) -> 0 | N131: základní | P131: =O131*H131 -> 0 | Q131: 0 | R131: =Q131*H131 -> 0 | S131: 0 | T131: =S131*H131 -> 0 | AR131: 4 | AT131: K | AU131: 1 | AY131: ROZPOCET | BE131: =IF(N131="základní",J131,0) -> 0 | BF131: =IF(N131="snížená",J131,0) -> 0 | BG131: =IF(N131="zákl. přenesená",J131,0) -> 0 | BH131: =IF(N131="sníž. přenesená",J131,0) -> 0 | BI131: =IF(N131="nulová",J131,0) -> 0 | BJ131: 1 | BK131: =ROUND(I131*H131,2) -> 0 | BL131: 4 | BM131: 34
...

Sheet IO03 - Okapový chodníček
D1: List obsahuje: | F1: 1) Krycí list soupisu | G1: 2) Rekapitulace | J1: 3) Soupis prací | K1: Zpět na list: | L1: Rekapitulace stavby
AT2: {47dbdefd-9f29-4da9-9455-35737de775f0} | AZ2: Odkopávky | BC2: 2,04 | BD2: 2
AT3: 2 | AZ3: IO03 | BC3: 13,6 | BD3: 2
D4: KRYCÍ LIST SOUPISU | M4: v --- níže se nacházejí doplnkové a pomocné údaje k sestavám --- v | AT4: False | AZ4: Násyp | BC4: 2,04 | BD4: 2
D6: Stavba:
E7: ='Rekapitulace stavby'!K6 -> Transformace ÚSP pro mládež Kvasiny – výstavba v lokalitě Kostelec nad Orlicí 2
D8: Objekt:
E9: A - Hlavní aktivity projektu
D10: Soupis:
E11: D.2.1 - Komunikace a zpevněné plochy
D12: Úroveň 3:
E13: IO03 - Okapový chodníček
D15: KSO: | I15: CC-CZ:
D16: Místo: | I16: Datum: | J16: ='Rekapitulace stavby'!AN8 -> 11. 5. 2017
D18: Zadavatel: | I18: IČ: | J18: =IF('Rekapitulace stavby'!AN10="","",'Rekapitulace stavby'!AN10)
E19: =IF('Rekapitulace stavby'!E11="","",'Rekapitulace stavby'!E11) | I19: DIČ: | J19: =IF('Rekapitulace stavby'!AN11="","",'Rekapitulace stavby'!AN11)
D21: Uchazeč: | I21: IČ: | J21: =IF('Rekapitulace stavby'!AN13="Vyplň údaj","",IF('Rekapitulace stavby'!AN13="","",'Rekapitulace stavby'!AN13))
E22: =IF('Rekapitulace stavby'!E14="Vyplň údaj","",IF('Rekapitulace stavby'!E14="","",'Rekapitulace stavby'!E14)) | I22: DIČ: | J22: =IF('Rekapitulace stavby'!AN14="Vyplň údaj","",IF('Rekapitulace stavby'!AN14="","",'Rekapitulace stavby'!AN14))
D24: Projektant: | I24: IČ: | J24: =IF('Rekapitulace stavby'!AN16="","",'Rekapitulace stavby'!AN16)
E25: =IF('Rekapitulace stavby'!E17="","",'Rekapitulace stavby'!E17) | I25: DIČ: | J25: =IF('Rekapitulace stavby'!AN17="","",'Rekapitulace stavby'!AN17)
D27: Poznámka:
D31: Cena bez DPH | J31: =ROUND(J94,2) -> 0
F33: Základ daně | I33: Sazba daně | J33: Výše daně
D34: DPH | E34: základní | F34: =ROUND(SUM(BE94:BE138), 2) -> 0 | I34: 0.21 | J34: =ROUND(ROUND((SUM(BE94:BE138)), 2)*I34, 2) -> 0
E35: snížená | F35: =ROUND(SUM(BF94:BF138), 2) -> 0 | I35: 0.15 | J35: =ROUND(ROUND((SUM(BF94:BF138)), 2)*I35, 2) -> 0
E36: zákl. přenesená | F36: =ROUND(SUM(BG94:BG138), 2) -> 0 | I36: 0.21 | J36: 0
E37: sníž. přenesená | F37: =ROUND(SUM(BH94:BH138), 2) -> 0 | I37: 0.15 | J37: 0
E38: nulová | F38: =ROUND(SUM(BI94:BI138), 2) -> 0 | I38: 0 | J38: 0
D40: Cena s DPH | G40: v | H40: CZK | J40: =SUM(J31:J38) -> 0
C46: REKAPITULACE ČLENĚNÍ SOUPISU PRACÍ
C48: Stavba:
E49: =E7 -> Transformace ÚSP pro mládež Kvasiny – výstavba v lokalitě Kostelec nad Orlicí 2
C50: Objekt:
E51: A - Hlavní aktivity projektu
C52: Soupis:
E53: D.2.1 - Komunikace a zpevněné plochy
C54: Úroveň 3:
E55: =E13 -> IO03 - Okapový chodníček
C57: Místo: | F57: =F16 | I57: Datum: | J57: =IF(J16="","",J16) -> 11. 5. 2017
C59: Zadavatel: | F59: =E19 | I59: Projektant: | J59: =E25
C60: Uchazeč: | F60: =IF(E22="","",E22)
C62: Kód dílu - Popis | J62: Cena celkem [CZK]
C64: Náklady soupisu celkem | J64: =J94 -> 0 | AU64: -1
D65: HSV - Práce a dodávky HSV | J65: =J95 -> 0
D66: 1 - Zemní práce | J66: =J96 -> 0
D67: 2 - Zakládání | J67: =J115 -> 0
D68: 6 - Úpravy povrchů, podlahy a osazování výplní | J68: =J124 -> 0
D69: 9 - Ostatní konstrukce a práce, bourání | J69: =J129 -> 0
D70: 998 - Přesun hmot | J70: =J136 -> 0
C77: SOUPIS PRACÍ
C79: Stavba:
E80: =E7 -> Transformace ÚSP pro mládež Kvasiny – výstavba v lokalitě Kostelec nad Orlicí 2
C81: Objekt:
E82: A - Hlavní aktivity projektu
C83: Soupis:
E84: D.2.1 - Komunikace a zpevněné plochy
C85: Úroveň 3:
E86: =E13 -> IO03 - Okapový chodníček
C88: Místo: | F88: =F16 | I88: Datum: | J88: =IF(J16="","",J16) -> 11. 5. 2017
C90: Zadavatel: | F90: =E19 | I90: Projektant: | J90: =E25
C91: Uchazeč: | F91: =IF(E22="","",E22)
C93: PČ | D93: Typ | E93: Kód | F93: Popis | G93: MJ | H93: Množství | I93: J.cena [CZK] | J93: Cena celkem [CZK] | K93: Cenová soustava | M93: Poznámka | N93: DPH | O93: J. Nh [h] | P93: Nh celkem [h] | Q93: J. hmotnost_x000D_ [t] | R93: Hmotnost_x000D_ celkem [t] | S93: J. suť [t] | T93: Suť Celkem [t]
C94: Náklady soupisu celkem | J94: =BK94 -> 0 | P94: =P95 -> 0 | R94: =R95 -> 9.3126408 | T94: =T95 -> 0 | AT94: D | AU94: -1 | BK94: =BK95 -> 0
D95: D | E95: HSV | F95: Práce a dodávky HSV | J95: =BK95 -> 0 | P95: =P96+P115+P124+P129+P136 -> 0 | R95: =R96+R115+R124+R129+R136 -> 9.3126408 | T95: =T96+T115+T124+T129+T136 -> 0 | AR95: 1 | AT95: D | AU95: 0 | AY95: ROZPOCET | BK95: =BK96+BK115+BK124+BK129+BK136 -> 0
D96: D | E96: 1 | F96: Zemní práce | J96: =BK96 -> 0 | P96: =SUM(P97:P114) -> 0 | R96: =SUM(R97:R114) -> 0 | T96: =SUM(T97:T114) -> 0 | AR96: 1 | AT96: D | AU96: 1 | AY96: ROZPOCET | BK96: =SUM(BK97:BK114) -> 0
C97: 1 | D97: K | E97: 122202201 | F97: Odkopávky a prokopávky nezapažené pro silnice objemu do 100 m3 v hornině tř. 3 | G97: m3 | H97: 2.04 | J97: =ROUND(I97*H97,2) -> 0 | K97: CS ÚRS 2016 02 | N97: základní | P97: =O97*H97 -> 0 | Q97: 0 | R97: =Q97*H97 -> 0 | S97: 0 | T97: =S97*H97 -> 0 | AR97: 4 | AT97: K | AU97: 2 | AY97: ROZPOCET | BE97: =IF(N97="základní",J97,0) -> 0 | BF97: =IF(N97="snížená",J97,0) -> 0 | BG97: =IF(N97="zákl. přenesená",J97,0) -> 0 | BH97: =IF(N97="sníž. přenesená",J97,0) -> 0 | BI97: =IF(N97="nulová",J97,0) -> 0 | BJ97: 1 | BK97: =ROUND(I97*H97,2) -> 0 | BL97: 4 | BM97: -1387173912
D98: PP | F98: Odkopávky a prokopávky nezapažené pro silnice s přemístěním výkopku v příčných profilech na vzdálenost do 15 m nebo s naložením na dopravní prostředek v hornině tř. 3 do 100 m3 | AT98: PP | AU98: 2
D99: VV | F99: D.2.1 Komunikace | AT99: VV | AU99: 2 | AV99: 1 | AW99: True | AX99: 0 | AY99: ROZPOCET
D100: VV | E100: Odkopávky | F100: IO03*0,15 | H100: 2.04 | AT100: VV | AU100: 2 | AV100: 2 | AW100: True | AX100: 1 | AY100: ROZPOCET
C101: 2 | D101: K | E101: 162201102 | F101: Vodorovné přemístění do 50 m výkopku/sypaniny z horniny tř. 1 až 4 | G101: m3 | H101: 4.08 | J101: =ROUND(I101*H101,2) -> 0 | K101: CS ÚRS 2017 01 | N101: základní | P101: =O101*H101 -> 0 | Q101: 0 | R101: =Q101*H101 -> 0 | S101: 0 | T101: =S101*H101 -> 0 | AR101: 4 | AT101: K | AU101: 2 | AY101: ROZPOCET | BE101: =IF(N101="základní",J101,0) -> 0 | BF101: =IF(N101="snížená",J101,0) -> 0 | BG101: =IF(N101="zákl. přenesená",J101,0) -> 0 | BH101: =IF(N101="sníž. přenesená",J101,0) -> 0 | BI101: =IF(N101="nulová",J101,0) -> 0 | BJ101: 1 | BK101: =ROUND(I101*H101,2) -> 0 | BL101: 4 | BM101: 142065561
D102: PP | F102: Vodorovné přemístění výkopku nebo sypaniny po suchu na obvyklém dopravním prostředku, bez naložení výkopku, avšak se složením bez rozhrnutí z horniny tř. 1 až 4 na vzdálenost přes 20 do 50 m | AT102: PP | AU102: 2
D103: VV | F103: Násyp*2 | H103: 4.08 | AT103: VV | AU103: 2 | AV103: 2 | AW103: True | AX103: 1 | AY103: ROZPOCET
C104: 3 | D104: K | E104: 167101101 | F104: Nakládání výkopku z hornin tř. 1 až 4 do 100 m3 | G104: m3 | H104: 2.04 | J104: =ROUND(I104*H104,2) -> 0 | K104: CS ÚRS 2017 01 | N104: základní | P104: =O104*H104 -> 0 | Q104: 0 | R104: =Q104*H104 -> 0 | S104: 0 | T104: =S104*H104 -> 0 | AR104: 4 | AT104: K | AU104: 2 | AY104: ROZPOCET | BE104: =IF(N104="základní",J104,0) -> 0 | BF104: =IF(N104="snížená",J104,0) -> 0 | BG104: =IF(N104="zákl. přenesená",J104,0) -> 0 | BH104: =IF(N104="sníž. přenesená",J104,0) -> 0 | BI104: =IF(N104="nulová",J104,0) -> 0 | BJ104: 1 | BK104: =ROUND(I104*H104,2) -> 0 | BL104: 4 | BM104: -1988690062
D105: PP | F105: Nakládání, skládání a překládání neulehlého výkopku nebo sypaniny nakládání, množství do 100 m3, z hornin tř. 1 až 4 | AT105: PP | AU105: 2
D106: VV | F106: Násyp | H106: 2.04 | AT106: VV | AU106: 2 | AV106: 2 | AW106: True | AX106: 1 | AY106: ROZPOCET
C107: 4 | D107: K | E107: 171101104 | F107: Uložení sypaniny z hornin soudržných do násypů zhutněných do 102 % PS | G107: m3 | H107: 2.04 | J107: =ROUND(I107*H107,2) -> 0 | K107: CS ÚRS 2017 01 | N107: základní | P107: =O107*H107 -> 0 | Q107: 0 | R107: =Q107*H107 -> 0 | S107: 0 | T107: =S107*H107 -> 0 | AR107: 4 | AT107: K | AU107: 2 | AY107: ROZPOCET | BE107: =IF(N107="základní",J107,0) -> 0 | BF107: =IF(N107="snížená",J107,0) -> 0 | BG107: =IF(N107="zákl. přenesená",J107,0) -> 0 | BH107: =IF(N107="sníž. přenesená",J107,0) -> 0 | BI107: =IF(N107="nulová",J107,0) -> 0 | BJ107: 1 | BK107: =ROUND(I107*H107,2) -> 0 | BL107: 4 | BM107: 675764494
D108: PP | F108: Uložení sypaniny do násypů s rozprostřením sypaniny ve vrstvách a s hrubým urovnáním zhutněných s uzavřením povrchu násypu z hornin soudržných s předepsanou mírou zhutnění v procentech výsledků zkoušek Proctor-Standard (dále jen PS) přes 100 do 102 % PS | AT108: PP | AU108: 2
D109: VV | F109: Uložení sypaniny v rámci terénních úprav | AT109: VV | AU109: 2 | AV109: 1 | AW109: True | AX109: 0 | AY109: ROZPOCET
D110: VV | E110: Násyp | F110: Odkopávky | H110: 2.04 | AT110: VV | AU110: 2 | AV110: 2 | AW110: True | AX110: 1 | AY110: ROZPOCET
C111: 5 | D111: K | E111: 181951102 | F111: Úprava pláně v hornině tř. 1 až 4 se zhutněním | G111: m2 | H111: 13.6 | J111: =ROUND(I111*H111,2) -> 0 | K111: CS ÚRS 2016 02 | N111: základní | P111: =O111*H111 -> 0 | Q111: 0 | R111: =Q111*H111 -> 0 | S111: 0 | T111: =S111*H111 -> 0 | AR111: 4 | AT111: K | AU111: 2 | AY111: ROZPOCET | BE111: =IF(N111="základní",J111,0) -> 0 | BF111: =IF(N111="snížená",J111,0) -> 0 | BG111: =IF(N111="zákl. přenesená",J111,0) -> 0 | BH111: =IF(N111="sníž. přenesená",J111,0) -> 0 | BI111: =IF(N111="nulová",J111,0) -> 0 | BJ111: 1 | BK111: =ROUND(I111*H111,2) -> 0 | BL111: 4 | BM111: 260283131
D112: PP | F112: Úprava pláně vyrovnáním výškových rozdílů v hornině tř. 1 až 4 se zhutněním | AT112: PP | AU112: 2
D113: VV | F113: D.2.1 Komunikace | AT113: VV | AU113: 2 | AV113: 1 | AW113: True | AX113: 0 | AY113: ROZPOCET
D114: VV | F114: IO03 | H114: 13.6 | AT114: VV | AU114: 2 | AV114: 2 | AW114: True | AX114: 1 | AY114: ROZPOCET
D115: D | E115: 2 | F115: Zakládání | J115: =BK115 -> 0 | P115: =SUM(P116:P123) -> 0 | R115: =SUM(R116:R123) -> 0.0064328 | T115: =SUM(T116:T123) -> 0 | AR115: 1 | AT115: D | AU115: 1 | AY115: ROZPOCET | BK115: =SUM(BK116:BK123) -> 0
C116: 6 | D116: K | E116: 213141111 | F116: Zřízení vrstvy z geotextilie v rovině nebo ve sklonu do 1:5 š do 3 m | G116: m2 | H116: 14.96 | J116: =ROUND(I116*H116,2) -> 0 | K116: CS ÚRS 2016 02 | N116: základní | P116: =O116*H116 -> 0 | Q116: 0.0001 | R116: =Q116*H116 -> 0.001496 | S116: 0 | T116: =S116*H116 -> 0 | AR116: 4 | AT116: K | AU116: 2 | AY116: ROZPOCET | BE116: =IF(N116="základní",J116,0) -> 0 | BF116: =IF(N116="snížená",J116,0) -> 0 | BG116: =IF(N116="zákl. přenesená",J116,0) -> 0 | BH116: =IF(N116="sníž. přenesená",J116,0) -> 0 | BI116: =IF(N116="nulová",J116,0) -> 0 | BJ116: 1 | BK116: =ROUND(I116*H116,2) -> 0 | BL116: 4 | BM116: 280725069
D117: PP | F117: Zřízení vrstvy z geotextilie filtrační, separační, odvodňovací, ochranné, výztužné nebo protierozní v rovině nebo ve sklonu do 1:5, šířky do 3 m | AT117: PP | AU117: 2
D118: VV | F118: Geotextilie vč. vytažení nad terén | AT118: VV | AU118: 2 | AV118: 1 | AW118: True | AX118: 0 | AY118: ROZPOCET
D119: VV | F119: IO03*1,1 | H119: 14.96 | AT119: VV | AU119: 2 | AV119: 2 | AW119: True | AX119: 1 | AY119: ROZPOCET
C120: 7 | D120: M | E120: 693110620 | F120: geotextilie netkaná, 300 g/m2, šíře 200 cm | G120: m2 | H120: 16.456 | J120: =ROUND(I120*H120,2) -> 0 | K120: CS ÚRS 2016 02 | N120: základní | P120: =O120*H120 -> 0 | Q120: 0.0003 | R120: =Q120*H120 -> 0.0049368 | S120: 0 | T120: =S120*H120 -> 0 | AR120: 8 | AT120: M | AU120: 2 | AY120: ROZPOCET | BE120: =IF(N120="základní",J120,0) -> 0 | BF120: =IF(N120="snížená",J120,0) -> 0 | BG120: =IF(N120="zákl. přenesená",J120,0) -> 0 | BH120: =IF(N120="sníž. přenesená",J120,0) -> 0 | BI120: =IF(N120="nulová",J120,0) -> 0 | BJ120: 1 | BK120: =ROUND(I120*H120,2) -> 0 | BL120: 4 | BM120: 2048446409
D121: PP | F121: geotextilie z polyesterových vláken netkaná, 300 g/m2, šíře 200 cm | AT121: PP | AU121: 2
D122: P | F122: Poznámka k položce: geoNETEX M 300, Plošná hmotnost: 300 g/m2, Pevnost v tahu (podélně/příčně): 3,0/2,5 kN/m, Statické protržení (CBR): 400 N, Funkce: F, F+S Šířka: 2 m, Délka nábalu: 50 m | AT122: P | AU122: 2
D123: VV | F123: 14,96*1,1 'Přepočtené koeficientem množství | H123: 16.456 | AT123: VV | AU123: 2 | AV123: 2 | AW123: False | AX123: 1 | AY123: ROZPOCET
D124: D | E124: 6 | F124: Úpravy povrchů, podlahy a osazování výplní | J124: =BK124 -> 0 | P124: =SUM(P125:P128) -> 0 | R124: =SUM(R125:R128) -> 3.74816 | T124: =SUM(T125:T128) -> 0 | AR124: 1 | AT124: D | AU124: 1 | AY124: ROZPOCET | BK124: =SUM(BK125:BK128) -> 0
C125: 8 | D125: K | E125: 637121112 | F125: Okapový chodník z kačírku tl 150 mm s udusáním | G125: m2 | H125: 13.6 | J125: =ROUND(I125*H125,2) -> 0 | K125: CS ÚRS 2017 01 | N125: základní | P125: =O125*H125 -> 0 | Q125: 0.2756 | R125: =Q125*H125 -> 3.74816 | S125: 0 | T125: =S125*H125 -> 0 | AR125: 4 | AT125: K | AU125: 2 | AY125: ROZPOCET | BE125: =IF(N125="základní",J125,0) -> 0 | BF125: =IF(N125="snížená",J125,0) -> 0 | BG125: =IF(N125="zákl. přenesená",J125,0) -> 0 | BH125: =IF(N125="sníž. přenesená",J125,0) -> 0 | BI125: =IF(N125="nulová",J125,0) -> 0 | BJ125: 1 | BK125: =ROUND(I125*H125,2) -> 0 | BL125: 4 | BM125: -1650464555
D126: PP | F126: Okapový chodník z kameniva s udusáním a urovnáním povrchu z kačírku tl. 150 mm | AT126: PP | AU126: 2
D127: VV | F127: D.2.1 Komunikace a zpevněné plochy | AT127: VV | AU127: 2 | AV127: 1 | AW127: True | AX127: 0 | AY127: ROZPOCET
D128: VV | E128: IO03 | F128: (6,15+21,05)*0,5 | H128: 13.6 | AT128: VV | AU128: 2 | AV128: 2 | AW128: True | AX128: 1 | AY128: ROZPOCET
D129: D | E129: 9 | F129: Ostatní konstrukce a práce, bourání | J129: =BK129 -> 0 | P129: =SUM(P130:P135) -> 0 | R129: =SUM(R130:R135) -> 5.558048 | T129: =SUM(T130:T135) -> 0 | AR129: 1 | AT129: D | AU129: 1 | AY129: ROZPOCET | BK129: =SUM(BK130:BK135) -> 0
C130: 9 | D130: K | E130: 916231112 | F130: Osazení chodníkového obrubníku betonového ležatého bez boční opěry do lože z betonu prostého | G130: m | H130: 27.2 | J130: =ROUND(I130*H130,2) -> 0 | K130: CS ÚRS 2017 01 | N130: základní | P130: =O130*H130 -> 0 | Q130: 0.11934 | R130: =Q130*H130 -> 3.246048 | S130: 0 | T130: =S130*H130 -> 0 | AR130: 4 | AT130: K | AU130: 2 | AY130: ROZPOCET | BE130: =IF(N130="základní",J130,0) -> 0 | BF130: =IF(N130="snížená",J130,0) -> 0 | BG130: =IF(N130="zákl. přenesená",J130,0) -> 0 | BH130: =IF(N130="sníž. přenesená",J130,0) -> 0 | BI130: =IF(N130="nulová",J130,0) -> 0 | BJ130: 1 | BK130: =ROUND(I130*H130,2) -> 0 | BL130: 4 | BM130: -1125720196
D131: PP | F131: Osazení chodníkového obrubníku betonového se zřízením lože, s vyplněním a zatřením spár cementovou maltou ležatého bez boční opěry, do lože z betonu prostého tř. C 12/15 | AT131: PP | AU131: 2
...

Sheet TI01 - Vodovod
D1: List obsahuje: | F1: 1) Krycí list soupisu | G1: 2) Rekapitulace | J1: 3) Soupis prací | K1: Zpět na list: | L1: Rekapitulace stavby
AT2: {c767ab61-5148-4374-b833-337106463f41} | AZ2: Odvoz | BC2: 32,515 | BD2: 2
AT3: 2
D4: KRYCÍ LIST SOUPISU | M4: v --- níže se nacházejí doplnkové a pomocné údaje k sestavám --- v | AT4: False
D6: Stavba:
E7: ='Rekapitulace stavby'!K6 -> Transformace ÚSP pro mládež Kvasiny – výstavba v lokalitě Kostelec nad Orlicí 2
D8: Objekt:
E9: A - Hlavní aktivity projektu
D10: Soupis:
E11: D.2.2 - Kanalizace a vodovod
D12: Úroveň 3:
E13: TI01 - Vodovod
D15: KSO: | I15: CC-CZ:
D16: Místo: | I16: Datum: | J16: ='Rekapitulace stavby'!AN8 -> 11. 5. 2017
D18: Zadavatel: | I18: IČ: | J18: =IF('Rekapitulace stavby'!AN10="","",'Rekapitulace stavby'!AN10)
E19: =IF('Rekapitulace stavby'!E11="","",'Rekapitulace stavby'!E11) | I19: DIČ: | J19: =IF('Rekapitulace stavby'!AN11="","",'Rekapitulace stavby'!AN11)
D21: Uchazeč: | I21: IČ: | J21: =IF('Rekapitulace stavby'!AN13="Vyplň údaj","",IF('Rekapitulace stavby'!AN13="","",'Rekapitulace stavby'!AN13))
E22: =IF('Rekapitulace stavby'!E14="Vyplň údaj","",IF('Rekapitulace stavby'!E14="","",'Rekapitulace stavby'!E14)) | I22: DIČ: | J22: =IF('Rekapitulace stavby'!AN14="Vyplň údaj","",IF('Rekapitulace stavby'!AN14="","",'Rekapitulace stavby'!AN14))
D24: Projektant: | I24: IČ: | J24: =IF('Rekapitulace stavby'!AN16="","",'Rekapitulace stavby'!AN16)
E25: =IF('Rekapitulace stavby'!E17="","",'Rekapitulace stavby'!E17) | I25: DIČ: | J25: =IF('Rekapitulace stavby'!AN17="","",'Rekapitulace stavby'!AN17)
D27: Poznámka:
D31: Cena bez DPH | J31: =ROUND(J95,2) -> 0
F33: Základ daně | I33: Sazba daně | J33: Výše daně
D34: DPH | E34: základní | F34: =ROUND(SUM(BE95:BE237), 2) -> 0 | I34: 0.21 | J34: =ROUND(ROUND((SUM(BE95:BE237)), 2)*I34, 2) -> 0
E35: snížená | F35: =ROUND(SUM(BF95:BF237), 2) -> 0 | I35: 0.15 | J35: =ROUND(ROUND((SUM(BF95:BF237)), 2)*I35, 2) -> 0
E36: zákl. přenesená | F36: =ROUND(SUM(BG95:BG237), 2) -> 0 | I36: 0.21 | J36: 0
E37: sníž. přenesená | F37: =ROUND(SUM(BH95:BH237), 2) -> 0 | I37: 0.15 | J37: 0
E38: nulová | F38: =ROUND(SUM(BI95:BI237), 2) -> 0 | I38: 0 | J38: 0
D40: Cena s DPH | G40: v | H40: CZK | J40: =SUM(J31:J38) -> 0
C46: REKAPITULACE ČLENĚNÍ SOUPISU PRACÍ
C48: Stavba:
E49: =E7 -> Transformace ÚSP pro mládež Kvasiny – výstavba v lokalitě Kostelec nad Orlicí 2
C50: Objekt:
E51: A - Hlavní aktivity projektu
C52: Soupis:
E53: D.2.2 - Kanalizace a vodovod
C54: Úroveň 3:
E55: =E13 -> TI01 - Vodovod
C57: Místo: | F57: =F16 | I57: Datum: | J57: =IF(J16="","",J16) -> 11. 5. 2017
C59: Zadavatel: | F59: =E19 | I59: Projektant: | J59: =E25
C60: Uchazeč: | F60: =IF(E22="","",E22)
C62: Kód dílu - Popis | J62: Cena celkem [CZK]
C64: Náklady soupisu celkem | J64: =J95 -> 0 | AU64: -1
D65: HSV - Práce a dodávky HSV | J65: =J96 -> 0
D66: 1 - Zemní práce | J66: =J97 -> 0
D67: 4 - Vodorovné konstrukce | J67: =J175 -> 0
D68: 8 - Trubní vedení | J68: =J194 -> 0
D69: 99 - Přesun hmot | J69: =J231 -> 0
D70: PSV - Práce a dodávky PSV | J70: =J234 -> 0
D71: 722 - Zdravotechnika - vnitřní vodovod | J71: =J235 -> 0
C78: SOUPIS PRACÍ
C80: Stavba:
E81: =E7 -> Transformace ÚSP pro mládež Kvasiny – výstavba v lokalitě Kostelec nad Orlicí 2
C82: Objekt:
E83: A - Hlavní aktivity projektu
C84: Soupis:
E85: D.2.2 - Kanalizace a vodovod
C86: Úroveň 3:
E87: =E13 -> TI01 - Vodovod
C89: Místo: | F89: =F16 | I89: Datum: | J89: =IF(J16="","",J16) -> 11. 5. 2017
C91: Zadavatel: | F91: =E19 | I91: Projektant: | J91: =E25
C92: Uchazeč: | F92: =IF(E22="","",E22)
C94: PČ | D94: Typ | E94: Kód | F94: Popis | G94: MJ | H94: Množství | I94: J.cena [CZK] | J94: Cena celkem [CZK] | K94: Cenová soustava | M94: Poznámka | N94: DPH | O94: J. Nh [h] | P94: Nh celkem [h] | Q94: J. hmotnost_x000D_ [t] | R94: Hmotnost_x000D_ celkem [t] | S94: J. suť [t] | T94: Suť Celkem [t]
C95: Náklady soupisu celkem | J95: =BK95 -> 0 | P95: =P96+P234 -> 0 | R95: =R96+R234 -> 8.9756071 | T95: =T96+T234 -> 0 | AT95: D | AU95: -1 | BK95: =BK96+BK234 -> 0
D96: D | E96: HSV | F96: Práce a dodávky HSV | J96: =BK96 -> 0 | P96: =P97+P175+P194+P231 -> 0 | R96: =R97+R175+R194+R231 -> 8.9736071 | T96: =T97+T175+T194+T231 -> 0 | AR96: 1 | AT96: D | AU96: 0 | AY96: ROZPOCET | BK96: =BK97+BK175+BK194+BK231 -> 0
D97: D | E97: 1 | F97: Zemní práce | J97: =BK97 -> 0 | P97: =SUM(P98:P174) -> 0 | R97: =SUM(R98:R174) -> 0.107751 | T97: =SUM(T98:T174) -> 0 | AR97: 1 | AT97: D | AU97: 1 | AY97: ROZPOCET | BK97: =SUM(BK98:BK174) -> 0
C98: 1 | D98: K | E98: 131201201 | F98: Hloubení jam zapažených v hornině tř. 3 objemu do 100 m3 | G98: m3 | H98: 22.05 | J98: =ROUND(I98*H98,2) -> 0 | K98: CS ÚRS 2017 01 | N98: základní | P98: =O98*H98 -> 0 | Q98: 0 | R98: =Q98*H98 -> 0 | S98: 0 | T98: =S98*H98 -> 0 | AR98: 4 | AT98: K | AU98: 2 | AY98: ROZPOCET | BE98: =IF(N98="základní",J98,0) -> 0 | BF98: =IF(N98="snížená",J98,0) -> 0 | BG98: =IF(N98="zákl. přenesená",J98,0) -> 0 | BH98: =IF(N98="sníž. přenesená",J98,0) -> 0 | BI98: =IF(N98="nulová",J98,0) -> 0 | BJ98: 1 | BK98: =ROUND(I98*H98,2) -> 0 | BL98: 4 | BM98: 2
D99: PP | F99: Hloubení jam zapažených v hornině tř. 3 objemu do 100 m3 | AT99: PP | AU99: 2
D100: VV | F100: (3,5*3,5*1,8) "VDM šachta | H100: 22.05 | AT100: VV | AU100: 2 | AV100: 2 | AW100: True | AX100: 0 | AY100: ROZPOCET
D101: VV | F101: Součet | H101: 22.05 | AT101: VV | AU101: 2 | AV101: 4 | AW101: True | AX101: 1 | AY101: ROZPOCET
C102: 2 | D102: K | E102: 131201209 | F102: Příplatek za lepivost u hloubení jam zapažených v hornině tř. 3 | G102: m3 | H102: 11.025 | J102: =ROUND(I102*H102,2) -> 0 | K102: CS ÚRS 2017 01 | N102: základní | P102: =O102*H102 -> 0 | Q102: 0 | R102: =Q102*H102 -> 0 | S102: 0 | T102: =S102*H102 -> 0 | AR102: 4 | AT102: K | AU102: 2 | AY102: ROZPOCET | BE102: =IF(N102="základní",J102,0) -> 0 | BF102: =IF(N102="snížená",J102,0) -> 0 | BG102: =IF(N102="zákl. přenesená",J102,0) -> 0 | BH102: =IF(N102="sníž. přenesená",J102,0) -> 0 | BI102: =IF(N102="nulová",J102,0) -> 0 | BJ102: 1 | BK102: =ROUND(I102*H102,2) -> 0 | BL102: 4 | BM102: 4
D103: PP | F103: Příplatek za lepivost u hloubení jam zapažených v hornině tř. 3 | AT103: PP | AU103: 2
D104: VV | F104: 0,5*22,05 "výkop jam | H104: 11.025 | AT104: VV | AU104: 2 | AV104: 2 | AW104: True | AX104: 0 | AY104: ROZPOCET
D105: VV | F105: Součet | H105: 11.025 | AT105: VV | AU105: 2 | AV105: 4 | AW105: True | AX105: 1 | AY105: ROZPOCET
C106: 3 | D106: K | E106: 132201201 | F106: Hloubení rýh š do 2000 mm v hornině tř. 3 objemu do 100 m3 | G106: m3 | H106: 36.4 | J106: =ROUND(I106*H106,2) -> 0 | K106: CS ÚRS 2017 01 | N106: základní | P106: =O106*H106 -> 0 | Q106: 0 | R106: =Q106*H106 -> 0 | S106: 0 | T106: =S106*H106 -> 0 | AR106: 4 | AT106: K | AU106: 2 | AY106: ROZPOCET | BE106: =IF(N106="základní",J106,0) -> 0 | BF106: =IF(N106="snížená",J106,0) -> 0 | BG106: =IF(N106="zákl. přenesená",J106,0) -> 0 | BH106: =IF(N106="sníž. přenesená",J106,0) -> 0 | BI106: =IF(N106="nulová",J106,0) -> 0 | BJ106: 1 | BK106: =ROUND(I106*H106,2) -> 0 | BL106: 4 | BM106: 6
D107: PP | F107: Hloubení rýh š do 2000 mm v hornině tř. 3 objemu do 100 m3 | AT107: PP | AU107: 2
D108: VV | F108: (35,0*0,8*1,3) "vodovod | H108: 36.4 | AT108: VV | AU108: 2 | AV108: 2 | AW108: True | AX108: 0 | AY108: ROZPOCET
D109: VV | F109: Součet | H109: 36.4 | AT109: VV | AU109: 2 | AV109: 4 | AW109: True | AX109: 1 | AY109: ROZPOCET
C110: 4 | D110: K | E110: 132212209 | F110: Příplatek za lepivost u hloubení rýh š do 2000 mm ručním nebo pneum nářadím v hornině tř. 3 | G110: m3 | H110: 18.2 | J110: =ROUND(I110*H110,2) -> 0 | K110: CS ÚRS 2017 01 | N110: základní | P110: =O110*H110 -> 0 | Q110: 0 | R110: =Q110*H110 -> 0 | S110: 0 | T110: =S110*H110 -> 0 | AR110: 4 | AT110: K | AU110: 2 | AY110: ROZPOCET | BE110: =IF(N110="základní",J110,0) -> 0 | BF110: =IF(N110="snížená",J110,0) -> 0 | BG110: =IF(N110="zákl. přenesená",J110,0) -> 0 | BH110: =IF(N110="sníž. přenesená",J110,0) -> 0 | BI110: =IF(N110="nulová",J110,0) -> 0 | BJ110: 1 | BK110: =ROUND(I110*H110,2) -> 0 | BL110: 4 | BM110: 8
D111: PP | F111: Příplatek za lepivost u hloubení rýh š do 2000 mm ručním nebo pneum nářadím v hornině tř. 3 | AT111: PP | AU111: 2
D112: VV | F112: 0,5*36,40 "výkop rýh | H112: 18.2 | AT112: VV | AU112: 2 | AV112: 2 | AW112: True | AX112: 0 | AY112: ROZPOCET
D113: VV | F113: Součet | H113: 18.2 | AT113: VV | AU113: 2 | AV113: 4 | AW113: True | AX113: 1 | AY113: ROZPOCET
C114: 5 | D114: K | E114: 151101101 | F114: Zřízení příložného pažení a rozepření stěn rýh hl do 2 m | G114: m2 | H114: 116.2 | J114: =ROUND(I114*H114,2) -> 0 | K114: CS ÚRS 2017 01 | N114: základní | P114: =O114*H114 -> 0 | Q114: 0.00084 | R114: =Q114*H114 -> 0.097608 | S114: 0 | T114: =S114*H114 -> 0 | AR114: 4 | AT114: K | AU114: 2 | AY114: ROZPOCET | BE114: =IF(N114="základní",J114,0) -> 0 | BF114: =IF(N114="snížená",J114,0) -> 0 | BG114: =IF(N114="zákl. přenesená",J114,0) -> 0 | BH114: =IF(N114="sníž. přenesená",J114,0) -> 0 | BI114: =IF(N114="nulová",J114,0) -> 0 | BJ114: 1 | BK114: =ROUND(I114*H114,2) -> 0 | BL114: 4 | BM114: 10
D115: PP | F115: Zřízení příložného pažení a rozepření stěn rýh hl do 2 m | AT115: PP | AU115: 2
D116: VV | F116: (2*35,0*1,3) "vodovod | H116: 91 | AT116: VV | AU116: 2 | AV116: 2 | AW116: True | AX116: 0 | AY116: ROZPOCET
D117: VV | F117: (2*(3,5+3,5)*1,8) "VDM šachta | H117: 25.2 | AT117: VV | AU117: 2 | AV117: 2 | AW117: True | AX117: 0 | AY117: ROZPOCET
D118: VV | F118: Součet | H118: 116.2 | AT118: VV | AU118: 2 | AV118: 4 | AW118: True | AX118: 1 | AY118: ROZPOCET
C119: 6 | D119: K | E119: 151101111 | F119: Odstranění příložného pažení a rozepření stěn rýh hl do 2 m | G119: m2 | H119: 116.2 | J119: =ROUND(I119*H119,2) -> 0 | K119: CS ÚRS 2017 01 | N119: základní | P119: =O119*H119 -> 0 | Q119: 0 | R119: =Q119*H119 -> 0 | S119: 0 | T119: =S119*H119 -> 0 | AR119: 4 | AT119: K | AU119: 2 | AY119: ROZPOCET | BE119: =IF(N119="základní",J119,0) -> 0 | BF119: =IF(N119="snížená",J119,0) -> 0 | BG119: =IF(N119="zákl. přenesená",J119,0) -> 0 | BH119: =IF(N119="sníž. přenesená",J119,0) -> 0 | BI119: =IF(N119="nulová",J119,0) -> 0 | BJ119: 1 | BK119: =ROUND(I119*H119,2) -> 0 | BL119: 4 | BM119: 12
D120: PP | F120: Odstranění příložného pažení a rozepření stěn rýh hl do 2 m | AT120: PP | AU120: 2
C121: 7 | D121: K | E121: 151101301 | F121: Zřízení rozepření stěn při pažení příložném hl do 4 m | G121: m3 | H121: 22.05 | J121: =ROUND(I121*H121,2) -> 0 | K121: CS ÚRS 2017 01 | N121: základní | P121: =O121*H121 -> 0 | Q121: 0.00046 | R121: =Q121*H121 -> 0.010143 | S121: 0 | T121: =S121*H121 -> 0 | AR121: 4 | AT121: K | AU121: 2 | AY121: ROZPOCET | BE121: =IF(N121="základní",J121,0) -> 0 | BF121: =IF(N121="snížená",J121,0) -> 0 | BG121: =IF(N121="zákl. přenesená",J121,0) -> 0 | BH121: =IF(N121="sníž. přenesená",J121,0) -> 0 | BI121: =IF(N121="nulová",J121,0) -> 0 | BJ121: 1 | BK121: =ROUND(I121*H121,2) -> 0 | BL121: 4 | BM121: 14
D122: PP | F122: Zřízení rozepření stěn při pažení příložném hl do 4 m | AT122: PP | AU122: 2
D123: VV | F123: 22,05 "hloubené vykopávky jam | H123: 22.05 | AT123: VV | AU123: 2 | AV123: 2 | AW123: True | AX123: 0 | AY123: ROZPOCET
D124: VV | F124: Součet | H124: 22.05 | AT124: VV | AU124: 2 | AV124: 4 | AW124: True | AX124: 1 | AY124: ROZPOCET
C125: 8 | D125: K | E125: 151101311 | F125: Odstranění rozepření stěn při pažení příložném hl do 4 m | G125: m3 | H125: 22.05 | J125: =ROUND(I125*H125,2) -> 0 | K125: CS ÚRS 2017 01 | N125: základní | P125: =O125*H125 -> 0 | Q125: 0 | R125: =Q125*H125 -> 0 | S125: 0 | T125: =S125*H125 -> 0 | AR125: 4 | AT125: K | AU125: 2 | AY125: ROZPOCET | BE125: =IF(N125="základní",J125,0) -> 0 | BF125: =IF(N125="snížená",J125,0) -> 0 | BG125: =IF(N125="zákl. přenesená",J125,0) -> 0 | BH125: =IF(N125="sníž. přenesená",J125,0) -> 0 | BI125: =IF(N125="nulová",J125,0) -> 0 | BJ125: 1 | BK125: =ROUND(I125*H125,2) -> 0 | BL125: 4 | BM125: 16
D126: PP | F126: Odstranění rozepření stěn při pažení příložném hl do 4 m | AT126: PP | AU126: 2
C127: 9 | D127: K | E127: 161101101 | F127: Svislé přemístění výkopku z horniny tř. 1 až 4 hl výkopu do 2,5 m | G127: m3 | H127: 58.45 | J127: =ROUND(I127*H127,2) -> 0 | K127: CS ÚRS 2017 01 | N127: základní | P127: =O127*H127 -> 0 | Q127: 0 | R127: =Q127*H127 -> 0 | S127: 0 | T127: =S127*H127 -> 0 | AR127: 4 | AT127: K | AU127: 2 | AY127: ROZPOCET | BE127: =IF(N127="základní",J127,0) -> 0 | BF127: =IF(N127="snížená",J127,0) -> 0 | BG127: =IF(N127="zákl. přenesená",J127,0) -> 0 | BH127: =IF(N127="sníž. přenesená",J127,0) -> 0 | BI127: =IF(N127="nulová",J127,0) -> 0 | BJ127: 1 | BK127: =ROUND(I127*H127,2) -> 0 | BL127: 4 | BM127: 18
D128: PP | F128: Svislé přemístění výkopku z horniny tř. 1 až 4 hl výkopu do 2,5 m | AT128: PP | AU128: 2
D129: VV | F129: 22,05+36,40 "hloubené vykopávky | H129: 58.45 | AT129: VV | AU129: 2 | AV129: 2 | AW129: True | AX129: 0 | AY129: ROZPOCET
D130: VV | F130: Součet | H130: 58.45 | AT130: VV | AU130: 2 | AV130: 4 | AW130: True | AX130: 1 | AY130: ROZPOCET
C131: 10 | D131: K | E131: 162701105 | F131: Vodorovné přemístění do 10000 m výkopku/sypaniny z horniny tř. 1 až 4 | G131: m3 | H131: 32.515 | J131: =ROUND(I131*H131,2) -> 0 | K131: CS ÚRS 2017 01 | N131: základní | P131: =O131*H131 -> 0 | Q131: 0 | R131: =Q131*H131 -> 0 | S131: 0 | T131: =S131*H131 -> 0 | AR131: 4 | AT131: K | AU131: 2 | AY131: ROZPOCET | BE131: =IF(N131="základní",J131,0) -> 0 | BF131: =IF(N131="snížená",J131,0) -> 0 | BG131: =IF(N131="zákl. přenesená",J131,0) -> 0 | BH131: =IF(N131="sníž. přenesená",J131,0) -> 0 | BI131: =IF(N131="nulová",J131,0) -> 0 | BJ131: 1 | BK131: =ROUND(I131*H131,2) -> 0 | BL131: 4 | BM131: 20
...

Sheet TI02 - Splašková kanalizace
D1: List obsahuje: | F1: 1) Krycí list soupisu | G1: 2) Rekapitulace | J1: 3) Soupis prací | K1: Zpět na list: | L1: Rekapitulace stavby
AT2: {81789de1-3b75-4e10-af4b-0fe5f8e532cd} | AZ2: Odvoz | BC2: 24,48 | BD2: 2
AT3: 2
D4: KRYCÍ LIST SOUPISU | M4: v --- níže se nacházejí doplnkové a pomocné údaje k sestavám --- v | AT4: False
D6: Stavba:
E7: ='Rekapitulace stavby'!K6 -> Transformace ÚSP pro mládež Kvasiny – výstavba v lokalitě Kostelec nad Orlicí 2
D8: Objekt:
E9: A - Hlavní aktivity projektu
D10: Soupis:
E11: D.2.2 - Kanalizace a vodovod
D12: Úroveň 3:
E13: TI02 - Splašková kanalizace
D15: KSO: | I15: CC-CZ:
D16: Místo: | I16: Datum: | J16: ='Rekapitulace stavby'!AN8 -> 11. 5. 2017
D18: Zadavatel: | I18: IČ: | J18: =IF('Rekapitulace stavby'!AN10="","",'Rekapitulace stavby'!AN10)
E19: =IF('Rekapitulace stavby'!E11="","",'Rekapitulace stavby'!E11) | I19: DIČ: | J19: =IF('Rekapitulace stavby'!AN11="","",'Rekapitulace stavby'!AN11)
D21: Uchazeč: | I21: IČ: | J21: =IF('Rekapitulace stavby'!AN13="Vyplň údaj","",IF('Rekapitulace stavby'!AN13="","",'Rekapitulace stavby'!AN13))
E22: =IF('Rekapitulace stavby'!E14="Vyplň údaj","",IF('Rekapitulace stavby'!E14="","",'Rekapitulace stavby'!E14)) | I22: DIČ: | J22: =IF('Rekapitulace stavby'!AN14="Vyplň údaj","",IF('Rekapitulace stavby'!AN14="","",'Rekapitulace stavby'!AN14))
D24: Projektant: | I24: IČ: | J24: =IF('Rekapitulace stavby'!AN16="","",'Rekapitulace stavby'!AN16)
E25: =IF('Rekapitulace stavby'!E17="","",'Rekapitulace stavby'!E17) | I25: DIČ: | J25: =IF('Rekapitulace stavby'!AN17="","",'Rekapitulace stavby'!AN17)
D27: Poznámka:
D31: Cena bez DPH | J31: =ROUND(J95,2) -> 0
F33: Základ daně | I33: Sazba daně | J33: Výše daně
D34: DPH | E34: základní | F34: =ROUND(SUM(BE95:BE243), 2) -> 0 | I34: 0.21 | J34: =ROUND(ROUND((SUM(BE95:BE243)), 2)*I34, 2) -> 0
E35: snížená | F35: =ROUND(SUM(BF95:BF243), 2) -> 0 | I35: 0.15 | J35: =ROUND(ROUND((SUM(BF95:BF243)), 2)*I35, 2) -> 0
E36: zákl. přenesená | F36: =ROUND(SUM(BG95:BG243), 2) -> 0 | I36: 0.21 | J36: 0
E37: sníž. přenesená | F37: =ROUND(SUM(BH95:BH243), 2) -> 0 | I37: 0.15 | J37: 0
E38: nulová | F38: =ROUND(SUM(BI95:BI243), 2) -> 0 | I38: 0 | J38: 0
D40: Cena s DPH | G40: v | H40: CZK | J40: =SUM(J31:J38) -> 0
C46: REKAPITULACE ČLENĚNÍ SOUPISU PRACÍ
C48: Stavba:
E49: =E7 -> Transformace ÚSP pro mládež Kvasiny – výstavba v lokalitě Kostelec nad Orlicí 2
C50: Objekt:
E51: A - Hlavní aktivity projektu
C52: Soupis:
E53: D.2.2 - Kanalizace a vodovod
C54: Úroveň 3:
E55: =E13 -> TI02 - Splašková kanalizace
C57: Místo: | F57: =F16 | I57: Datum: | J57: =IF(J16="","",J16) -> 11. 5. 2017
C59: Zadavatel: | F59: =E19 | I59: Projektant: | J59: =E25
C60: Uchazeč: | F60: =IF(E22="","",E22)
C62: Kód dílu - Popis | J62: Cena celkem [CZK]
C64: Náklady soupisu celkem | J64: =J95 -> 0 | AU64: -1
D65: HSV - Práce a dodávky HSV | J65: =J96 -> 0
D66: 1 - Zemní práce | J66: =J97 -> 0
D67: 4 - Vodorovné konstrukce | J67: =J165 -> 0
D68: 5 - Komunikace | J68: =J168 -> 0
D69: 8 - Trubní vedení | J69: =J189 -> 0
D70: 9 - Ostatní konstrukce a práce-bourání | J70: =J223 -> 0
D71: 99 - Přesun hmot | J71: =J234 -> 0
C78: SOUPIS PRACÍ
C80: Stavba:
E81: =E7 -> Transformace ÚSP pro mládež Kvasiny – výstavba v lokalitě Kostelec nad Orlicí 2
C82: Objekt:
E83: A - Hlavní aktivity projektu
C84: Soupis:
E85: D.2.2 - Kanalizace a vodovod
C86: Úroveň 3:
E87: =E13 -> TI02 - Splašková kanalizace
C89: Místo: | F89: =F16 | I89: Datum: | J89: =IF(J16="","",J16) -> 11. 5. 2017
C91: Zadavatel: | F91: =E19 | I91: Projektant: | J91: =E25
C92: Uchazeč: | F92: =IF(E22="","",E22)
C94: PČ | D94: Typ | E94: Kód | F94: Popis | G94: MJ | H94: Množství | I94: J.cena [CZK] | J94: Cena celkem [CZK] | K94: Cenová soustava | M94: Poznámka | N94: DPH | O94: J. Nh [h] | P94: Nh celkem [h] | Q94: J. hmotnost_x000D_ [t] | R94: Hmotnost_x000D_ celkem [t] | S94: J. suť [t] | T94: Suť Celkem [t]
C95: Náklady soupisu celkem | J95: =BK95 -> 0 | P95: =P96 -> 0 | R95: =R96 -> 0.9889197 | T95: =T96 -> 5.31 | AT95: D | AU95: -1 | BK95: =BK96 -> 0
D96: D | E96: HSV | F96: Práce a dodávky HSV | J96: =BK96 -> 0 | P96: =P97+P165+P168+P189+P223+P234 -> 0 | R96: =R97+R165+R168+R189+R223+R234 -> 0.9889197 | T96: =T97+T165+T168+T189+T223+T234 -> 5.31 | AR96: 1 | AT96: D | AU96: 0 | AY96: ROZPOCET | BK96: =BK97+BK165+BK168+BK189+BK223+BK234 -> 0
D97: D | E97: 1 | F97: Zemní práce | J97: =BK97 -> 0 | P97: =SUM(P98:P164) -> 0 | R97: =SUM(R98:R164) -> 0.27038 | T97: =SUM(T98:T164) -> 5.31 | AR97: 1 | AT97: D | AU97: 1 | AY97: ROZPOCET | BK97: =SUM(BK98:BK164) -> 0
C98: 1 | D98: K | E98: 113106123 | F98: Rozebrání dlažeb komunikací pro pěší ze zámkových dlaždic | G98: m2 | H98: 2 | J98: =ROUND(I98*H98,2) -> 0 | K98: CS ÚRS 2017 01 | N98: základní | P98: =O98*H98 -> 0 | Q98: 0 | R98: =Q98*H98 -> 0 | S98: 0.26 | T98: =S98*H98 -> 0.52 | AR98: 4 | AT98: K | AU98: 2 | AY98: ROZPOCET | BE98: =IF(N98="základní",J98,0) -> 0 | BF98: =IF(N98="snížená",J98,0) -> 0 | BG98: =IF(N98="zákl. přenesená",J98,0) -> 0 | BH98: =IF(N98="sníž. přenesená",J98,0) -> 0 | BI98: =IF(N98="nulová",J98,0) -> 0 | BJ98: 1 | BK98: =ROUND(I98*H98,2) -> 0 | BL98: 4 | BM98: 2
D99: PP | F99: Rozebrání dlažeb komunikací pro pěší ze zámkových dlaždic | AT99: PP | AU99: 2
D100: VV | F100: (1,0*2,0) "splašková kanalizace | H100: 2 | AT100: VV | AU100: 2 | AV100: 2 | AW100: True | AX100: 0 | AY100: ROZPOCET
D101: VV | F101: Součet | H101: 2 | AT101: VV | AU101: 2 | AV101: 4 | AW101: True | AX101: 1 | AY101: ROZPOCET
C102: 2 | D102: K | E102: 113154123 | F102: Frézování živičného krytu tl 50 mm pruh š 1 m pl do 500 m2 bez překážek v trase | G102: m2 | H102: 4 | J102: =ROUND(I102*H102,2) -> 0 | K102: CS ÚRS 2017 01 | N102: základní | P102: =O102*H102 -> 0 | Q102: 5e-05 | R102: =Q102*H102 -> 0.0002 | S102: 0.128 | T102: =S102*H102 -> 0.512 | AR102: 4 | AT102: K | AU102: 2 | AY102: ROZPOCET | BE102: =IF(N102="základní",J102,0) -> 0 | BF102: =IF(N102="snížená",J102,0) -> 0 | BG102: =IF(N102="zákl. přenesená",J102,0) -> 0 | BH102: =IF(N102="sníž. přenesená",J102,0) -> 0 | BI102: =IF(N102="nulová",J102,0) -> 0 | BJ102: 1 | BK102: =ROUND(I102*H102,2) -> 0 | BL102: 4 | BM102: 4
D103: PP | F103: Frézování živičného krytu tl 50 mm pruh š 1 m pl do 500 m2 bez překážek v trase | AT103: PP | AU103: 2
D104: VV | F104: (1,0*4,0) "splašková kanalizace | H104: 4 | AT104: VV | AU104: 2 | AV104: 2 | AW104: True | AX104: 0 | AY104: ROZPOCET
D105: VV | F105: Součet | H105: 4 | AT105: VV | AU105: 2 | AV105: 4 | AW105: True | AX105: 1 | AY105: ROZPOCET
C106: 3 | D106: K | E106: 113107122 | F106: Odstranění podkladu pl do 50 m2 z kameniva drceného tl 200 mm | G106: m2 | H106: 6 | J106: =ROUND(I106*H106,2) -> 0 | K106: CS ÚRS 2017 01 | N106: základní | P106: =O106*H106 -> 0 | Q106: 0 | R106: =Q106*H106 -> 0 | S106: 0.29 | T106: =S106*H106 -> 1.74 | AR106: 4 | AT106: K | AU106: 2 | AY106: ROZPOCET | BE106: =IF(N106="základní",J106,0) -> 0 | BF106: =IF(N106="snížená",J106,0) -> 0 | BG106: =IF(N106="zákl. přenesená",J106,0) -> 0 | BH106: =IF(N106="sníž. přenesená",J106,0) -> 0 | BI106: =IF(N106="nulová",J106,0) -> 0 | BJ106: 1 | BK106: =ROUND(I106*H106,2) -> 0 | BL106: 4 | BM106: 6
D107: PP | F107: Odstranění podkladu pl do 50 m2 z kameniva drceného tl 200 mm | AT107: PP | AU107: 2
D108: VV | F108: 2,0+4,0 "splašková kanalizace | H108: 6 | AT108: VV | AU108: 2 | AV108: 2 | AW108: True | AX108: 0 | AY108: ROZPOCET
D109: VV | F109: Součet | H109: 6 | AT109: VV | AU109: 2 | AV109: 4 | AW109: True | AX109: 1 | AY109: ROZPOCET
C110: 4 | D110: K | E110: 113107131 | F110: Odstranění podkladu nebo krytu pl do 50 m2 z betonu prostého tl 150 mm | G110: m2 | H110: 6 | J110: =ROUND(I110*H110,2) -> 0 | K110: CS ÚRS 2017 01 | N110: základní | P110: =O110*H110 -> 0 | Q110: 0 | R110: =Q110*H110 -> 0 | S110: 0.325 | T110: =S110*H110 -> 1.95 | AR110: 4 | AT110: K | AU110: 2 | AY110: ROZPOCET | BE110: =IF(N110="základní",J110,0) -> 0 | BF110: =IF(N110="snížená",J110,0) -> 0 | BG110: =IF(N110="zákl. přenesená",J110,0) -> 0 | BH110: =IF(N110="sníž. přenesená",J110,0) -> 0 | BI110: =IF(N110="nulová",J110,0) -> 0 | BJ110: 1 | BK110: =ROUND(I110*H110,2) -> 0 | BL110: 4 | BM110: 8
D111: PP | F111: Odstranění podkladu nebo krytu pl do 50 m2 z betonu prostého tl 150 mm | AT111: PP | AU111: 2
C112: 5 | D112: K | E112: 113107141 | F112: Odstranění podkladu pl do 50 m2 živičných tl 50 mm | G112: m2 | H112: 6 | J112: =ROUND(I112*H112,2) -> 0 | K112: CS ÚRS 2017 01 | N112: základní | P112: =O112*H112 -> 0 | Q112: 0 | R112: =Q112*H112 -> 0 | S112: 0.098 | T112: =S112*H112 -> 0.588 | AR112: 4 | AT112: K | AU112: 2 | AY112: ROZPOCET | BE112: =IF(N112="základní",J112,0) -> 0 | BF112: =IF(N112="snížená",J112,0) -> 0 | BG112: =IF(N112="zákl. přenesená",J112,0) -> 0 | BH112: =IF(N112="sníž. přenesená",J112,0) -> 0 | BI112: =IF(N112="nulová",J112,0) -> 0 | BJ112: 1 | BK112: =ROUND(I112*H112,2) -> 0 | BL112: 4 | BM112: 10
D113: PP | F113: Odstranění podkladu pl do 50 m2 živičných tl 50 mm | AT113: PP | AU113: 2
C114: 6 | D114: K | E114: 119001421 | F114: Dočasné zajištění kabelů a kabelových tratí ze 3 volně ložených kabelů | G114: m | H114: 5 | J114: =ROUND(I114*H114,2) -> 0 | K114: CS ÚRS 2017 01 | N114: základní | P114: =O114*H114 -> 0 | Q114: 0.0369 | R114: =Q114*H114 -> 0.1845 | S114: 0 | T114: =S114*H114 -> 0 | AR114: 4 | AT114: K | AU114: 2 | AY114: ROZPOCET | BE114: =IF(N114="základní",J114,0) -> 0 | BF114: =IF(N114="snížená",J114,0) -> 0 | BG114: =IF(N114="zákl. přenesená",J114,0) -> 0 | BH114: =IF(N114="sníž. přenesená",J114,0) -> 0 | BI114: =IF(N114="nulová",J114,0) -> 0 | BJ114: 1 | BK114: =ROUND(I114*H114,2) -> 0 | BL114: 4 | BM114: 12
D115: PP | F115: Dočasné zajištění kabelů a kabelových tratí ze 3 volně ložených kabelů | AT115: PP | AU115: 2
D116: VV | F116: 5*1,0 "práce v místě křížení sítí | H116: 5 | AT116: VV | AU116: 2 | AV116: 2 | AW116: True | AX116: 0 | AY116: ROZPOCET
D117: VV | F117: Součet | H117: 5 | AT117: VV | AU117: 2 | AV117: 4 | AW117: True | AX117: 1 | AY117: ROZPOCET
C118: 7 | D118: K | E118: 132201202 | F118: Hloubení rýh š do 2000 mm v hornině tř. 3 objemu do 1000 m3 | G118: m3 | H118: 51 | J118: =ROUND(I118*H118,2) -> 0 | K118: CS ÚRS 2017 01 | N118: základní | P118: =O118*H118 -> 0 | Q118: 0 | R118: =Q118*H118 -> 0 | S118: 0 | T118: =S118*H118 -> 0 | AR118: 4 | AT118: K | AU118: 2 | AY118: ROZPOCET | BE118: =IF(N118="základní",J118,0) -> 0 | BF118: =IF(N118="snížená",J118,0) -> 0 | BG118: =IF(N118="zákl. přenesená",J118,0) -> 0 | BH118: =IF(N118="sníž. přenesená",J118,0) -> 0 | BI118: =IF(N118="nulová",J118,0) -> 0 | BJ118: 1 | BK118: =ROUND(I118*H118,2) -> 0 | BL118: 4 | BM118: 14
D119: PP | F119: Hloubení rýh š do 2000 mm v hornině tř. 3 objemu do 1000 m3 | AT119: PP | AU119: 2
C120: 8 | D120: K | E120: 132212209 | F120: Příplatek za lepivost u hloubení rýh š do 2000 mm ručním nebo pneum nářadím v hornině tř. 3 | G120: m3 | H120: 25.5 | J120: =ROUND(I120*H120,2) -> 0 | K120: CS ÚRS 2017 01 | N120: základní | P120: =O120*H120 -> 0 | Q120: 0 | R120: =Q120*H120 -> 0 | S120: 0 | T120: =S120*H120 -> 0 | AR120: 4 | AT120: K | AU120: 2 | AY120: ROZPOCET | BE120: =IF(N120="základní",J120,0) -> 0 | BF120: =IF(N120="snížená",J120,0) -> 0 | BG120: =IF(N120="zákl. přenesená",J120,0) -> 0 | BH120: =IF(N120="sníž. přenesená",J120,0) -> 0 | BI120: =IF(N120="nulová",J120,0) -> 0 | BJ120: 1 | BK120: =ROUND(I120*H120,2) -> 0 | BL120: 4 | BM120: 16
D121: PP | F121: Příplatek za lepivost u hloubení rýh š do 2000 mm ručním nebo pneum nářadím v hornině tř. 3 | AT121: PP | AU121: 2
D122: VV | F122: 0,5*51,00 "výkop rýh | H122: 25.5 | AT122: VV | AU122: 2 | AV122: 2 | AW122: True | AX122: 0 | AY122: ROZPOCET
D123: VV | F123: Součet | H123: 25.5 | AT123: VV | AU123: 2 | AV123: 4 | AW123: True | AX123: 1 | AY123: ROZPOCET
C124: 9 | D124: K | E124: 120001101 | F124: Příplatek za ztížení vykopávky v blízkosti podzemního vedení | G124: m3 | H124: 7.5 | J124: =ROUND(I124*H124,2) -> 0 | K124: CS ÚRS 2017 01 | N124: základní | P124: =O124*H124 -> 0 | Q124: 0 | R124: =Q124*H124 -> 0 | S124: 0 | T124: =S124*H124 -> 0 | AR124: 4 | AT124: K | AU124: 2 | AY124: ROZPOCET | BE124: =IF(N124="základní",J124,0) -> 0 | BF124: =IF(N124="snížená",J124,0) -> 0 | BG124: =IF(N124="zákl. přenesená",J124,0) -> 0 | BH124: =IF(N124="sníž. přenesená",J124,0) -> 0 | BI124: =IF(N124="nulová",J124,0) -> 0 | BJ124: 1 | BK124: =ROUND(I124*H124,2) -> 0 | BL124: 4 | BM124: 18
D125: PP | F125: Příplatek za ztížení vykopávky v blízkosti podzemního vedení | AT125: PP | AU125: 2
D126: VV | F126: 5,0*1,0*1,5 "splašková kanalizace | H126: 7.5 | AT126: VV | AU126: 2 | AV126: 2 | AW126: True | AX126: 0 | AY126: ROZPOCET
D127: VV | F127: Součet | H127: 7.5 | AT127: VV | AU127: 2 | AV127: 4 | AW127: True | AX127: 1 | AY127: ROZPOCET
C128: 10 | D128: K | E128: 151101101 | F128: Zřízení příložného pažení a rozepření stěn rýh hl do 2 m | G128: m2 | H128: 102 | J128: =ROUND(I128*H128,2) -> 0 | K128: CS ÚRS 2017 01 | N128: základní | P128: =O128*H128 -> 0 | Q128: 0.00084 | R128: =Q128*H128 -> 0.08568 | S128: 0 | T128: =S128*H128 -> 0 | AR128: 4 | AT128: K | AU128: 2 | AY128: ROZPOCET | BE128: =IF(N128="základní",J128,0) -> 0 | BF128: =IF(N128="snížená",J128,0) -> 0 | BG128: =IF(N128="zákl. přenesená",J128,0) -> 0 | BH128: =IF(N128="sníž. přenesená",J128,0) -> 0 | BI128: =IF(N128="nulová",J128,0) -> 0 | BJ128: 1 | BK128: =ROUND(I128*H128,2) -> 0 | BL128: 4 | BM128: 20
D129: PP | F129: Zřízení příložného pažení a rozepření stěn rýh hl do 2 m | AT129: PP | AU129: 2
D130: VV | F130: (2*34,0*1,5) "splašková kanalizace | H130: 102 | AT130: VV | AU130: 2 | AV130: 2 | AW130: True | AX130: 0 | AY130: ROZPOCET
D131: VV | F131: Součet | H131: 102 | AT131: VV | AU131: 2 | AV131: 4 | AW131: True | AX131: 1 | AY131: ROZPOCET
...

Sheet TI03 - Dešťová kanalizace
D1: List obsahuje: | F1: 1) Krycí list soupisu | G1: 2) Rekapitulace | J1: 3) Soupis prací | K1: Zpět na list: | L1: Rekapitulace stavby
AT2: {1abae781-578a-4057-886d-01bbe76087e9} | AZ2: Odvoz | BC2: 94,928 | BD2: 2
AT3: 2
D4: KRYCÍ LIST SOUPISU | M4: v --- níže se nacházejí doplnkové a pomocné údaje k sestavám --- v | AT4: False
D6: Stavba:
E7: ='Rekapitulace stavby'!K6 -> Transformace ÚSP pro mládež Kvasiny – výstavba v lokalitě Kostelec nad Orlicí 2
D8: Objekt:
E9: A - Hlavní aktivity projektu
D10: Soupis:
E11: D.2.2 - Kanalizace a vodovod
D12: Úroveň 3:
E13: TI03 - Dešťová kanalizace
D15: KSO: | I15: CC-CZ:
D16: Místo: | I16: Datum: | J16: ='Rekapitulace stavby'!AN8 -> 11. 5. 2017
D18: Zadavatel: | I18: IČ: | J18: =IF('Rekapitulace stavby'!AN10="","",'Rekapitulace stavby'!AN10)
E19: =IF('Rekapitulace stavby'!E11="","",'Rekapitulace stavby'!E11) | I19: DIČ: | J19: =IF('Rekapitulace stavby'!AN11="","",'Rekapitulace stavby'!AN11)
D21: Uchazeč: | I21: IČ: | J21: =IF('Rekapitulace stavby'!AN13="Vyplň údaj","",IF('Rekapitulace stavby'!AN13="","",'Rekapitulace stavby'!AN13))
E22: =IF('Rekapitulace stavby'!E14="Vyplň údaj","",IF('Rekapitulace stavby'!E14="","",'Rekapitulace stavby'!E14)) | I22: DIČ: | J22: =IF('Rekapitulace stavby'!AN14="Vyplň údaj","",IF('Rekapitulace stavby'!AN14="","",'Rekapitulace stavby'!AN14))
D24: Projektant: | I24: IČ: | J24: =IF('Rekapitulace stavby'!AN16="","",'Rekapitulace stavby'!AN16)
E25: =IF('Rekapitulace stavby'!E17="","",'Rekapitulace stavby'!E17) | I25: DIČ: | J25: =IF('Rekapitulace stavby'!AN17="","",'Rekapitulace stavby'!AN17)
D27: Poznámka:
D31: Cena bez DPH | J31: =ROUND(J96,2) -> 0
F33: Základ daně | I33: Sazba daně | J33: Výše daně
D34: DPH | E34: základní | F34: =ROUND(SUM(BE96:BE222), 2) -> 0 | I34: 0.21 | J34: =ROUND(ROUND((SUM(BE96:BE222)), 2)*I34, 2) -> 0
E35: snížená | F35: =ROUND(SUM(BF96:BF222), 2) -> 0 | I35: 0.15 | J35: =ROUND(ROUND((SUM(BF96:BF222)), 2)*I35, 2) -> 0
E36: zákl. přenesená | F36: =ROUND(SUM(BG96:BG222), 2) -> 0 | I36: 0.21 | J36: 0
E37: sníž. přenesená | F37: =ROUND(SUM(BH96:BH222), 2) -> 0 | I37: 0.15 | J37: 0
E38: nulová | F38: =ROUND(SUM(BI96:BI222), 2) -> 0 | I38: 0 | J38: 0
D40: Cena s DPH | G40: v | H40: CZK | J40: =SUM(J31:J38) -> 0
C46: REKAPITULACE ČLENĚNÍ SOUPISU PRACÍ
C48: Stavba:
E49: =E7 -> Transformace ÚSP pro mládež Kvasiny – výstavba v lokalitě Kostelec nad Orlicí 2
C50: Objekt:
E51: A - Hlavní aktivity projektu
C52: Soupis:
E53: D.2.2 - Kanalizace a vodovod
C54: Úroveň 3:
E55: =E13 -> TI03 - Dešťová kanalizace
C57: Místo: | F57: =F16 | I57: Datum: | J57: =IF(J16="","",J16) -> 11. 5. 2017
C59: Zadavatel: | F59: =E19 | I59: Projektant: | J59: =E25
C60: Uchazeč: | F60: =IF(E22="","",E22)
C62: Kód dílu - Popis | J62: Cena celkem [CZK]
C64: Náklady soupisu celkem | J64: =J96 -> 0 | AU64: -1
D65: HSV - Práce a dodávky HSV | J65: =J97 -> 0
D66: 1 - Zemní práce | J66: =J98 -> 0
D67: 2 - Zakládání | J67: =J166 -> 0
D68: 4 - Vodorovné konstrukce | J68: =J176 -> 0
D69: 8 - Trubní vedení | J69: =J185 -> 0
D70: 99 - Přesun hmot | J70: =J216 -> 0
D71: PSV - Práce a dodávky PSV | J71: =J219 -> 0
D72: 721 - Zdravotechnika - vnitřní kanalizace | J72: =J220 -> 0
C79: SOUPIS PRACÍ
C81: Stavba:
E82: =E7 -> Transformace ÚSP pro mládež Kvasiny – výstavba v lokalitě Kostelec nad Orlicí 2
C83: Objekt:
E84: A - Hlavní aktivity projektu
C85: Soupis:
E86: D.2.2 - Kanalizace a vodovod
C87: Úroveň 3:
E88: =E13 -> TI03 - Dešťová kanalizace
C90: Místo: | F90: =F16 | I90: Datum: | J90: =IF(J16="","",J16) -> 11. 5. 2017
C92: Zadavatel: | F92: =E19 | I92: Projektant: | J92: =E25
C93: Uchazeč: | F93: =IF(E22="","",E22)
C95: PČ | D95: Typ | E95: Kód | F95: Popis | G95: MJ | H95: Množství | I95: J.cena [CZK] | J95: Cena celkem [CZK] | K95: Cenová soustava | M95: Poznámka | N95: DPH | O95: J. Nh [h] | P95: Nh celkem [h] | Q95: J. hmotnost_x000D_ [t] | R95: Hmotnost_x000D_ celkem [t] | S95: J. suť [t] | T95: Suť Celkem [t]
C96: Náklady soupisu celkem | J96: =BK96 -> 0 | P96: =P97+P219 -> 0 | R96: =R97+R219 -> 123.46994 | T96: =T97+T219 -> 0 | AT96: D | AU96: -1 | BK96: =BK97+BK219 -> 0
D97: D | E97: HSV | F97: Práce a dodávky HSV | J97: =BK97 -> 0 | P97: =P98+P166+P176+P185+P216 -> 0 | R97: =R98+R166+R176+R185+R216 -> 123.4585 | T97: =T98+T166+T176+T185+T216 -> 0 | AR97: 1 | AT97: D | AU97: 0 | AY97: ROZPOCET | BK97: =BK98+BK166+BK176+BK185+BK216 -> 0
D98: D | E98: 1 | F98: Zemní práce | J98: =BK98 -> 0 | P98: =SUM(P99:P165) -> 0 | R98: =SUM(R99:R165) -> 93.837627 | T98: =SUM(T99:T165) -> 0 | AR98: 1 | AT98: D | AU98: 1 | AY98: ROZPOCET | BK98: =SUM(BK99:BK165) -> 0
C99: 1 | D99: K | E99: 131201202 | F99: Hloubení jam zapažených v hornině tř. 3 objemu do 1000 m3 | G99: m3 | H99: 86.24 | J99: =ROUND(I99*H99,2) -> 0 | K99: CS ÚRS 2017 01 | N99: základní | P99: =O99*H99 -> 0 | Q99: 0 | R99: =Q99*H99 -> 0 | S99: 0 | T99: =S99*H99 -> 0 | AR99: 4 | AT99: K | AU99: 2 | AY99: ROZPOCET | BE99: =IF(N99="základní",J99,0) -> 0 | BF99: =IF(N99="snížená",J99,0) -> 0 | BG99: =IF(N99="zákl. přenesená",J99,0) -> 0 | BH99: =IF(N99="sníž. přenesená",J99,0) -> 0 | BI99: =IF(N99="nulová",J99,0) -> 0 | BJ99: 1 | BK99: =ROUND(I99*H99,2) -> 0 | BL99: 4 | BM99: 2
D100: PP | F100: Hloubení jam zapažených v hornině tř. 3 objemu do 1000 m3 | AT100: PP | AU100: 2
D101: VV | F101: (14,0*4,4*1,4) "vsakovací galerie | H101: 86.24 | AT101: VV | AU101: 2 | AV101: 2 | AW101: True | AX101: 0 | AY101: ROZPOCET
D102: VV | F102: Součet | H102: 86.24 | AT102: VV | AU102: 2 | AV102: 4 | AW102: True | AX102: 1 | AY102: ROZPOCET
C103: 2 | D103: K | E103: 131201209 | F103: Příplatek za lepivost u hloubení jam zapažených v hornině tř. 3 | G103: m3 | H103: 43.12 | J103: =ROUND(I103*H103,2) -> 0 | K103: CS ÚRS 2017 01 | N103: základní | P103: =O103*H103 -> 0 | Q103: 0 | R103: =Q103*H103 -> 0 | S103: 0 | T103: =S103*H103 -> 0 | AR103: 4 | AT103: K | AU103: 2 | AY103: ROZPOCET | BE103: =IF(N103="základní",J103,0) -> 0 | BF103: =IF(N103="snížená",J103,0) -> 0 | BG103: =IF(N103="zákl. přenesená",J103,0) -> 0 | BH103: =IF(N103="sníž. přenesená",J103,0) -> 0 | BI103: =IF(N103="nulová",J103,0) -> 0 | BJ103: 1 | BK103: =ROUND(I103*H103,2) -> 0 | BL103: 4 | BM103: 4
D104: PP | F104: Příplatek za lepivost u hloubení jam zapažených v hornině tř. 3 | AT104: PP | AU104: 2
D105: VV | F105: 0,5*86,24 "výkop jam | H105: 43.12 | AT105: VV | AU105: 2 | AV105: 2 | AW105: True | AX105: 0 | AY105: ROZPOCET
D106: VV | F106: Součet | H106: 43.12 | AT106: VV | AU106: 2 | AV106: 4 | AW106: True | AX106: 1 | AY106: ROZPOCET
C107: 3 | D107: K | E107: 132201202 | F107: Hloubení rýh š do 2000 mm v hornině tř. 3 objemu do 1000 m3 | G107: m3 | H107: 41.04 | J107: =ROUND(I107*H107,2) -> 0 | K107: CS ÚRS 2017 01 | N107: základní | P107: =O107*H107 -> 0 | Q107: 0 | R107: =Q107*H107 -> 0 | S107: 0 | T107: =S107*H107 -> 0 | AR107: 4 | AT107: K | AU107: 2 | AY107: ROZPOCET | BE107: =IF(N107="základní",J107,0) -> 0 | BF107: =IF(N107="snížená",J107,0) -> 0 | BG107: =IF(N107="zákl. přenesená",J107,0) -> 0 | BH107: =IF(N107="sníž. přenesená",J107,0) -> 0 | BI107: =IF(N107="nulová",J107,0) -> 0 | BJ107: 1 | BK107: =ROUND(I107*H107,2) -> 0 | BL107: 4 | BM107: 6
D108: PP | F108: Hloubení rýh š do 2000 mm v hornině tř. 3 objemu do 1000 m3 | AT108: PP | AU108: 2
D109: VV | F109: (57,0*0,8*0,9) "dešťová kanalizace | H109: 41.04 | AT109: VV | AU109: 2 | AV109: 2 | AW109: True | AX109: 0 | AY109: ROZPOCET
D110: VV | F110: Součet | H110: 41.04 | AT110: VV | AU110: 2 | AV110: 4 | AW110: True | AX110: 1 | AY110: ROZPOCET
C111: 4 | D111: K | E111: 132212209 | F111: Příplatek za lepivost u hloubení rýh š do 2000 mm ručním nebo pneum nářadím v hornině tř. 3 | G111: m3 | H111: 20.52 | J111: =ROUND(I111*H111,2) -> 0 | K111: CS ÚRS 2017 01 | N111: základní | P111: =O111*H111 -> 0 | Q111: 0 | R111: =Q111*H111 -> 0 | S111: 0 | T111: =S111*H111 -> 0 | AR111: 4 | AT111: K | AU111: 2 | AY111: ROZPOCET | BE111: =IF(N111="základní",J111,0) -> 0 | BF111: =IF(N111="snížená",J111,0) -> 0 | BG111: =IF(N111="zákl. přenesená",J111,0) -> 0 | BH111: =IF(N111="sníž. přenesená",J111,0) -> 0 | BI111: =IF(N111="nulová",J111,0) -> 0 | BJ111: 1 | BK111: =ROUND(I111*H111,2) -> 0 | BL111: 4 | BM111: 8
D112: PP | F112: Příplatek za lepivost u hloubení rýh š do 2000 mm ručním nebo pneum nářadím v hornině tř. 3 | AT112: PP | AU112: 2
D113: VV | F113: 0,5*41,04 "výkop rýh | H113: 20.52 | AT113: VV | AU113: 2 | AV113: 2 | AW113: True | AX113: 0 | AY113: ROZPOCET
D114: VV | F114: Součet | H114: 20.52 | AT114: VV | AU114: 2 | AV114: 4 | AW114: True | AX114: 1 | AY114: ROZPOCET
C115: 5 | D115: K | E115: 151101101 | F115: Zřízení příložného pažení a rozepření stěn rýh hl do 2 m | G115: m2 | H115: 103.52 | J115: =ROUND(I115*H115,2) -> 0 | K115: CS ÚRS 2017 01 | N115: základní | P115: =O115*H115 -> 0 | Q115: 0.00084 | R115: =Q115*H115 -> 0.0869568 | S115: 0 | T115: =S115*H115 -> 0 | AR115: 4 | AT115: K | AU115: 2 | AY115: ROZPOCET | BE115: =IF(N115="základní",J115,0) -> 0 | BF115: =IF(N115="snížená",J115,0) -> 0 | BG115: =IF(N115="zákl. přenesená",J115,0) -> 0 | BH115: =IF(N115="sníž. přenesená",J115,0) -> 0 | BI115: =IF(N115="nulová",J115,0) -> 0 | BJ115: 1 | BK115: =ROUND(I115*H115,2) -> 0 | BL115: 4 | BM115: 10
D116: PP | F116: Zřízení příložného pažení a rozepření stěn rýh hl do 2 m | AT116: PP | AU116: 2
D117: VV | F117: (2*32,0*0,9) "dešťová kanalizace | H117: 57.6 | AT117: VV | AU117: 2 | AV117: 2 | AW117: True | AX117: 0 | AY117: ROZPOCET
D118: VV | F118: (2*(14,0+2,4)*1,4) "vsakovací galerie | H118: 45.92 | AT118: VV | AU118: 2 | AV118: 2 | AW118: True | AX118: 0 | AY118: ROZPOCET
D119: VV | F119: Součet | H119: 103.52 | AT119: VV | AU119: 2 | AV119: 4 | AW119: True | AX119: 1 | AY119: ROZPOCET
C120: 6 | D120: K | E120: 151101111 | F120: Odstranění příložného pažení a rozepření stěn rýh hl do 2 m | G120: m2 | H120: 103.52 | J120: =ROUND(I120*H120,2) -> 0 | K120: CS ÚRS 2017 01 | N120: základní | P120: =O120*H120 -> 0 | Q120: 0 | R120: =Q120*H120 -> 0 | S120: 0 | T120: =S120*H120 -> 0 | AR120: 4 | AT120: K | AU120: 2 | AY120: ROZPOCET | BE120: =IF(N120="základní",J120,0) -> 0 | BF120: =IF(N120="snížená",J120,0) -> 0 | BG120: =IF(N120="zákl. přenesená",J120,0) -> 0 | BH120: =IF(N120="sníž. přenesená",J120,0) -> 0 | BI120: =IF(N120="nulová",J120,0) -> 0 | BJ120: 1 | BK120: =ROUND(I120*H120,2) -> 0 | BL120: 4 | BM120: 12
D121: PP | F121: Odstranění příložného pažení a rozepření stěn rýh hl do 2 m | AT121: PP | AU121: 2
C122: 7 | D122: K | E122: 151101301 | F122: Zřízení rozepření stěn při pažení příložném hl do 4 m | G122: m3 | H122: 86.24 | J122: =ROUND(I122*H122,2) -> 0 | K122: CS ÚRS 2017 01 | N122: základní | P122: =O122*H122 -> 0 | Q122: 0.00046 | R122: =Q122*H122 -> 0.0396704 | S122: 0 | T122: =S122*H122 -> 0 | AR122: 4 | AT122: K | AU122: 2 | AY122: ROZPOCET | BE122: =IF(N122="základní",J122,0) -> 0 | BF122: =IF(N122="snížená",J122,0) -> 0 | BG122: =IF(N122="zákl. přenesená",J122,0) -> 0 | BH122: =IF(N122="sníž. přenesená",J122,0) -> 0 | BI122: =IF(N122="nulová",J122,0) -> 0 | BJ122: 1 | BK122: =ROUND(I122*H122,2) -> 0 | BL122: 4 | BM122: 14
D123: PP | F123: Zřízení rozepření stěn při pažení příložném hl do 4 m | AT123: PP | AU123: 2
D124: VV | F124: 86,24 "hloubené vykopávky jam | H124: 86.24 | AT124: VV | AU124: 2 | AV124: 2 | AW124: True | AX124: 0 | AY124: ROZPOCET
D125: VV | F125: Součet | H125: 86.24 | AT125: VV | AU125: 2 | AV125: 4 | AW125: True | AX125: 1 | AY125: ROZPOCET
C126: 8 | D126: K | E126: 151101311 | F126: Odstranění rozepření stěn při pažení příložném hl do 4 m | G126: m3 | H126: 86.24 | J126: =ROUND(I126*H126,2) -> 0 | K126: CS ÚRS 2017 01 | N126: základní | P126: =O126*H126 -> 0 | Q126: 0 | R126: =Q126*H126 -> 0 | S126: 0 | T126: =S126*H126 -> 0 | AR126: 4 | AT126: K | AU126: 2 | AY126: ROZPOCET | BE126: =IF(N126="základní",J126,0) -> 0 | BF126: =IF(N126="snížená",J126,0) -> 0 | BG126: =IF(N126="zákl. přenesená",J126,0) -> 0 | BH126: =IF(N126="sníž. přenesená",J126,0) -> 0 | BI126: =IF(N126="nulová",J126,0) -> 0 | BJ126: 1 | BK126: =ROUND(I126*H126,2) -> 0 | BL126: 4 | BM126: 16
D127: PP | F127: Odstranění rozepření stěn při pažení příložném hl do 4 m | AT127: PP | AU127: 2
C128: 9 | D128: K | E128: 161101101 | F128: Svislé přemístění výkopku z horniny tř. 1 až 4 hl výkopu do 2,5 m | G128: m3 | H128: 127.28 | J128: =ROUND(I128*H128,2) -> 0 | K128: CS ÚRS 2017 01 | N128: základní | P128: =O128*H128 -> 0 | Q128: 0 | R128: =Q128*H128 -> 0 | S128: 0 | T128: =S128*H128 -> 0 | AR128: 4 | AT128: K | AU128: 2 | AY128: ROZPOCET | BE128: =IF(N128="základní",J128,0) -> 0 | BF128: =IF(N128="snížená",J128,0) -> 0 | BG128: =IF(N128="zákl. přenesená",J128,0) -> 0 | BH128: =IF(N128="sníž. přenesená",J128,0) -> 0 | BI128: =IF(N128="nulová",J128,0) -> 0 | BJ128: 1 | BK128: =ROUND(I128*H128,2) -> 0 | BL128: 4 | BM128: 18
D129: PP | F129: Svislé přemístění výkopku z horniny tř. 1 až 4 hl výkopu do 2,5 m | AT129: PP | AU129: 2
D130: VV | F130: 86,24+41,040 "hloubené vykopávky | H130: 127.28 | AT130: VV | AU130: 2 | AV130: 2 | AW130: True | AX130: 0 | AY130: ROZPOCET
D131: VV | F131: Součet | H131: 127.28 | AT131: VV | AU131: 2 | AV131: 4 | AW131: True | AX131: 1 | AY131: ROZPOCET
...

Sheet D.2.3.01 - Plynová zařízení
D1: List obsahuje: | F1: 1) Krycí list soupisu | G1: 2) Rekapitulace | J1: 3) Soupis prací | K1: Zpět na list: | L1: Rekapitulace stavby
AT2: {eaf53546-8fe1-48da-828c-343c957edda7}
AT3: 2
D4: KRYCÍ LIST SOUPISU | M4: v --- níže se nacházejí doplnkové a pomocné údaje k sestavám --- v | AT4: False
D6: Stavba:
E7: ='Rekapitulace stavby'!K6 -> Transformace ÚSP pro mládež Kvasiny – výstavba v lokalitě Kostelec nad Orlicí 2
D8: Objekt:
E9: A - Hlavní aktivity projektu
D10: Soupis:
E11: D.2.3 - Plynovod
D12: Úroveň 3:
E13: D.2.3.01 - Plynová zařízení
D15: KSO: | I15: CC-CZ:
D16: Místo: | I16: Datum: | J16: ='Rekapitulace stavby'!AN8 -> 11. 5. 2017
D18: Zadavatel: | I18: IČ: | J18: =IF('Rekapitulace stavby'!AN10="","",'Rekapitulace stavby'!AN10)
E19: =IF('Rekapitulace stavby'!E11="","",'Rekapitulace stavby'!E11) | I19: DIČ: | J19: =IF('Rekapitulace stavby'!AN11="","",'Rekapitulace stavby'!AN11)
D21: Uchazeč: | I21: IČ: | J21: =IF('Rekapitulace stavby'!AN13="Vyplň údaj","",IF('Rekapitulace stavby'!AN13="","",'Rekapitulace stavby'!AN13))
E22: =IF('Rekapitulace stavby'!E14="Vyplň údaj","",IF('Rekapitulace stavby'!E14="","",'Rekapitulace stavby'!E14)) | I22: DIČ: | J22: =IF('Rekapitulace stavby'!AN14="Vyplň údaj","",IF('Rekapitulace stavby'!AN14="","",'Rekapitulace stavby'!AN14))
D24: Projektant: | I24: IČ: | J24: =IF('Rekapitulace stavby'!AN16="","",'Rekapitulace stavby'!AN16)
E25: =IF('Rekapitulace stavby'!E17="","",'Rekapitulace stavby'!E17) | I25: DIČ: | J25: =IF('Rekapitulace stavby'!AN17="","",'Rekapitulace stavby'!AN17)
D27: Poznámka:
D31: Cena bez DPH | J31: =ROUND(J92,2) -> 0
F33: Základ daně | I33: Sazba daně | J33: Výše daně
D34: DPH | E34: základní | F34: =ROUND(SUM(BE92:BE138), 2) -> 0 | I34: 0.21 | J34: =ROUND(ROUND((SUM(BE92:BE138)), 2)*I34, 2) -> 0
E35: snížená | F35: =ROUND(SUM(BF92:BF138), 2) -> 0 | I35: 0.15 | J35: =ROUND(ROUND((SUM(BF92:BF138)), 2)*I35, 2) -> 0
E36: zákl. přenesená | F36: =ROUND(SUM(BG92:BG138), 2) -> 0 | I36: 0.21 | J36: 0
E37: sníž. přenesená | F37: =ROUND(SUM(BH92:BH138), 2) -> 0 | I37: 0.15 | J37: 0
E38: nulová | F38: =ROUND(SUM(BI92:BI138), 2) -> 0 | I38: 0 | J38: 0
D40: Cena s DPH | G40: v | H40: CZK | J40: =SUM(J31:J38) -> 0
C46: REKAPITULACE ČLENĚNÍ SOUPISU PRACÍ
C48: Stavba:
E49: =E7 -> Transformace ÚSP pro mládež Kvasiny – výstavba v lokalitě Kostelec nad Orlicí 2
C50: Objekt:
E51: A - Hlavní aktivity projektu
C52: Soupis:
E53: D.2.3 - Plynovod
C54: Úroveň 3:
E55: =E13 -> D.2.3.01 - Plynová zařízení
C57: Místo: | F57: =F16 | I57: Datum: | J57: =IF(J16="","",J16) -> 11. 5. 2017
C59: Zadavatel: | F59: =E19 | I59: Projektant: | J59: =E25
C60: Uchazeč: | F60: =IF(E22="","",E22)
C62: Kód dílu - Popis | J62: Cena celkem [CZK]
C64: Náklady soupisu celkem | J64: =J92 -> 0 | AU64: -1
D65: HSV - Práce a dodávky HSV | J65: =J93 -> 0
D66: 9 - Ostatní konstrukce a práce-bourání | J66: =J94 -> 0
D67: PSV - Práce a dodávky PSV | J67: =J97 -> 0
D68: 723 - Zdravotechnika - vnitřní plynovod | J68: =J98 -> 0
C75: SOUPIS PRACÍ
C77: Stavba:
E78: =E7 -> Transformace ÚSP pro mládež Kvasiny – výstavba v lokalitě Kostelec nad Orlicí 2
C79: Objekt:
E80: A - Hlavní aktivity projektu
C81: Soupis:
E82: D.2.3 - Plynovod
C83: Úroveň 3:
E84: =E13 -> D.2.3.01 - Plynová zařízení
C86: Místo: | F86: =F16 | I86: Datum: | J86: =IF(J16="","",J16) -> 11. 5. 2017
C88: Zadavatel: | F88: =E19 | I88: Projektant: | J88: =E25
C89: Uchazeč: | F89: =IF(E22="","",E22)
C91: PČ | D91: Typ | E91: Kód | F91: Popis | G91: MJ | H91: Množství | I91: J.cena [CZK] | J91: Cena celkem [CZK] | K91: Cenová soustava | M91: Poznámka | N91: DPH | O91: J. Nh [h] | P91: Nh celkem [h] | Q91: J. hmotnost_x000D_ [t] | R91: Hmotnost_x000D_ celkem [t] | S91: J. suť [t] | T91: Suť Celkem [t]
C92: Náklady soupisu celkem | J92: =BK92 -> 0 | P92: =P93+P97 -> 0 | R92: =R93+R97 -> 0 | T92: =T93+T97 -> 0 | AT92: D | AU92: -1 | BK92: =BK93+BK97 -> 0
D93: D | E93: HSV | F93: Práce a dodávky HSV | J93: =BK93 -> 0 | P93: =P94 -> 0 | R93: =R94 -> 0 | T93: =T94 -> 0 | AR93: 1 | AT93: D | AU93: 0 | AY93: ROZPOCET | BK93: =BK94 -> 0
D94: D | E94: 9 | F94: Ostatní konstrukce a práce-bourání | J94: =BK94 -> 0 | P94: =SUM(P95:P96) -> 0 | R94: =SUM(R95:R96) -> 0 | T94: =SUM(T95:T96) -> 0 | AR94: 1 | AT94: D | AU94: 1 | AY94: ROZPOCET | BK94: =SUM(BK95:BK96) -> 0
C95: 1 | D95: K | E95: 970900100 | F95: Stavební výpomoce, pomocné zednické práce, vrtání ptostupů, drážky, montážní práce | G95: hod | H95: 15 | J95: =ROUND(I95*H95,2) -> 0 | N95: základní | P95: =O95*H95 -> 0 | Q95: 0 | R95: =Q95*H95 -> 0 | S95: 0 | T95: =S95*H95 -> 0 | AR95: 4 | AT95: K | AU95: 2 | AY95: ROZPOCET | BE95: =IF(N95="základní",J95,0) -> 0 | BF95: =IF(N95="snížená",J95,0) -> 0 | BG95: =IF(N95="zákl. přenesená",J95,0) -> 0 | BH95: =IF(N95="sníž. přenesená",J95,0) -> 0 | BI95: =IF(N95="nulová",J95,0) -> 0 | BJ95: 1 | BK95: =ROUND(I95*H95,2) -> 0 | BL95: 4 | BM95: 2
D96: PP | F96: Stavební výpomoce, pomocné zednické práce, vrtání ptostupů, drážky, montážní práce | AT96: PP | AU96: 2
D97: D | E97: PSV | F97: Práce a dodávky PSV | J97: =BK97 -> 0 | P97: =P98 -> 0 | R97: =R98 -> 0 | T97: =T98 -> 0 | AR97: 2 | AT97: D | AU97: 0 | AY97: ROZPOCET | BK97: =BK98 -> 0
D98: D | E98: 723 | F98: Zdravotechnika - vnitřní plynovod | J98: =BK98 -> 0 | P98: =SUM(P99:P138) -> 0 | R98: =SUM(R99:R138) -> 0 | T98: =SUM(T99:T138) -> 0 | AR98: 2 | AT98: D | AU98: 1 | AY98: ROZPOCET | BK98: =SUM(BK99:BK138) -> 0
C99: 2 | D99: K | E99: 723111202 | F99: Potrubí ocelové závitové černé bezešvé svařované běžné DN 15 | G99: m | H99: 2 | J99: =ROUND(I99*H99,2) -> 0 | K99: CS ÚRS 2017 01 | N99: základní | P99: =O99*H99 -> 0 | Q99: 0 | R99: =Q99*H99 -> 0 | S99: 0 | T99: =S99*H99 -> 0 | AR99: 16 | AT99: K | AU99: 2 | AY99: ROZPOCET | BE99: =IF(N99="základní",J99,0) -> 0 | BF99: =IF(N99="snížená",J99,0) -> 0 | BG99: =IF(N99="zákl. přenesená",J99,0) -> 0 | BH99: =IF(N99="sníž. přenesená",J99,0) -> 0 | BI99: =IF(N99="nulová",J99,0) -> 0 | BJ99: 1 | BK99: =ROUND(I99*H99,2) -> 0 | BL99: 16 | BM99: 4
D100: PP | F100: Potrubí ocelové závitové černé bezešvé svařované běžné DN 15 | AT100: PP | AU100: 2
D101: VV | F101: 2 "plynovod | H101: 2 | AT101: VV | AU101: 2 | AV101: 2 | AW101: True | AX101: 0 | AY101: ROZPOCET
D102: VV | F102: Součet | H102: 2 | AT102: VV | AU102: 2 | AV102: 4 | AW102: True | AX102: 1 | AY102: ROZPOCET
C103: 3 | D103: K | E103: 723111204 | F103: Potrubí ocelové závitové černé bezešvé svařované běžné DN 25 | G103: m | H103: 11 | J103: =ROUND(I103*H103,2) -> 0 | K103: CS ÚRS 2017 01 | N103: základní | P103: =O103*H103 -> 0 | Q103: 0 | R103: =Q103*H103 -> 0 | S103: 0 | T103: =S103*H103 -> 0 | AR103: 16 | AT103: K | AU103: 2 | AY103: ROZPOCET | BE103: =IF(N103="základní",J103,0) -> 0 | BF103: =IF(N103="snížená",J103,0) -> 0 | BG103: =IF(N103="zákl. přenesená",J103,0) -> 0 | BH103: =IF(N103="sníž. přenesená",J103,0) -> 0 | BI103: =IF(N103="nulová",J103,0) -> 0 | BJ103: 1 | BK103: =ROUND(I103*H103,2) -> 0 | BL103: 16 | BM103: 6
D104: PP | F104: Potrubí ocelové závitové černé bezešvé svařované běžné DN 25 | AT104: PP | AU104: 2
C105: 4 | D105: K | E105: 723150311 | F105: Potrubí ocelové hladké černé Bralen DN25 izolovaná | G105: m | H105: 2 | J105: =ROUND(I105*H105,2) -> 0 | N105: základní | P105: =O105*H105 -> 0 | Q105: 0 | R105: =Q105*H105 -> 0 | S105: 0 | T105: =S105*H105 -> 0 | AR105: 16 | AT105: K | AU105: 2 | AY105: ROZPOCET | BE105: =IF(N105="základní",J105,0) -> 0 | BF105: =IF(N105="snížená",J105,0) -> 0 | BG105: =IF(N105="zákl. přenesená",J105,0) -> 0 | BH105: =IF(N105="sníž. přenesená",J105,0) -> 0 | BI105: =IF(N105="nulová",J105,0) -> 0 | BJ105: 1 | BK105: =ROUND(I105*H105,2) -> 0 | BL105: 16 | BM105: 8
D106: PP | F106: Potrubí ocelové hladké černé Bralen DN25 izolovaná | AT106: PP | AU106: 2
D107: VV | F107: 2 "plynovod | H107: 2 | AT107: VV | AU107: 2 | AV107: 2 | AW107: True | AX107: 0 | AY107: ROZPOCET
D108: VV | F108: Součet | H108: 2 | AT108: VV | AU108: 2 | AV108: 4 | AW108: True | AX108: 1 | AY108: ROZPOCET
C109: 5 | D109: K | E109: 723100101 | F109: Upevňovací materiál pro plynovodní potrubí | G109: kus | H109: 6.5 | J109: =ROUND(I109*H109,2) -> 0 | N109: základní | P109: =O109*H109 -> 0 | Q109: 0 | R109: =Q109*H109 -> 0 | S109: 0 | T109: =S109*H109 -> 0 | AR109: 16 | AT109: K | AU109: 2 | AY109: ROZPOCET | BE109: =IF(N109="základní",J109,0) -> 0 | BF109: =IF(N109="snížená",J109,0) -> 0 | BG109: =IF(N109="zákl. přenesená",J109,0) -> 0 | BH109: =IF(N109="sníž. přenesená",J109,0) -> 0 | BI109: =IF(N109="nulová",J109,0) -> 0 | BJ109: 1 | BK109: =ROUND(I109*H109,2) -> 0 | BL109: 16 | BM109: 10
D110: PP | F110: Upevňovací materiál pro plynovodní potrubí | AT110: PP | AU110: 2
C111: 6 | D111: K | E111: 723190102 | F111: Přípojka plynovodní nerezová hadice G1/2 F x G1/2 M délky od 25 do 50 cm spojovaná na závit | G111: kus | H111: 1 | J111: =ROUND(I111*H111,2) -> 0 | N111: základní | P111: =O111*H111 -> 0 | Q111: 0 | R111: =Q111*H111 -> 0 | S111: 0 | T111: =S111*H111 -> 0 | AR111: 16 | AT111: K | AU111: 2 | AY111: ROZPOCET | BE111: =IF(N111="základní",J111,0) -> 0 | BF111: =IF(N111="snížená",J111,0) -> 0 | BG111: =IF(N111="zákl. přenesená",J111,0) -> 0 | BH111: =IF(N111="sníž. přenesená",J111,0) -> 0 | BI111: =IF(N111="nulová",J111,0) -> 0 | BJ111: 1 | BK111: =ROUND(I111*H111,2) -> 0 | BL111: 16 | BM111: 12
D112: PP | F112: Přípojka plynovodní nerezová hadice G1/2 F x G1/2 M délky od 25 do 50 cm spojovaná na závit | AT112: PP | AU112: 2
D113: VV | F113: 1 "napojení kotle | H113: 1 | AT113: VV | AU113: 2 | AV113: 2 | AW113: True | AX113: 0 | AY113: ROZPOCET
D114: VV | F114: Součet | H114: 1 | AT114: VV | AU114: 2 | AV114: 4 | AW114: True | AX114: 1 | AY114: ROZPOCET
C115: 7 | D115: K | E115: 723190251 | F115: Výpustky plynovodní vedení a upevnění DN 15 s nástěnkou | G115: kus | H115: 1 | J115: =ROUND(I115*H115,2) -> 0 | K115: CS ÚRS 2017 01 | N115: základní | P115: =O115*H115 -> 0 | Q115: 0 | R115: =Q115*H115 -> 0 | S115: 0 | T115: =S115*H115 -> 0 | AR115: 16 | AT115: K | AU115: 2 | AY115: ROZPOCET | BE115: =IF(N115="základní",J115,0) -> 0 | BF115: =IF(N115="snížená",J115,0) -> 0 | BG115: =IF(N115="zákl. přenesená",J115,0) -> 0 | BH115: =IF(N115="sníž. přenesená",J115,0) -> 0 | BI115: =IF(N115="nulová",J115,0) -> 0 | BJ115: 1 | BK115: =ROUND(I115*H115,2) -> 0 | BL115: 16 | BM115: 14
D116: PP | F116: Výpustky plynovodní vedení a upevnění DN 15 s nástěnkou | AT116: PP | AU116: 2
C117: 8 | D117: K | E117: 723208090 | F117: Chránička - trubka ocelová bezešvá D57 tl 2,9mm hladká kruhová 11353 | G117: m | H117: 1 | J117: =ROUND(I117*H117,2) -> 0 | N117: základní | P117: =O117*H117 -> 0 | Q117: 0 | R117: =Q117*H117 -> 0 | S117: 0 | T117: =S117*H117 -> 0 | AR117: 16 | AT117: K | AU117: 2 | AY117: ROZPOCET | BE117: =IF(N117="základní",J117,0) -> 0 | BF117: =IF(N117="snížená",J117,0) -> 0 | BG117: =IF(N117="zákl. přenesená",J117,0) -> 0 | BH117: =IF(N117="sníž. přenesená",J117,0) -> 0 | BI117: =IF(N117="nulová",J117,0) -> 0 | BJ117: 1 | BK117: =ROUND(I117*H117,2) -> 0 | BL117: 16 | BM117: 16
D118: PP | F118: Chránička - trubka ocelová bezešvá D57 tl 2,9mm hladká kruhová 11353 | AT118: PP | AU118: 2
D119: VV | F119: 1 "chránička | H119: 1 | AT119: VV | AU119: 2 | AV119: 2 | AW119: True | AX119: 0 | AY119: ROZPOCET
D120: VV | F120: Součet | H120: 1 | AT120: VV | AU120: 2 | AV120: 4 | AW120: True | AX120: 1 | AY120: ROZPOCET
C121: 9 | D121: K | E121: 723221304 | F121: Ventil vzorkovací rohový G 1/2 PN 5 s vnitřním závitem | G121: kus | H121: 1 | J121: =ROUND(I121*H121,2) -> 0 | K121: CS ÚRS 2017 01 | N121: základní | P121: =O121*H121 -> 0 | Q121: 0 | R121: =Q121*H121 -> 0 | S121: 0 | T121: =S121*H121 -> 0 | AR121: 16 | AT121: K | AU121: 2 | AY121: ROZPOCET | BE121: =IF(N121="základní",J121,0) -> 0 | BF121: =IF(N121="snížená",J121,0) -> 0 | BG121: =IF(N121="zákl. přenesená",J121,0) -> 0 | BH121: =IF(N121="sníž. přenesená",J121,0) -> 0 | BI121: =IF(N121="nulová",J121,0) -> 0 | BJ121: 1 | BK121: =ROUND(I121*H121,2) -> 0 | BL121: 16 | BM121: 18
D122: PP | F122: Ventil vzorkovací rohový G 1/2 PN 5 s vnitřním závitem | AT122: PP | AU122: 2
C123: 10 | D123: K | E123: 723230102 | F123: Kulový uzávěr přímý PN 5 G 1/2 FF s protipožární armaturou a 2x vnitřním závitem | G123: kus | H123: 1 | J123: =ROUND(I123*H123,2) -> 0 | K123: CS ÚRS 2017 01 | N123: základní | P123: =O123*H123 -> 0 | Q123: 0 | R123: =Q123*H123 -> 0 | S123: 0 | T123: =S123*H123 -> 0 | AR123: 16 | AT123: K | AU123: 2 | AY123: ROZPOCET | BE123: =IF(N123="základní",J123,0) -> 0 | BF123: =IF(N123="snížená",J123,0) -> 0 | BG123: =IF(N123="zákl. přenesená",J123,0) -> 0 | BH123: =IF(N123="sníž. přenesená",J123,0) -> 0 | BI123: =IF(N123="nulová",J123,0) -> 0 | BJ123: 1 | BK123: =ROUND(I123*H123,2) -> 0 | BL123: 16 | BM123: 20
D124: PP | F124: Kulový uzávěr přímý PN 5 G 1/2 FF s protipožární armaturou a 2x vnitřním závitem | AT124: PP | AU124: 2
D125: VV | F125: 1 "napojení kotle | H125: 1 | AT125: VV | AU125: 2 | AV125: 2 | AW125: True | AX125: 0 | AY125: ROZPOCET
D126: VV | F126: Součet | H126: 1 | AT126: VV | AU126: 2 | AV126: 4 | AW126: True | AX126: 1 | AY126: ROZPOCET
C127: 11 | D127: K | E127: 723231162 | F127: Kohout kulový přímý G 1/2 PN 42 do 185°C plnoprůtokový s koulí DADO vnitřní závit těžká řada | G127: kus | H127: 1 | J127: =ROUND(I127*H127,2) -> 0 | K127: CS ÚRS 2017 01 | N127: základní | P127: =O127*H127 -> 0 | Q127: 0 | R127: =Q127*H127 -> 0 | S127: 0 | T127: =S127*H127 -> 0 | AR127: 16 | AT127: K | AU127: 2 | AY127: ROZPOCET | BE127: =IF(N127="základní",J127,0) -> 0 | BF127: =IF(N127="snížená",J127,0) -> 0 | BG127: =IF(N127="zákl. přenesená",J127,0) -> 0 | BH127: =IF(N127="sníž. přenesená",J127,0) -> 0 | BI127: =IF(N127="nulová",J127,0) -> 0 | BJ127: 1 | BK127: =ROUND(I127*H127,2) -> 0 | BL127: 16 | BM127: 22
D128: PP | F128: Kohout kulový přímý G 1/2 PN 42 do 185°C plnoprůtokový s koulí DADO vnitřní závit těžká řada | AT128: PP | AU128: 2
C129: 12 | D129: K | E129: 723290001 | F129: Napojení na venkovní potrubí plynovodní přípojky | G129: kus | H129: 1 | J129: =ROUND(I129*H129,2) -> 0 | N129: základní | P129: =O129*H129 -> 0 | Q129: 0 | R129: =Q129*H129 -> 0 | S129: 0 | T129: =S129*H129 -> 0 | AR129: 16 | AT129: K | AU129: 2 | AY129: ROZPOCET | BE129: =IF(N129="základní",J129,0) -> 0 | BF129: =IF(N129="snížená",J129,0) -> 0 | BG129: =IF(N129="zákl. přenesená",J129,0) -> 0 | BH129: =IF(N129="sníž. přenesená",J129,0) -> 0 | BI129: =IF(N129="nulová",J129,0) -> 0 | BJ129: 1 | BK129: =ROUND(I129*H129,2) -> 0 | BL129: 16 | BM129: 24
D130: PP | F130: Napojení na venkovní potrubí plynovodní přípojky | AT130: PP | AU130: 2
D131: VV | F131: 1 "napojení na přívod plynu | H131: 1 | AT131: VV | AU131: 2 | AV131: 2 | AW131: True | AX131: 0 | AY131: ROZPOCET
...

Sheet D.2.3.02 - Plynovodní pří...
D1: List obsahuje: | F1: 1) Krycí list soupisu | G1: 2) Rekapitulace | J1: 3) Soupis prací | K1: Zpět na list: | L1: Rekapitulace stavby
AT2: {156a2565-b3f7-42b6-a41a-ac3c17dd6382} | AZ2: Odvoz | BC2: 14,978 | BD2: 2
AT3: 2
D4: KRYCÍ LIST SOUPISU | M4: v --- níže se nacházejí doplnkové a pomocné údaje k sestavám --- v | AT4: False
D6: Stavba:
E7: ='Rekapitulace stavby'!K6 -> Transformace ÚSP pro mládež Kvasiny – výstavba v lokalitě Kostelec nad Orlicí 2
D8: Objekt:
E9: A - Hlavní aktivity projektu
D10: Soupis:
E11: D.2.3 - Plynovod
D12: Úroveň 3:
E13: D.2.3.02 - Plynovodní přípojka TI05
D15: KSO: | I15: CC-CZ:
D16: Místo: | I16: Datum: | J16: ='Rekapitulace stavby'!AN8 -> 11. 5. 2017
D18: Zadavatel: | I18: IČ: | J18: =IF('Rekapitulace stavby'!AN10="","",'Rekapitulace stavby'!AN10)
E19: =IF('Rekapitulace stavby'!E11="","",'Rekapitulace stavby'!E11) | I19: DIČ: | J19: =IF('Rekapitulace stavby'!AN11="","",'Rekapitulace stavby'!AN11)
D21: Uchazeč: | I21: IČ: | J21: =IF('Rekapitulace stavby'!AN13="Vyplň údaj","",IF('Rekapitulace stavby'!AN13="","",'Rekapitulace stavby'!AN13))
E22: =IF('Rekapitulace stavby'!E14="Vyplň údaj","",IF('Rekapitulace stavby'!E14="","",'Rekapitulace stavby'!E14)) | I22: DIČ: | J22: =IF('Rekapitulace stavby'!AN14="Vyplň údaj","",IF('Rekapitulace stavby'!AN14="","",'Rekapitulace stavby'!AN14))
D24: Projektant: | I24: IČ: | J24: =IF('Rekapitulace stavby'!AN16="","",'Rekapitulace stavby'!AN16)
E25: =IF('Rekapitulace stavby'!E17="","",'Rekapitulace stavby'!E17) | I25: DIČ: | J25: =IF('Rekapitulace stavby'!AN17="","",'Rekapitulace stavby'!AN17)
D27: Poznámka:
D31: Cena bez DPH | J31: =ROUND(J95,2) -> 0
F33: Základ daně | I33: Sazba daně | J33: Výše daně
D34: DPH | E34: základní | F34: =ROUND(SUM(BE95:BE295), 2) -> 0 | I34: 0.21 | J34: =ROUND(ROUND((SUM(BE95:BE295)), 2)*I34, 2) -> 0
E35: snížená | F35: =ROUND(SUM(BF95:BF295), 2) -> 0 | I35: 0.15 | J35: =ROUND(ROUND((SUM(BF95:BF295)), 2)*I35, 2) -> 0
E36: zákl. přenesená | F36: =ROUND(SUM(BG95:BG295), 2) -> 0 | I36: 0.21 | J36: 0
E37: sníž. přenesená | F37: =ROUND(SUM(BH95:BH295), 2) -> 0 | I37: 0.15 | J37: 0
E38: nulová | F38: =ROUND(SUM(BI95:BI295), 2) -> 0 | I38: 0 | J38: 0
D40: Cena s DPH | G40: v | H40: CZK | J40: =SUM(J31:J38) -> 0
C46: REKAPITULACE ČLENĚNÍ SOUPISU PRACÍ
C48: Stavba:
E49: =E7 -> Transformace ÚSP pro mládež Kvasiny – výstavba v lokalitě Kostelec nad Orlicí 2
C50: Objekt:
E51: A - Hlavní aktivity projektu
C52: Soupis:
E53: D.2.3 - Plynovod
C54: Úroveň 3:
E55: =E13 -> D.2.3.02 - Plynovodní přípojka TI05
C57: Místo: | F57: =F16 | I57: Datum: | J57: =IF(J16="","",J16) -> 11. 5. 2017
C59: Zadavatel: | F59: =E19 | I59: Projektant: | J59: =E25
C60: Uchazeč: | F60: =IF(E22="","",E22)
C62: Kód dílu - Popis | J62: Cena celkem [CZK]
C64: Náklady soupisu celkem | J64: =J95 -> 0 | AU64: -1
D65: HSV - Práce a dodávky HSV | J65: =J96 -> 0
D66: 1 - Zemní práce | J66: =J97 -> 0
D67: 4 - Vodorovné konstrukce | J67: =J193 -> 0
D68: 5 - Komunikace | J68: =J201 -> 0
D69: 8 - Trubní vedení | J69: =J228 -> 0
D70: 9 - Ostatní konstrukce a práce-bourání | J70: =J276 -> 0
D71: 99 - Přesun hmot | J71: =J286 -> 0
C78: SOUPIS PRACÍ
C80: Stavba:
E81: =E7 -> Transformace ÚSP pro mládež Kvasiny – výstavba v lokalitě Kostelec nad Orlicí 2
C82: Objekt:
E83: A - Hlavní aktivity projektu
C84: Soupis:
E85: D.2.3 - Plynovod
C86: Úroveň 3:
E87: =E13 -> D.2.3.02 - Plynovodní přípojka TI05
C89: Místo: | F89: =F16 | I89: Datum: | J89: =IF(J16="","",J16) -> 11. 5. 2017
C91: Zadavatel: | F91: =E19 | I91: Projektant: | J91: =E25
C92: Uchazeč: | F92: =IF(E22="","",E22)
C94: PČ | D94: Typ | E94: Kód | F94: Popis | G94: MJ | H94: Množství | I94: J.cena [CZK] | J94: Cena celkem [CZK] | K94: Cenová soustava | M94: Poznámka | N94: DPH | O94: J. Nh [h] | P94: Nh celkem [h] | Q94: J. hmotnost_x000D_ [t] | R94: Hmotnost_x000D_ celkem [t] | S94: J. suť [t] | T94: Suť Celkem [t]
C95: Náklady soupisu celkem | J95: =BK95 -> 0 | P95: =P96 -> 0 | R95: =R96 -> 7.4121448 | T95: =T96 -> 7.9301 | AT95: D | AU95: -1 | BK95: =BK96 -> 0
D96: D | E96: HSV | F96: Práce a dodávky HSV | J96: =BK96 -> 0 | P96: =P97+P193+P201+P228+P276+P286 -> 0 | R96: =R97+R193+R201+R228+R276+R286 -> 7.4121448 | T96: =T97+T193+T201+T228+T276+T286 -> 7.9301 | AR96: 1 | AT96: D | AU96: 0 | AY96: ROZPOCET | BK96: =BK97+BK193+BK201+BK228+BK276+BK286 -> 0
D97: D | E97: 1 | F97: Zemní práce | J97: =BK97 -> 0 | P97: =SUM(P98:P192) -> 0 | R97: =SUM(R98:R192) -> 0.2239082 | T97: =SUM(T98:T192) -> 7.9301 | AR97: 1 | AT97: D | AU97: 1 | AY97: ROZPOCET | BK97: =SUM(BK98:BK192) -> 0
C98: 1 | D98: K | E98: 113106123 | F98: Rozebrání dlažeb komunikací pro pěší ze zámkových dlaždic | G98: m2 | H98: 3.2 | J98: =ROUND(I98*H98,2) -> 0 | K98: CS ÚRS 2017 01 | N98: základní | P98: =O98*H98 -> 0 | Q98: 0 | R98: =Q98*H98 -> 0 | S98: 0.26 | T98: =S98*H98 -> 0.832 | AR98: 4 | AT98: K | AU98: 2 | AY98: ROZPOCET | BE98: =IF(N98="základní",J98,0) -> 0 | BF98: =IF(N98="snížená",J98,0) -> 0 | BG98: =IF(N98="zákl. přenesená",J98,0) -> 0 | BH98: =IF(N98="sníž. přenesená",J98,0) -> 0 | BI98: =IF(N98="nulová",J98,0) -> 0 | BJ98: 1 | BK98: =ROUND(I98*H98,2) -> 0 | BL98: 4 | BM98: 2
D99: PP | F99: Rozebrání dlažeb a dílců komunikací pro pěší, vozovek a ploch s přemístěním hmot na skládku na vzdálenost do 3 m nebo s naložením na dopravní prostředek komunikací pro pěší s ložem z kameniva nebo živice a s výplní spár ze zámkové dlažby | AT99: PP | AU99: 2
D100: VV | F100: (2,0*0,8) "plynovod | H100: 1.6 | AT100: VV | AU100: 2 | AV100: 2 | AW100: True | AX100: 0 | AY100: ROZPOCET
D101: VV | F101: (2,0*0,8) "plynovod rušený | H101: 1.6 | AT101: VV | AU101: 2 | AV101: 2 | AW101: True | AX101: 0 | AY101: ROZPOCET
D102: VV | F102: Součet | H102: 3.2 | AT102: VV | AU102: 2 | AV102: 4 | AW102: True | AX102: 1 | AY102: ROZPOCET
C103: 2 | D103: K | E103: 113107141 | F103: Odstranění podkladu pl do 50 m2 živičných tl 50 mm | G103: m2 | H103: 6.1 | J103: =ROUND(I103*H103,2) -> 0 | K103: CS ÚRS 2017 01 | N103: základní | P103: =O103*H103 -> 0 | Q103: 0 | R103: =Q103*H103 -> 0 | S103: 0.098 | T103: =S103*H103 -> 0.5978 | AR103: 4 | AT103: K | AU103: 2 | AY103: ROZPOCET | BE103: =IF(N103="základní",J103,0) -> 0 | BF103: =IF(N103="snížená",J103,0) -> 0 | BG103: =IF(N103="zákl. přenesená",J103,0) -> 0 | BH103: =IF(N103="sníž. přenesená",J103,0) -> 0 | BI103: =IF(N103="nulová",J103,0) -> 0 | BJ103: 1 | BK103: =ROUND(I103*H103,2) -> 0 | BL103: 4 | BM103: 4
D104: PP | F104: Odstranění podkladů nebo krytů s přemístěním hmot na skládku na vzdálenost do 3 m nebo s naložením na dopravní prostředek v ploše jednotlivě do 50 m2 živičných, o tl. vrstvy do 50 mm | AT104: PP | AU104: 2
D105: VV | F105: (1*0,8+1,5*1,5) "plynovod | H105: 3.05 | AT105: VV | AU105: 2 | AV105: 2 | AW105: True | AX105: 0 | AY105: ROZPOCET
D106: VV | F106: (1*0,8+1,5*1,5) "plynovod rušený | H106: 3.05 | AT106: VV | AU106: 2 | AV106: 2 | AW106: True | AX106: 0 | AY106: ROZPOCET
D107: VV | F107: Součet | H107: 6.1 | AT107: VV | AU107: 2 | AV107: 4 | AW107: True | AX107: 1 | AY107: ROZPOCET
C108: 3 | D108: K | E108: 113154123 | F108: Frézování živičného krytu tl 50 mm pruh š 1 m pl do 500 m2 bez překážek v trase | G108: m2 | H108: 6.1 | J108: =ROUND(I108*H108,2) -> 0 | K108: CS ÚRS 2017 01 | N108: základní | P108: =O108*H108 -> 0 | Q108: 5e-05 | R108: =Q108*H108 -> 0.000305 | S108: 0.128 | T108: =S108*H108 -> 0.7808 | AR108: 4 | AT108: K | AU108: 2 | AY108: ROZPOCET | BE108: =IF(N108="základní",J108,0) -> 0 | BF108: =IF(N108="snížená",J108,0) -> 0 | BG108: =IF(N108="zákl. přenesená",J108,0) -> 0 | BH108: =IF(N108="sníž. přenesená",J108,0) -> 0 | BI108: =IF(N108="nulová",J108,0) -> 0 | BJ108: 1 | BK108: =ROUND(I108*H108,2) -> 0 | BL108: 4 | BM108: 6
D109: PP | F109: Frézování živičného podkladu nebo krytu s naložením na dopravní prostředek plochy do 500 m2 bez překážek v trase pruhu šířky přes 0,5 m do 1 m, tloušťky vrstvy 50 mm | AT109: PP | AU109: 2
C110: 4 | D110: K | E110: 113107122 | F110: Odstranění podkladu pl do 50 m2 z kameniva drceného tl 200 mm | G110: m2 | H110: 9.3 | J110: =ROUND(I110*H110,2) -> 0 | K110: CS ÚRS 2017 01 | N110: základní | P110: =O110*H110 -> 0 | Q110: 0 | R110: =Q110*H110 -> 0 | S110: 0.29 | T110: =S110*H110 -> 2.697 | AR110: 4 | AT110: K | AU110: 2 | AY110: ROZPOCET | BE110: =IF(N110="základní",J110,0) -> 0 | BF110: =IF(N110="snížená",J110,0) -> 0 | BG110: =IF(N110="zákl. přenesená",J110,0) -> 0 | BH110: =IF(N110="sníž. přenesená",J110,0) -> 0 | BI110: =IF(N110="nulová",J110,0) -> 0 | BJ110: 1 | BK110: =ROUND(I110*H110,2) -> 0 | BL110: 4 | BM110: 8
D111: PP | F111: Odstranění podkladů nebo krytů s přemístěním hmot na skládku na vzdálenost do 3 m nebo s naložením na dopravní prostředek v ploše jednotlivě do 50 m2 z kameniva hrubého drceného, o tl. vrstvy přes 100 do 200 mm | AT111: PP | AU111: 2
D112: VV | F112: 1,6+3,05 "plynovod | H112: 4.65 | AT112: VV | AU112: 2 | AV112: 2 | AW112: True | AX112: 0 | AY112: ROZPOCET
D113: VV | F113: 1,6+3,05 "plynovod rušený | H113: 4.65 | AT113: VV | AU113: 2 | AV113: 2 | AW113: True | AX113: 0 | AY113: ROZPOCET
D114: VV | F114: Součet | H114: 9.3 | AT114: VV | AU114: 2 | AV114: 4 | AW114: True | AX114: 1 | AY114: ROZPOCET
C115: 5 | D115: K | E115: 113107131 | F115: Odstranění podkladu pl do 50 m2 z betonu prostého tl 150 mm | G115: m2 | H115: 9.3 | J115: =ROUND(I115*H115,2) -> 0 | K115: CS ÚRS 2017 01 | N115: základní | P115: =O115*H115 -> 0 | Q115: 0 | R115: =Q115*H115 -> 0 | S115: 0.325 | T115: =S115*H115 -> 3.0225 | AR115: 4 | AT115: K | AU115: 2 | AY115: ROZPOCET | BE115: =IF(N115="základní",J115,0) -> 0 | BF115: =IF(N115="snížená",J115,0) -> 0 | BG115: =IF(N115="zákl. přenesená",J115,0) -> 0 | BH115: =IF(N115="sníž. přenesená",J115,0) -> 0 | BI115: =IF(N115="nulová",J115,0) -> 0 | BJ115: 1 | BK115: =ROUND(I115*H115,2) -> 0 | BL115: 4 | BM115: 10
D116: PP | F116: Odstranění podkladů nebo krytů s přemístěním hmot na skládku na vzdálenost do 3 m nebo s naložením na dopravní prostředek v ploše jednotlivě do 50 m2 z betonu prostého, o tl. vrstvy přes 100 do 150 mm | AT116: PP | AU116: 2
C117: 6 | D117: K | E117: 119001421 | F117: Dočasné zajištění kabelů a kabelových tratí ze 3 volně ložených kabelů | G117: m | H117: 4 | J117: =ROUND(I117*H117,2) -> 0 | K117: CS ÚRS 2017 01 | N117: základní | P117: =O117*H117 -> 0 | Q117: 0.0369 | R117: =Q117*H117 -> 0.1476 | S117: 0 | T117: =S117*H117 -> 0 | AR117: 4 | AT117: K | AU117: 2 | AY117: ROZPOCET | BE117: =IF(N117="základní",J117,0) -> 0 | BF117: =IF(N117="snížená",J117,0) -> 0 | BG117: =IF(N117="zákl. přenesená",J117,0) -> 0 | BH117: =IF(N117="sníž. přenesená",J117,0) -> 0 | BI117: =IF(N117="nulová",J117,0) -> 0 | BJ117: 1 | BK117: =ROUND(I117*H117,2) -> 0 | BL117: 4 | BM117: 12
D118: PP | F118: Dočasné zajištění podzemního potrubí nebo vedení ve výkopišti ve stavu i poloze , ve kterých byla na začátku zemních prací a to s podepřením, vzepřením nebo vyvěšením, příp. s ochranným bedněním, se zřízením a odstraněním za jišťovací konstrukce, s opotřebením hmot kabelů a kabelových tratí z volně ložených kabelů a to do 3 kabelů | AT118: PP | AU118: 2
D119: VV | F119: 4,0 "práce v místě křížení sítí | H119: 4 | AT119: VV | AU119: 2 | AV119: 2 | AW119: True | AX119: 0 | AY119: ROZPOCET
D120: VV | F120: Součet | H120: 4 | AT120: VV | AU120: 2 | AV120: 4 | AW120: True | AX120: 1 | AY120: ROZPOCET
C121: 7 | D121: K | E121: 120001101 | F121: Příplatek za ztížení vykopávky v blízkosti podzemního vedení | G121: m3 | H121: 8.37 | J121: =ROUND(I121*H121,2) -> 0 | K121: CS ÚRS 2017 01 | N121: základní | P121: =O121*H121 -> 0 | Q121: 0 | R121: =Q121*H121 -> 0 | S121: 0 | T121: =S121*H121 -> 0 | AR121: 4 | AT121: K | AU121: 2 | AY121: ROZPOCET | BE121: =IF(N121="základní",J121,0) -> 0 | BF121: =IF(N121="snížená",J121,0) -> 0 | BG121: =IF(N121="zákl. přenesená",J121,0) -> 0 | BH121: =IF(N121="sníž. přenesená",J121,0) -> 0 | BI121: =IF(N121="nulová",J121,0) -> 0 | BJ121: 1 | BK121: =ROUND(I121*H121,2) -> 0 | BL121: 4 | BM121: 14
D122: PP | F122: Příplatek k cenám vykopávek za ztížení vykopávky v blízkosti podzemního vedení nebo výbušnin v horninách jakékoliv třídy | AT122: PP | AU122: 2
C123: 8 | D123: K | E123: 131201201 | F123: Hloubení jam zapažených v hornině tř. 3 objemu do 100 m3 | G123: m3 | H123: 6.75 | J123: =ROUND(I123*H123,2) -> 0 | K123: CS ÚRS 2017 01 | N123: základní | P123: =O123*H123 -> 0 | Q123: 0 | R123: =Q123*H123 -> 0 | S123: 0 | T123: =S123*H123 -> 0 | AR123: 4 | AT123: K | AU123: 2 | AY123: ROZPOCET | BE123: =IF(N123="základní",J123,0) -> 0 | BF123: =IF(N123="snížená",J123,0) -> 0 | BG123: =IF(N123="zákl. přenesená",J123,0) -> 0 | BH123: =IF(N123="sníž. přenesená",J123,0) -> 0 | BI123: =IF(N123="nulová",J123,0) -> 0 | BJ123: 1 | BK123: =ROUND(I123*H123,2) -> 0 | BL123: 4 | BM123: 16
D124: PP | F124: Hloubení zapažených jam a zářezů s urovnáním dna do předepsaného profilu a spádu v hornině tř. 3 do 100 m3 | AT124: PP | AU124: 2
D125: VV | F125: (1,5*1,5*1,5) "plynovod | H125: 3.375 | AT125: VV | AU125: 2 | AV125: 2 | AW125: True | AX125: 0 | AY125: ROZPOCET
D126: VV | F126: (1,5*1,5*1,5) "plynovod rušený | H126: 3.375 | AT126: VV | AU126: 2 | AV126: 2 | AW126: True | AX126: 0 | AY126: ROZPOCET
D127: VV | F127: Součet | H127: 6.75 | AT127: VV | AU127: 2 | AV127: 4 | AW127: True | AX127: 1 | AY127: ROZPOCET
C128: 9 | D128: K | E128: 131201209 | F128: Příplatek za lepivost u hloubení jam zapažených v hornině tř. 3 | G128: m3 | H128: 3.375 | J128: =ROUND(I128*H128,2) -> 0 | K128: CS ÚRS 2017 01 | N128: základní | P128: =O128*H128 -> 0 | Q128: 0 | R128: =Q128*H128 -> 0 | S128: 0 | T128: =S128*H128 -> 0 | AR128: 4 | AT128: K | AU128: 2 | AY128: ROZPOCET | BE128: =IF(N128="základní",J128,0) -> 0 | BF128: =IF(N128="snížená",J128,0) -> 0 | BG128: =IF(N128="zákl. přenesená",J128,0) -> 0 | BH128: =IF(N128="sníž. přenesená",J128,0) -> 0 | BI128: =IF(N128="nulová",J128,0) -> 0 | BJ128: 1 | BK128: =ROUND(I128*H128,2) -> 0 | BL128: 4 | BM128: 18
D129: PP | F129: Hloubení zapažených jam a zářezů s urovnáním dna do předepsaného profilu a spádu Příplatek k cenám za lepivost horniny tř. 3 | AT129: PP | AU129: 2
D130: VV | F130: 0,5*6,75 "výkop jam | H130: 3.375 | AT130: VV | AU130: 2 | AV130: 2 | AW130: True | AX130: 0 | AY130: ROZPOCET
D131: VV | F131: Součet | H131: 3.375 | AT131: VV | AU131: 2 | AV131: 4 | AW131: True | AX131: 1 | AY131: ROZPOCET
...

Sheet D.2.4 - Podzemní vedení e...
D1: List obsahuje: | F1: 1) Krycí list soupisu | G1: 2) Rekapitulace | J1: 3) Soupis prací | K1: Zpět na list: | L1: Rekapitulace stavby
AT2: {1c65ba75-565b-4112-b498-d99f41a7b1ec}
AT3: 2
D4: KRYCÍ LIST SOUPISU | M4: v --- níže se nacházejí doplnkové a pomocné údaje k sestavám --- v | AT4: False
D6: Stavba:
E7: ='Rekapitulace stavby'!K6 -> Transformace ÚSP pro mládež Kvasiny – výstavba v lokalitě Kostelec nad Orlicí 2
D8: Objekt:
E9: A - Hlavní aktivity projektu
D10: Soupis:
E11: D.2.4 - Podzemní vedení elektro
D13: KSO: | I13: CC-CZ:
D14: Místo: | I14: Datum: | J14: ='Rekapitulace stavby'!AN8 -> 11. 5. 2017
D16: Zadavatel: | I16: IČ: | J16: =IF('Rekapitulace stavby'!AN10="","",'Rekapitulace stavby'!AN10)
E17: =IF('Rekapitulace stavby'!E11="","",'Rekapitulace stavby'!E11) | I17: DIČ: | J17: =IF('Rekapitulace stavby'!AN11="","",'Rekapitulace stavby'!AN11)
D19: Uchazeč: | I19: IČ: | J19: =IF('Rekapitulace stavby'!AN13="Vyplň údaj","",IF('Rekapitulace stavby'!AN13="","",'Rekapitulace stavby'!AN13))
E20: =IF('Rekapitulace stavby'!E14="Vyplň údaj","",IF('Rekapitulace stavby'!E14="","",'Rekapitulace stavby'!E14)) | I20: DIČ: | J20: =IF('Rekapitulace stavby'!AN14="Vyplň údaj","",IF('Rekapitulace stavby'!AN14="","",'Rekapitulace stavby'!AN14))
D22: Projektant: | I22: IČ: | J22: =IF('Rekapitulace stavby'!AN16="","",'Rekapitulace stavby'!AN16)
E23: =IF('Rekapitulace stavby'!E17="","",'Rekapitulace stavby'!E17) | I23: DIČ: | J23: =IF('Rekapitulace stavby'!AN17="","",'Rekapitulace stavby'!AN17)
D25: Poznámka:
D29: Cena bez DPH | J29: =ROUND(J86,2) -> 0
F31: Základ daně | I31: Sazba daně | J31: Výše daně
D32: DPH | E32: základní | F32: =ROUND(SUM(BE86:BE112), 2) -> 0 | I32: 0.21 | J32: =ROUND(ROUND((SUM(BE86:BE112)), 2)*I32, 2) -> 0
E33: snížená | F33: =ROUND(SUM(BF86:BF112), 2) -> 0 | I33: 0.15 | J33: =ROUND(ROUND((SUM(BF86:BF112)), 2)*I33, 2) -> 0
E34: zákl. přenesená | F34: =ROUND(SUM(BG86:BG112), 2) -> 0 | I34: 0.21 | J34: 0
E35: sníž. přenesená | F35: =ROUND(SUM(BH86:BH112), 2) -> 0 | I35: 0.15 | J35: 0
E36: nulová | F36: =ROUND(SUM(BI86:BI112), 2) -> 0 | I36: 0 | J36: 0
D38: Cena s DPH | G38: v | H38: CZK | J38: =SUM(J29:J36) -> 0
C44: REKAPITULACE ČLENĚNÍ SOUPISU PRACÍ
C46: Stavba:
E47: =E7 -> Transformace ÚSP pro mládež Kvasiny – výstavba v lokalitě Kostelec nad Orlicí 2
C48: Objekt:
E49: A - Hlavní aktivity projektu
C50: Soupis:
E51: =E11 -> D.2.4 - Podzemní vedení elektro
C53: Místo: | F53: =F14 | I53: Datum: | J53: =IF(J14="","",J14) -> 11. 5. 2017
C55: Zadavatel: | F55: =E17 | I55: Projektant: | J55: =E23
C56: Uchazeč: | F56: =IF(E20="","",E20)
C58: Kód dílu - Popis | J58: Cena celkem [CZK]
C60: Náklady soupisu celkem | J60: =J86 -> 0 | AU60: -1
D61: D1 - Rozváděče | J61: =J87 -> 0
D62: D2 - Kabely samozhášivé s dvojitou izolací PVC, včetně montáže | J62: =J90 -> 0
D63: D3 - Výkopové práce | J63: =J95 -> 0
D64: D4 - Hodinové zúčtovací sazby | J64: =J106 -> 0
C71: SOUPIS PRACÍ
C73: Stavba:
E74: =E7 -> Transformace ÚSP pro mládež Kvasiny – výstavba v lokalitě Kostelec nad Orlicí 2
C75: Objekt:
E76: A - Hlavní aktivity projektu
C77: Soupis:
E78: =E11 -> D.2.4 - Podzemní vedení elektro
C80: Místo: | F80: =F14 | I80: Datum: | J80: =IF(J14="","",J14) -> 11. 5. 2017
C82: Zadavatel: | F82: =E17 | I82: Projektant: | J82: =E23
C83: Uchazeč: | F83: =IF(E20="","",E20)
C85: PČ | D85: Typ | E85: Kód | F85: Popis | G85: MJ | H85: Množství | I85: J.cena [CZK] | J85: Cena celkem [CZK] | K85: Cenová soustava | M85: Poznámka | N85: DPH | O85: J. Nh [h] | P85: Nh celkem [h] | Q85: J. hmotnost_x000D_ [t] | R85: Hmotnost_x000D_ celkem [t] | S85: J. suť [t] | T85: Suť Celkem [t]
