Workbook

Sheet Rekapitulace stavby
A1: Export VZ | D1: List obsahuje: | K1: 1) Rekapitulace stavby | W1: 2) Rekapitulace objektů stavby a soupisů prací | BA1: 3.0 | BB1: ZAMOK | BT1: False | BU1: False | BV1: {7633e13f-b0c7-4853-84f7-4418fb4cd8fc}
BS2: 0,01 | BT2: 21
BS3: 0,01 | BT3: 15
D4: REKAPITULACE STAVBY | AS4: v --- níže se nacházejí doplnkové a pomocné údaje k sestavám --- v | BE4: Návod na vyplnění | BS4: 0,001
D5: Kód: | K5: 16028_01 | BE5: Měnit lze pouze buňky se žlutým podbarvením!_x000D_ _x000D_ 1) v Rekapitulaci stavby vyplňte údaje o Uchazeči (přenesou se do ostatních sestav i v jiných listech)_x000D_ _x000D_ 2) na vybraných listech vyplňte v sestavě Soupis prací ceny u položek_x000D_ _x000D_ Podrobnosti k vyplnění naleznete na poslední záložce s Pokyny pro vyplnění | BS5: 0,01
D6: Stavba: | K6: Transformace ÚSP pro mládež Kvasiny – výstavba v lokalitě Kostelec nad Orlicí 2 | BS6: 0,01
D7: KSO: | AK7: CC-CZ: | BS7: 0,01
D8: Místo: | AK8: Datum: | AN8: 11. 5. 2017 | BS8: 0,01
BS9: 0,01
D10: Zadavatel: | AK10: IČ: | BS10: 0,01
AK11: DIČ: | BS11: 0,01
BS12: 0,01
D13: Uchazeč: | AK13: IČ: | AN13: Vyplň údaj | BS13: 0,01
E14: Vyplň údaj | AK14: DIČ: | AN14: Vyplň údaj | BS14: 0,01
BS15: False
D16: Projektant: | AK16: IČ: | BS16: False
AK17: DIČ: | BS17: True
BS18: 0,01
D19: Poznámka: | BS19: 0,01
E20: Soupis prací je sestaven s využitím Cenové soustavy ÚRS. Položky, které pochází z této cenové soustavy, jsou ve sloupci 'Cenová soustava' označeny popisem 'CS ÚRS' a úrovní příslušného kalendářního pololetí. Veškeré další informace vymezující popis a podmínky použití těchto položek z Cenové soustavy, které nejsou uvedeny přímo v soupisu prací, jsou neomezeně dálkově k dispozici na www.cs-urs.cz, sekce Cenové a technické podmínky. | BS20: False
D23: Cena bez DPH | AK23: =ROUND(AG51,2) -> 0
L25: Sazba daně | W25: Základ daně | AK25: Výše daně
D26: DPH | F26: základní | L26: 0.21 | W26: =ROUND(AZ51,2) -> 0 | AK26: =ROUND(AV51,2) -> 0
F27: snížená | L27: 0.15 | W27: =ROUND(BA51,2) -> 0 | AK27: =ROUND(AW51,2) -> 0
F28: zákl. přenesená | L28: 0.21 | W28: =ROUND(BB51,2) -> 0 | AK28: 0
F29: sníž. přenesená | L29: 0.15 | W29: =ROUND(BC51,2) -> 0 | AK29: 0
F30: nulová | L30: 0 | W30: =ROUND(BD51,2) -> 0 | AK30: 0
D32: Cena s DPH | T32: v | X32: CZK | AK32: =SUM(AK23:AK30) -> 0
C39: REKAPITULACE OBJEKTŮ STAVBY A SOUPISŮ PRACÍ
C41: Kód: | L41: =K5 -> 16028_01
C42: Stavba: | L42: =K6 -> Transformace ÚSP pro mládež Kvasiny – výstavba v lokalitě Kostelec nad Orlicí 2
C44: Místo: | L44: =IF(K8="","",K8) | AI44: Datum: | AM44: =IF(AN8= "","",AN8) -> 11. 5. 2017
C46: Zadavatel: | L46: =IF(E11= "","",E11) | AI46: Projektant: | AM46: =IF(E17="","",E17) | AS46: Informatívní údaje z listů zakázek
C47: Uchazeč: | L47: =IF(E14= "Vyplň údaj","",E14)
C49: Kód | I49: Objekt, Soupis prací | AG49: Cena bez DPH [CZK] | AN49: Cena s DPH [CZK] | AQ49: Typ | AS49: z toho Ostat._x000D_ náklady [CZK] | AT49: DPH [CZK] | AU49: Normohodiny [h] | AV49: DPH základní [CZK] | AW49: DPH snížená [CZK] | AX49: DPH základní přenesená_x000D_ [CZK] | AY49: DPH snížená přenesená_x000D_ [CZK] | AZ49: Základna_x000D_ DPH základní | BA49: Základna_x000D_ DPH snížená | BB49: Základna_x000D_ DPH zákl. přenesená | BC49: Základna_x000D_ DPH sníž. přenesená | BD49: Základna_x000D_ DPH nulová
C51: Náklady stavby celkem | AG51: =ROUND(AG52+AG71,2) -> 0 | AN51: =SUM(AG51,AT51) -> 0 | AS51: =ROUND(AS52+AS71,2) -> 0 | AT51: =ROUND(SUM(AV51:AW51),2) -> 0 | AU51: =ROUND(AU52+AU71,5) -> 0 | AV51: =ROUND(AZ51*L26,2) -> 0 | AW51: =ROUND(BA51*L27,2) -> 0 | AX51: =ROUND(BB51*L26,2) -> 0 | AY51: =ROUND(BC51*L27,2) -> 0 | AZ51: =ROUND(AZ52+AZ71,2) -> 0 | BA51: =ROUND(BA52+BA71,2) -> 0 | BB51: =ROUND(BB52+BB71,2) -> 0 | BC51: =ROUND(BC52+BC71,2) -> 0 | BD51: =ROUND(BD52+BD71,2) -> 0 | BS51: D | BT51: 0 | BU51: ###NOIMPORT### | BV51: IMPORT | BW51: {7633e13f-b0c7-4853-84f7-4418fb4cd8fc} | BX51: {00000000-0000-0000-0000-000000000000}
D52: A | J52: Hlavní aktivity projektu | AG52: =ROUND(AG53+AG59+AG61+AG65+SUM(AG68:AG70),2) -> 0 | AN52: =SUM(AG52,AT52) -> 0 | AQ52: STA | AS52: =ROUND(AS53+AS59+AS61+AS65+SUM(AS68:AS70),2) -> 0 | AT52: =ROUND(SUM(AV52:AW52),2) -> 0 | AU52: =ROUND(AU53+AU59+AU61+AU65+SUM(AU68:AU70),5) -> 0 | AV52: =ROUND(AZ52*L26,2) -> 0 | AW52: =ROUND(BA52*L27,2) -> 0 | AX52: =ROUND(BB52*L26,2) -> 0 | AY52: =ROUND(BC52*L27,2) -> 0 | AZ52: =ROUND(AZ53+AZ59+AZ61+AZ65+SUM(AZ68:AZ70),2) -> 0 | BA52: =ROUND(BA53+BA59+BA61+BA65+SUM(BA68:BA70),2) -> 0 | BB52: =ROUND(BB53+BB59+BB61+BB65+SUM(BB68:BB70),2) -> 0 | BC52: =ROUND(BC53+BC59+BC61+BC65+SUM(BC68:BC70),2) -> 0 | BD52: =ROUND(BD53+BD59+BD61+BD65+SUM(BD68:BD70),2) -> 0 | BS52: D | BT52: 1 | BU52: ###NOIMPORT### | BV52: IMPORT | BW52: {abba95f4-ea52-47b8-8b77-c067eca4510a} | BX52: {7633e13f-b0c7-4853-84f7-4418fb4cd8fc} | CM52: 2
E53: SO01 | K53: Rodinný dům | AG53: =ROUND(SUM(AG54:AG58),2) -> 0 | AN53: =SUM(AG53,AT53) -> 0 | AQ53: Soupis | AS53: =ROUND(SUM(AS54:AS58),2) -> 0 | AT53: =ROUND(SUM(AV53:AW53),2) -> 0 | AU53: =ROUND(SUM(AU54:AU58),5) -> 0 | AV53: =ROUND(AZ53*L26,2) -> 0 | AW53: =ROUND(BA53*L27,2) -> 0 | AX53: =ROUND(BB53*L26,2) -> 0 | AY53: =ROUND(BC53*L27,2) -> 0 | AZ53: =ROUND(SUM(AZ54:AZ58),2) -> 0 | BA53: =ROUND(SUM(BA54:BA58),2) -> 0 | BB53: =ROUND(SUM(BB54:BB58),2) -> 0 | BC53: =ROUND(SUM(BC54:BC58),2) -> 0 | BD53: =ROUND(SUM(BD54:BD58),2) -> 0 | BS53: D | BT53: 2 | BU53: ###NOIMPORT### | BV53: IMPORT | BW53: {2222d09a-8c13-472a-ad54-1342aef22773} | BX53: {abba95f4-ea52-47b8-8b77-c067eca4510a}
A54: / | F54: D.1.1.01 | L54: Architektonicko stavební řešení | AG54: ='D.1.1.01 - Architektonick...'!J31 -> 0 | AN54: =SUM(AG54,AT54) -> 0 | AQ54: Soupis | AS54: 0 | AT54: =ROUND(SUM(AV54:AW54),2) -> 0 | AU54: ='D.1.1.01 - Architektonick...'!P113 -> 0 | AV54: ='D.1.1.01 - Architektonick...'!J34 -> 0 | AW54: ='D.1.1.01 - Architektonick...'!J35 -> 0 | AX54: ='D.1.1.01 - Architektonick...'!J36 -> 0 | AY54: ='D.1.1.01 - Architektonick...'!J37 -> 0 | AZ54: ='D.1.1.01 - Architektonick...'!F34 -> 0 | BA54: ='D.1.1.01 - Architektonick...'!F35 -> 0 | BB54: ='D.1.1.01 - Architektonick...'!F36 -> 0 | BC54: ='D.1.1.01 - Architektonick...'!F37 -> 0 | BD54: ='D.1.1.01 - Architektonick...'!F38 -> 0 | BT54: 3 | BV54: IMPORT | BW54: {9478e2fb-8ced-4be8-a291-61043722fda2} | BX54: {2222d09a-8c13-472a-ad54-1342aef22773}
A55: / | F55: D.1.1.04 | L55: Zařízení pro vytápění staveb, VZT | AG55: ='D.1.1.04 - Zařízení pro v...'!J31 -> 0 | AN55: =SUM(AG55,AT55) -> 0 | AQ55: Soupis | AS55: 0 | AT55: =ROUND(SUM(AV55:AW55),2) -> 0 | AU55: ='D.1.1.04 - Zařízení pro v...'!P96 -> 0 | AV55: ='D.1.1.04 - Zařízení pro v...'!J34 -> 0 | AW55: ='D.1.1.04 - Zařízení pro v...'!J35 -> 0 | AX55: ='D.1.1.04 - Zařízení pro v...'!J36 -> 0 | AY55: ='D.1.1.04 - Zařízení pro v...'!J37 -> 0 | AZ55: ='D.1.1.04 - Zařízení pro v...'!F34 -> 0 | BA55: ='D.1.1.04 - Zařízení pro v...'!F35 -> 0 | BB55: ='D.1.1.04 - Zařízení pro v...'!F36 -> 0 | BC55: ='D.1.1.04 - Zařízení pro v...'!F37 -> 0 | BD55: ='D.1.1.04 - Zařízení pro v...'!F38 -> 0 | BT55: 3 | BV55: IMPORT | BW55: {28f7fecf-ba58-41d9-a84a-364622fac12e} | BX55: {2222d09a-8c13-472a-ad54-1342aef22773}
...

Sheet D.1.1.01 - Architektonick...
D1: List obsahuje: | F1: 1) Krycí list soupisu | G1: 2) Rekapitulace | J1: 3) Soupis prací | K1: Zpět na list: | L1: Rekapitulace stavby
AT2: {9478e2fb-8ced-4be8-a291-61043722fda2} | AZ2: ZP_jáma | BC2: 112,04 | BD2: 2
AT3: 2 | AZ3: ZP_rýha | BC3: 35,513 | BD3: 2
D4: KRYCÍ LIST SOUPISU | M4: v --- níže se nacházejí doplnkové a pomocné údaje k sestavám --- v | AT4: False | AZ4: ZP_šachta | BC4: 6,508 | BD4: 2
AZ5: Dlažba_sokl | BC5: 47,66 | BD5: 2
D6: Stavba: | AZ6: Vinyl | BC6: 208,231 | BD6: 2
E7: ='Rekapitulace stavby'!K6 -> Transformace ÚSP pro mládež Kvasiny – výstavba v lokalitě Kostelec nad Orlicí 2 | AZ7: Sdk_podhled_A | BC7: 53,79 | BD7: 2
D8: Objekt: | AZ8: SDK_podhled_H2 | BC8: 43,01 | BD8: 2
E9: A - Hlavní aktivity projektu | AZ9: Skladba_P1 | BC9: 41,036 | BD9: 2
D10: Soupis: | AZ10: Skladba_P2 | BC10: 26,139 | BD10: 2
E11: SO01 - Rodinný dům | AZ11: Skladba_P3 | BC11: 208,231 | BD11: 2
D12: Úroveň 3: | AZ12: Povlak_střecha | BC12: 179,745 | BD12: 2
E13: D.1.1.01 - Architektonicko stavební řešení | AZ13: Povlak_střecha2 | BC13: 7,69 | BD13: 2
AZ14: Pult_střecha | BC14: 142,798 | BD14: 2
D15: KSO: | I15: CC-CZ: | AZ15: Malby_2 | BC15: 174,224 | BD15: 2
D16: Místo: | I16: Datum: | J16: ='Rekapitulace stavby'!AN8 -> 11. 5. 2017 | AZ16: Malby | BC16: 695,533 | BD16: 2
AZ17: Nátěr_tes | BC17: 133,522 | BD17: 2
D18: Zadavatel: | I18: IČ: | J18: =IF('Rekapitulace stavby'!AN10="","",'Rekapitulace stavby'!AN10) | AZ18: Lešení | BC18: 394,346 | BD18: 2
E19: =IF('Rekapitulace stavby'!E11="","",'Rekapitulace stavby'!E11) | I19: DIČ: | J19: =IF('Rekapitulace stavby'!AN11="","",'Rekapitulace stavby'!AN11) | AZ19: Omítka_spiroll | BC19: 101,88 | BD19: 2
AZ20: Zásyp | BC20: 31,2 | BD20: 2
D21: Uchazeč: | I21: IČ: | J21: =IF('Rekapitulace stavby'!AN13="Vyplň údaj","",IF('Rekapitulace stavby'!AN13="","",'Rekapitulace stavby'!AN13)) | AZ21: ZP_ornice_rozp | BC21: 95 | BD21: 2
E22: =IF('Rekapitulace stavby'!E14="Vyplň údaj","",IF('Rekapitulace stavby'!E14="","",'Rekapitulace stavby'!E14)) | I22: DIČ: | J22: =IF('Rekapitulace stavby'!AN14="Vyplň údaj","",IF('Rekapitulace stavby'!AN14="","",'Rekapitulace stavby'!AN14)) | AZ22: ZP_ornice | BC22: 64,2 | BD22: 2
AZ23: Odvoz | BC23: 137,298 | BD23: 2
D24: Projektant: | I24: IČ: | J24: =IF('Rekapitulace stavby'!AN16="","",'Rekapitulace stavby'!AN16) | AZ24: ZP_zásyp | BC24: 45,45 | BD24: 2
E25: =IF('Rekapitulace stavby'!E17="","",'Rekapitulace stavby'!E17) | I25: DIČ: | J25: =IF('Rekapitulace stavby'!AN17="","",'Rekapitulace stavby'!AN17) | AZ25: Obklad | BC25: 93,516 | BD25: 2
AZ26: Omítka_vni_stena | BC26: 671,077 | BD26: 2
D27: Poznámka: | AZ27: Profil_1 | BC27: 111,05 | BD27: 2
AZ28: Profil_2 | BC28: 34,65 | BD28: 2
AZ29: Profil_3 | BC29: 11 | BD29: 2
AZ30: Profil_4 | BC30: 5 | BD30: 2
D31: Cena bez DPH | J31: =ROUND(J113,2) -> 0 | AZ31: Silikon_stěna | BC31: 334,464 | BD31: 2
AZ32: Silikon_sloup | BC32: 3 | BD32: 2
F33: Základ daně | I33: Sazba daně | J33: Výše daně | AZ33: Silikon_podhled | BC33: 10,4 | BD33: 2
D34: DPH | E34: základní | F34: =ROUND(SUM(BE113:BE1676), 2) -> 0 | I34: 0.21 | J34: =ROUND(ROUND((SUM(BE113:BE1676)), 2)*I34, 2) -> 0 | AZ34: Bed_1 | BC34: 143,662 | BD34: 2
E35: snížená | F35: =ROUND(SUM(BF113:BF1676), 2) -> 0 | I35: 0.15 | J35: =ROUND(ROUND((SUM(BF113:BF1676)), 2)*I35, 2) -> 0 | AZ35: Ztrac_bed | BC35: 123,492 | BD35: 2
E36: zákl. přenesená | F36: =ROUND(SUM(BG113:BG1676), 2) -> 0 | I36: 0.21 | J36: 0 | AZ36: Bed_2 | BC36: 9,56 | BD36: 2
E37: sníž. přenesená | F37: =ROUND(SUM(BH113:BH1676), 2) -> 0 | I37: 0.15 | J37: 0 | AZ37: Bed_3 | BC37: 14,433 | BD37: 2
E38: nulová | F38: =ROUND(SUM(BI113:BI1676), 2) -> 0 | I38: 0 | J38: 0 | AZ38: Bed_4 | BC38: 156,35 | BD38: 2
AZ39: Bed_5 | BC39: 13,63 | BD39: 2
D40: Cena s DPH | G40: v | H40: CZK | J40: =SUM(J31:J38) -> 0 | AZ40: Podp_kce | BC40: 1,29 | BD40: 2
...

Sheet D.1.1.04 - Zařízení pro v...
D1: List obsahuje: | F1: 1) Krycí list soupisu | G1: 2) Rekapitulace | J1: 3) Soupis prací | K1: Zpět na list: | L1: Rekapitulace stavby
AT2: {28f7fecf-ba58-41d9-a84a-364622fac12e}
AT3: 2
D4: KRYCÍ LIST SOUPISU | M4: v --- níže se nacházejí doplnkové a pomocné údaje k sestavám --- v | AT4: False
D6: Stavba:
E7: ='Rekapitulace stavby'!K6 -> Transformace ÚSP pro mládež Kvasiny – výstavba v lokalitě Kostelec nad Orlicí 2
D8: Objekt:
E9: A - Hlavní aktivity projektu
D10: Soupis:
E11: SO01 - Rodinný dům
D12: Úroveň 3:
E13: D.1.1.04 - Zařízení pro vytápění staveb, VZT
D15: KSO: | I15: CC-CZ:
D16: Místo: | I16: Datum: | J16: ='Rekapitulace stavby'!AN8 -> 11. 5. 2017
D18: Zadavatel: | I18: IČ: | J18: =IF('Rekapitulace stavby'!AN10="","",'Rekapitulace stavby'!AN10)
E19: =IF('Rekapitulace stavby'!E11="","",'Rekapitulace stavby'!E11) | I19: DIČ: | J19: =IF('Rekapitulace stavby'!AN11="","",'Rekapitulace stavby'!AN11)
D21: Uchazeč: | I21: IČ: | J21: =IF('Rekapitulace stavby'!AN13="Vyplň údaj","",IF('Rekapitulace stavby'!AN13="","",'Rekapitulace stavby'!AN13))
E22: =IF('Rekapitulace stavby'!E14="Vyplň údaj","",IF('Rekapitulace stavby'!E14="","",'Rekapitulace stavby'!E14)) | I22: DIČ: | J22: =IF('Rekapitulace stavby'!AN14="Vyplň údaj","",IF('Rekapitulace stavby'!AN14="","",'Rekapitulace stavby'!AN14))
D24: Projektant: | I24: IČ: | J24: =IF('Rekapitulace stavby'!AN16="","",'Rekapitulace stavby'!AN16)
E25: =IF('Rekapitulace stavby'!E17="","",'Rekapitulace stavby'!E17) | I25: DIČ: | J25: =IF('Rekapitulace stavby'!AN17="","",'Rekapitulace stavby'!AN17)
D27: Poznámka:
D31: Cena bez DPH | J31: =ROUND(J96,2) -> 0
F33: Základ daně | I33: Sazba daně | J33: Výše daně
D34: DPH | E34: základní | F34: =ROUND(SUM(BE96:BE314), 2) -> 0 | I34: 0.21 | J34: =ROUND(ROUND((SUM(BE96:BE314)), 2)*I34, 2) -> 0
E35: snížená | F35: =ROUND(SUM(BF96:BF314), 2) -> 0 | I35: 0.15 | J35: =ROUND(ROUND((SUM(BF96:BF314)), 2)*I35, 2) -> 0
E36: zákl. přenesená | F36: =ROUND(SUM(BG96:BG314), 2) -> 0 | I36: 0.21 | J36: 0
E37: sníž. přenesená | F37: =ROUND(SUM(BH96:BH314), 2) -> 0 | I37: 0.15 | J37: 0
E38: nulová | F38: =ROUND(SUM(BI96:BI314), 2) -> 0 | I38: 0 | J38: 0
D40: Cena s DPH | G40: v | H40: CZK | J40: =SUM(J31:J38) -> 0
C46: REKAPITULACE ČLENĚNÍ SOUPISU PRACÍ
C48: Stavba:
E49: =E7 -> Transformace ÚSP pro mládež Kvasiny – výstavba v lokalitě Kostelec nad Orlicí 2
C50: Objekt:
E51: A - Hlavní aktivity projektu
C52: Soupis:
E53: SO01 - Rodinný dům
C54: Úroveň 3:
E55: =E13 -> D.1.1.04 - Zařízení pro vytápění staveb, VZT
C57: Místo: | F57: =F16 | I57: Datum: | J57: =IF(J16="","",J16) -> 11. 5. 2017
C59: Zadavatel: | F59: =E19 | I59: Projektant: | J59: =E25
...

Sheet D.1.1.05 - Zdravotně tech...
D1: List obsahuje: | F1: 1) Krycí list soupisu | G1: 2) Rekapitulace | J1: 3) Soupis prací | K1: Zpět na list: | L1: Rekapitulace stavby
AT2: {b7db3b7c-5731-4890-9a58-3f8541eeb4b0} | AZ2: Odvoz | BC2: 36,04 | BD2: 2
AT3: 2
D4: KRYCÍ LIST SOUPISU | M4: v --- níže se nacházejí doplnkové a pomocné údaje k sestavám --- v | AT4: False
D6: Stavba:
E7: ='Rekapitulace stavby'!K6 -> Transformace ÚSP pro mládež Kvasiny – výstavba v lokalitě Kostelec nad Orlicí 2
D8: Objekt:
E9: A - Hlavní aktivity projektu
D10: Soupis:
E11: SO01 - Rodinný dům
D12: Úroveň 3:
E13: D.1.1.05 - Zdravotně technické instalace
D15: KSO: | I15: CC-CZ:
D16: Místo: | I16: Datum: | J16: ='Rekapitulace stavby'!AN8 -> 11. 5. 2017
D18: Zadavatel: | I18: IČ: | J18: =IF('Rekapitulace stavby'!AN10="","",'Rekapitulace stavby'!AN10)
E19: =IF('Rekapitulace stavby'!E11="","",'Rekapitulace stavby'!E11) | I19: DIČ: | J19: =IF('Rekapitulace stavby'!AN11="","",'Rekapitulace stavby'!AN11)
D21: Uchazeč: | I21: IČ: | J21: =IF('Rekapitulace stavby'!AN13="Vyplň údaj","",IF('Rekapitulace stavby'!AN13="","",'Rekapitulace stavby'!AN13))
E22: =IF('Rekapitulace stavby'!E14="Vyplň údaj","",IF('Rekapitulace stavby'!E14="","",'Rekapitulace stavby'!E14)) | I22: DIČ: | J22: =IF('Rekapitulace stavby'!AN14="Vyplň údaj","",IF('Rekapitulace stavby'!AN14="","",'Rekapitulace stavby'!AN14))
D24: Projektant: | I24: IČ: | J24: =IF('Rekapitulace stavby'!AN16="","",'Rekapitulace stavby'!AN16)
E25: =IF('Rekapitulace stavby'!E17="","",'Rekapitulace stavby'!E17) | I25: DIČ: | J25: =IF('Rekapitulace stavby'!AN17="","",'Rekapitulace stavby'!AN17)
D27: Poznámka:
D31: Cena bez DPH | J31: =ROUND(J99,2) -> 0
F33: Základ daně | I33: Sazba daně | J33: Výše daně
D34: DPH | E34: základní | F34: =ROUND(SUM(BE99:BE414), 2) -> 0 | I34: 0.21 | J34: =ROUND(ROUND((SUM(BE99:BE414)), 2)*I34, 2) -> 0
E35: snížená | F35: =ROUND(SUM(BF99:BF414), 2) -> 0 | I35: 0.15 | J35: =ROUND(ROUND((SUM(BF99:BF414)), 2)*I35, 2) -> 0
E36: zákl. přenesená | F36: =ROUND(SUM(BG99:BG414), 2) -> 0 | I36: 0.21 | J36: 0
E37: sníž. přenesená | F37: =ROUND(SUM(BH99:BH414), 2) -> 0 | I37: 0.15 | J37: 0
E38: nulová | F38: =ROUND(SUM(BI99:BI414), 2) -> 0 | I38: 0 | J38: 0
D40: Cena s DPH | G40: v | H40: CZK | J40: =SUM(J31:J38) -> 0
C46: REKAPITULACE ČLENĚNÍ SOUPISU PRACÍ
C48: Stavba:
E49: =E7 -> Transformace ÚSP pro mládež Kvasiny – výstavba v lokalitě Kostelec nad Orlicí 2
C50: Objekt:
E51: A - Hlavní aktivity projektu
C52: Soupis:
E53: SO01 - Rodinný dům
C54: Úroveň 3:
E55: =E13 -> D.1.1.05 - Zdravotně technické instalace
C57: Místo: | F57: =F16 | I57: Datum: | J57: =IF(J16="","",J16) -> 11. 5. 2017
C59: Zadavatel: | F59: =E19 | I59: Projektant: | J59: =E25
...

Sheet D.1.1.06 - Silnoproudá el...
D1: List obsahuje: | F1: 1) Krycí list soupisu | G1: 2) Rekapitulace | J1: 3) Soupis prací | K1: Zpět na list: | L1: Rekapitulace stavby
AT2: {81ff8963-aae4-4d1f-9b4f-a83f1bdf00dd}
AT3: 2
D4: KRYCÍ LIST SOUPISU | M4: v --- níže se nacházejí doplnkové a pomocné údaje k sestavám --- v | AT4: False
D6: Stavba:
E7: ='Rekapitulace stavby'!K6 -> Transformace ÚSP pro mládež Kvasiny – výstavba v lokalitě Kostelec nad Orlicí 2
D8: Objekt:
E9: A - Hlavní aktivity projektu
D10: Soupis:
E11: SO01 - Rodinný dům
D12: Úroveň 3:
E13: D.1.1.06 - Silnoproudá elektroinstalace, bleskosvod
D15: KSO: | I15: CC-CZ:
D16: Místo: | I16: Datum: | J16: ='Rekapitulace stavby'!AN8 -> 11. 5. 2017
D18: Zadavatel: | I18: IČ: | J18: =IF('Rekapitulace stavby'!AN10="","",'Rekapitulace stavby'!AN10)
E19: =IF('Rekapitulace stavby'!E11="","",'Rekapitulace stavby'!E11) | I19: DIČ: | J19: =IF('Rekapitulace stavby'!AN11="","",'Rekapitulace stavby'!AN11)
D21: Uchazeč: | I21: IČ: | J21: =IF('Rekapitulace stavby'!AN13="Vyplň údaj","",IF('Rekapitulace stavby'!AN13="","",'Rekapitulace stavby'!AN13))
E22: =IF('Rekapitulace stavby'!E14="Vyplň údaj","",IF('Rekapitulace stavby'!E14="","",'Rekapitulace stavby'!E14)) | I22: DIČ: | J22: =IF('Rekapitulace stavby'!AN14="Vyplň údaj","",IF('Rekapitulace stavby'!AN14="","",'Rekapitulace stavby'!AN14))
D24: Projektant: | I24: IČ: | J24: =IF('Rekapitulace stavby'!AN16="","",'Rekapitulace stavby'!AN16)
E25: =IF('Rekapitulace stavby'!E17="","",'Rekapitulace stavby'!E17) | I25: DIČ: | J25: =IF('Rekapitulace stavby'!AN17="","",'Rekapitulace stavby'!AN17)
D27: Poznámka:
D31: Cena bez DPH | J31: =ROUND(J98,2) -> 0
F33: Základ daně | I33: Sazba daně | J33: Výše daně
D34: DPH | E34: základní | F34: =ROUND(SUM(BE98:BE285), 2) -> 0 | I34: 0.21 | J34: =ROUND(ROUND((SUM(BE98:BE285)), 2)*I34, 2) -> 0
E35: snížená | F35: =ROUND(SUM(BF98:BF285), 2) -> 0 | I35: 0.15 | J35: =ROUND(ROUND((SUM(BF98:BF285)), 2)*I35, 2) -> 0
E36: zákl. přenesená | F36: =ROUND(SUM(BG98:BG285), 2) -> 0 | I36: 0.21 | J36: 0
E37: sníž. přenesená | F37: =ROUND(SUM(BH98:BH285), 2) -> 0 | I37: 0.15 | J37: 0
E38: nulová | F38: =ROUND(SUM(BI98:BI285), 2) -> 0 | I38: 0 | J38: 0
D40: Cena s DPH | G40: v | H40: CZK | J40: =SUM(J31:J38) -> 0
C46: REKAPITULACE ČLENĚNÍ SOUPISU PRACÍ
C48: Stavba:
E49: =E7 -> Transformace ÚSP pro mládež Kvasiny – výstavba v lokalitě Kostelec nad Orlicí 2
C50: Objekt:
E51: A - Hlavní aktivity projektu
C52: Soupis:
E53: SO01 - Rodinný dům
C54: Úroveň 3:
E55: =E13 -> D.1.1.06 - Silnoproudá elektroinstalace, bleskosvod
C57: Místo: | F57: =F16 | I57: Datum: | J57: =IF(J16="","",J16) -> 11. 5. 2017
C59: Zadavatel: | F59: =E19 | I59: Projektant: | J59: =E25
...

Sheet D.1.1.07 - Slaboproudá el...
D1: List obsahuje: | F1: 1) Krycí list soupisu | G1: 2) Rekapitulace | J1: 3) Soupis prací | K1: Zpět na list: | L1: Rekapitulace stavby
AT2: {299425f4-185b-40d2-a647-f6019e7c8444}
AT3: 2
D4: KRYCÍ LIST SOUPISU | M4: v --- níže se nacházejí doplnkové a pomocné údaje k sestavám --- v | AT4: False
D6: Stavba:
E7: ='Rekapitulace stavby'!K6 -> Transformace ÚSP pro mládež Kvasiny – výstavba v lokalitě Kostelec nad Orlicí 2
D8: Objekt:
E9: A - Hlavní aktivity projektu
D10: Soupis:
E11: SO01 - Rodinný dům
D12: Úroveň 3:
E13: D.1.1.07 - Slaboproudá elektroinstalace
D15: KSO: | I15: CC-CZ:
D16: Místo: | I16: Datum: | J16: ='Rekapitulace stavby'!AN8 -> 11. 5. 2017
D18: Zadavatel: | I18: IČ: | J18: =IF('Rekapitulace stavby'!AN10="","",'Rekapitulace stavby'!AN10)
E19: =IF('Rekapitulace stavby'!E11="","",'Rekapitulace stavby'!E11) | I19: DIČ: | J19: =IF('Rekapitulace stavby'!AN11="","",'Rekapitulace stavby'!AN11)
D21: Uchazeč: | I21: IČ: | J21: =IF('Rekapitulace stavby'!AN13="Vyplň údaj","",IF('Rekapitulace stavby'!AN13="","",'Rekapitulace stavby'!AN13))
E22: =IF('Rekapitulace stavby'!E14="Vyplň údaj","",IF('Rekapitulace stavby'!E14="","",'Rekapitulace stavby'!E14)) | I22: DIČ: | J22: =IF('Rekapitulace stavby'!AN14="Vyplň údaj","",IF('Rekapitulace stavby'!AN14="","",'Rekapitulace stavby'!AN14))
D24: Projektant: | I24: IČ: | J24: =IF('Rekapitulace stavby'!AN16="","",'Rekapitulace stavby'!AN16)
E25: =IF('Rekapitulace stavby'!E17="","",'Rekapitulace stavby'!E17) | I25: DIČ: | J25: =IF('Rekapitulace stavby'!AN17="","",'Rekapitulace stavby'!AN17)
D27: Poznámka:
D31: Cena bez DPH | J31: =ROUND(J93,2) -> 0
F33: Základ daně | I33: Sazba daně | J33: Výše daně
D34: DPH | E34: základní | F34: =ROUND(SUM(BE93:BE138), 2) -> 0 | I34: 0.21 | J34: =ROUND(ROUND((SUM(BE93:BE138)), 2)*I34, 2) -> 0
E35: snížená | F35: =ROUND(SUM(BF93:BF138), 2) -> 0 | I35: 0.15 | J35: =ROUND(ROUND((SUM(BF93:BF138)), 2)*I35, 2) -> 0
E36: zákl. přenesená | F36: =ROUND(SUM(BG93:BG138), 2) -> 0 | I36: 0.21 | J36: 0
E37: sníž. přenesená | F37: =ROUND(SUM(BH93:BH138), 2) -> 0 | I37: 0.15 | J37: 0
E38: nulová | F38: =ROUND(SUM(BI93:BI138), 2) -> 0 | I38: 0 | J38: 0
D40: Cena s DPH | G40: v | H40: CZK | J40: =SUM(J31:J38) -> 0
C46: REKAPITULACE ČLENĚNÍ SOUPISU PRACÍ
C48: Stavba:
E49: =E7 -> Transformace ÚSP pro mládež Kvasiny – výstavba v lokalitě Kostelec nad Orlicí 2
C50: Objekt:
E51: A - Hlavní aktivity projektu
C52: Soupis:
E53: SO01 - Rodinný dům
C54: Úroveň 3:
E55: =E13 -> D.1.1.07 - Slaboproudá elektroinstalace
C57: Místo: | F57: =F16 | I57: Datum: | J57: =IF(J16="","",J16) -> 11. 5. 2017
C59: Zadavatel: | F59: =E19 | I59: Projektant: | J59: =E25
...

Sheet IO03 - Okapový chodníček
D1: List obsahuje: | F1: 1) Krycí list soupisu | G1: 2) Rekapitulace | J1: 3) Soupis prací | K1: Zpět na list: | L1: Rekapitulace stavby
AT2: {47dbdefd-9f29-4da9-9455-35737de775f0} | AZ2: Odkopávky | BC2: 2,04 | BD2: 2
AT3: 2 | AZ3: IO03 | BC3: 13,6 | BD3: 2
D4: KRYCÍ LIST SOUPISU | M4: v --- níže se nacházejí doplnkové a pomocné údaje k sestavám --- v | AT4: False | AZ4: Násyp | BC4: 2,04 | BD4: 2
D6: Stavba:
E7: ='Rekapitulace stavby'!K6 -> Transformace ÚSP pro mládež Kvasiny – výstavba v lokalitě Kostelec nad Orlicí 2
D8: Objekt:
E9: A - Hlavní aktivity projektu
D10: Soupis:
E11: D.2.1 - Komunikace a zpevněné plochy
D12: Úroveň 3:
E13: IO03 - Okapový chodníček
D15: KSO: | I15: CC-CZ:
D16: Místo: | I16: Datum: | J16: ='Rekapitulace stavby'!AN8 -> 11. 5. 2017
D18: Zadavatel: | I18: IČ: | J18: =IF('Rekapitulace stavby'!AN10="","",'Rekapitulace stavby'!AN10)
E19: =IF('Rekapitulace stavby'!E11="","",'Rekapitulace stavby'!E11) | I19: DIČ: | J19: =IF('Rekapitulace stavby'!AN11="","",'Rekapitulace stavby'!AN11)
D21: Uchazeč: | I21: IČ: | J21: =IF('Rekapitulace stavby'!AN13="Vyplň údaj","",IF('Rekapitulace stavby'!AN13="","",'Rekapitulace stavby'!AN13))
E22: =IF('Rekapitulace stavby'!E14="Vyplň údaj","",IF('Rekapitulace stavby'!E14="","",'Rekapitulace stavby'!E14)) | I22: DIČ: | J22: =IF('Rekapitulace stavby'!AN14="Vyplň údaj","",IF('Rekapitulace stavby'!AN14="","",'Rekapitulace stavby'!AN14))
D24: Projektant: | I24: IČ: | J24: =IF('Rekapitulace stavby'!AN16="","",'Rekapitulace stavby'!AN16)
E25: =IF('Rekapitulace stavby'!E17="","",'Rekapitulace stavby'!E17) | I25: DIČ: | J25: =IF('Rekapitulace stavby'!AN17="","",'Rekapitulace stavby'!AN17)
D27: Poznámka:
D31: Cena bez DPH | J31: =ROUND(J94,2) -> 0
F33: Základ daně | I33: Sazba daně | J33: Výše daně
D34: DPH | E34: základní | F34: =ROUND(SUM(BE94:BE138), 2) -> 0 | I34: 0.21 | J34: =ROUND(ROUND((SUM(BE94:BE138)), 2)*I34, 2) -> 0
E35: snížená | F35: =ROUND(SUM(BF94:BF138), 2) -> 0 | I35: 0.15 | J35: =ROUND(ROUND((SUM(BF94:BF138)), 2)*I35, 2) -> 0
E36: zákl. přenesená | F36: =ROUND(SUM(BG94:BG138), 2) -> 0 | I36: 0.21 | J36: 0
E37: sníž. přenesená | F37: =ROUND(SUM(BH94:BH138), 2) -> 0 | I37: 0.15 | J37: 0
E38: nulová | F38: =ROUND(SUM(BI94:BI138), 2) -> 0 | I38: 0 | J38: 0
D40: Cena s DPH | G40: v | H40: CZK | J40: =SUM(J31:J38) -> 0
C46: REKAPITULACE ČLENĚNÍ SOUPISU PRACÍ
C48: Stavba:
E49: =E7 -> Transformace ÚSP pro mládež Kvasiny – výstavba v lokalitě Kostelec nad Orlicí 2
C50: Objekt:
E51: A - Hlavní aktivity projektu
C52: Soupis:
E53: D.2.1 - Komunikace a zpevněné plochy
C54: Úroveň 3:
E55: =E13 -> IO03 - Okapový chodníček
C57: Místo: | F57: =F16 | I57: Datum: | J57: =IF(J16="","",J16) -> 11. 5. 2017
C59: Zadavatel: | F59: =E19 | I59: Projektant: | J59: =E25
...

Sheet TI01 - Vodovod
D1: List obsahuje: | F1: 1) Krycí list soupisu | G1: 2) Rekapitulace | J1: 3) Soupis prací | K1: Zpět na list: | L1: Rekapitulace stavby
AT2: {c767ab61-5148-4374-b833-337106463f41} | AZ2: Odvoz | BC2: 32,515 | BD2: 2
AT3: 2
D4: KRYCÍ LIST SOUPISU | M4: v --- níže se nacházejí doplnkové a pomocné údaje k sestavám --- v | AT4: False
D6: Stavba:
E7: ='Rekapitulace stavby'!K6 -> Transformace ÚSP pro mládež Kvasiny – výstavba v lokalitě Kostelec nad Orlicí 2
D8: Objekt:
E9: A - Hlavní aktivity projektu
D10: Soupis:
E11: D.2.2 - Kanalizace a vodovod
D12: Úroveň 3:
E13: TI01 - Vodovod
D15: KSO: | I15: CC-CZ:
D16: Místo: | I16: Datum: | J16: ='Rekapitulace stavby'!AN8 -> 11. 5. 2017
D18: Zadavatel: | I18: IČ: | J18: =IF('Rekapitulace stavby'!AN10="","",'Rekapitulace stavby'!AN10)
E19: =IF('Rekapitulace stavby'!E11="","",'Rekapitulace stavby'!E11) | I19: DIČ: | J19: =IF('Rekapitulace stavby'!AN11="","",'Rekapitulace stavby'!AN11)
D21: Uchazeč: | I21: IČ: | J21: =IF('Rekapitulace stavby'!AN13="Vyplň údaj","",IF('Rekapitulace stavby'!AN13="","",'Rekapitulace stavby'!AN13))
E22: =IF('Rekapitulace stavby'!E14="Vyplň údaj","",IF('Rekapitulace stavby'!E14="","",'Rekapitulace stavby'!E14)) | I22: DIČ: | J22: =IF('Rekapitulace stavby'!AN14="Vyplň údaj","",IF('Rekapitulace stavby'!AN14="","",'Rekapitulace stavby'!AN14))
D24: Projektant: | I24: IČ: | J24: =IF('Rekapitulace stavby'!AN16="","",'Rekapitulace stavby'!AN16)
E25: =IF('Rekapitulace stavby'!E17="","",'Rekapitulace stavby'!E17) | I25: DIČ: | J25: =IF('Rekapitulace stavby'!AN17="","",'Rekapitulace stavby'!AN17)
D27: Poznámka:
D31: Cena bez DPH | J31: =ROUND(J95,2) -> 0
F33: Základ daně | I33: Sazba daně | J33: Výše daně
D34: DPH | E34: základní | F34: =ROUND(SUM(BE95:BE237), 2) -> 0 | I34: 0.21 | J34: =ROUND(ROUND((SUM(BE95:BE237)), 2)*I34, 2) -> 0
E35: snížená | F35: =ROUND(SUM(BF95:BF237), 2) -> 0 | I35: 0.15 | J35: =ROUND(ROUND((SUM(BF95:BF237)), 2)*I35, 2) -> 0
E36: zákl. přenesená | F36: =ROUND(SUM(BG95:BG237), 2) -> 0 | I36: 0.21 | J36: 0
E37: sníž. přenesená | F37: =ROUND(SUM(BH95:BH237), 2) -> 0 | I37: 0.15 | J37: 0
E38: nulová | F38: =ROUND(SUM(BI95:BI237), 2) -> 0 | I38: 0 | J38: 0
D40: Cena s DPH | G40: v | H40: CZK | J40: =SUM(J31:J38) -> 0
C46: REKAPITULACE ČLENĚNÍ SOUPISU PRACÍ
C48: Stavba:
E49: =E7 -> Transformace ÚSP pro mládež Kvasiny – výstavba v lokalitě Kostelec nad Orlicí 2
C50: Objekt:
E51: A - Hlavní aktivity projektu
C52: Soupis:
E53: D.2.2 - Kanalizace a vodovod
C54: Úroveň 3:
E55: =E13 -> TI01 - Vodovod
C57: Místo: | F57: =F16 | I57: Datum: | J57: =IF(J16="","",J16) -> 11. 5. 2017
C59: Zadavatel: | F59: =E19 | I59: Projektant: | J59: =E25
...

Sheet TI02 - Splašková kanalizace
D1: List obsahuje: | F1: 1) Krycí list soupisu | G1: 2) Rekapitulace | J1: 3) Soupis prací | K1: Zpět na list: | L1: Rekapitulace stavby
AT2: {81789de1-3b75-4e10-af4b-0fe5f8e532cd} | AZ2: Odvoz | BC2: 24,48 | BD2: 2
AT3: 2
D4: KRYCÍ LIST SOUPISU | M4: v --- níže se nacházejí doplnkové a pomocné údaje k sestavám --- v | AT4: False
D6: Stavba:
E7: ='Rekapitulace stavby'!K6 -> Transformace ÚSP pro mládež Kvasiny – výstavba v lokalitě Kostelec nad Orlicí 2
D8: Objekt:
E9: A - Hlavní aktivity projektu
D10: Soupis:
E11: D.2.2 - Kanalizace a vodovod
D12: Úroveň 3:
E13: TI02 - Splašková kanalizace
D15: KSO: | I15: CC-CZ:
D16: Místo: | I16: Datum: | J16: ='Rekapitulace stavby'!AN8 -> 11. 5. 2017
D18: Zadavatel: | I18: IČ: | J18: =IF('Rekapitulace stavby'!AN10="","",'Rekapitulace stavby'!AN10)
E19: =IF('Rekapitulace stavby'!E11="","",'Rekapitulace stavby'!E11) | I19: DIČ: | J19: =IF('Rekapitulace stavby'!AN11="","",'Rekapitulace stavby'!AN11)
D21: Uchazeč: | I21: IČ: | J21: =IF('Rekapitulace stavby'!AN13="Vyplň údaj","",IF('Rekapitulace stavby'!AN13="","",'Rekapitulace stavby'!AN13))
E22: =IF('Rekapitulace stavby'!E14="Vyplň údaj","",IF('Rekapitulace stavby'!E14="","",'Rekapitulace stavby'!E14)) | I22: DIČ: | J22: =IF('Rekapitulace stavby'!AN14="Vyplň údaj","",IF('Rekapitulace stavby'!AN14="","",'Rekapitulace stavby'!AN14))
D24: Projektant: | I24: IČ: | J24: =IF('Rekapitulace stavby'!AN16="","",'Rekapitulace stavby'!AN16)
E25: =IF('Rekapitulace stavby'!E17="","",'Rekapitulace stavby'!E17) | I25: DIČ: | J25: =IF('Rekapitulace stavby'!AN17="","",'Rekapitulace stavby'!AN17)
D27: Poznámka:
D31: Cena bez DPH | J31: =ROUND(J95,2) -> 0
F33: Základ daně | I33: Sazba daně | J33: Výše daně
D34: DPH | E34: základní | F34: =ROUND(SUM(BE95:BE243), 2) -> 0 | I34: 0.21 | J34: =ROUND(ROUND((SUM(BE95:BE243)), 2)*I34, 2) -> 0
E35: snížená | F35: =ROUND(SUM(BF95:BF243), 2) -> 0 | I35: 0.15 | J35: =ROUND(ROUND((SUM(BF95:BF243)), 2)*I35, 2) -> 0
E36: zákl. přenesená | F36: =ROUND(SUM(BG95:BG243), 2) -> 0 | I36: 0.21 | J36: 0
E37: sníž. přenesená | F37: =ROUND(SUM(BH95:BH243), 2) -> 0 | I37: 0.15 | J37: 0
E38: nulová | F38: =ROUND(SUM(BI95:BI243), 2) -> 0 | I38: 0 | J38: 0
D40: Cena s DPH | G40: v | H40: CZK | J40: =SUM(J31:J38) -> 0
C46: REKAPITULACE ČLENĚNÍ SOUPISU PRACÍ
C48: Stavba:
E49: =E7 -> Transformace ÚSP pro mládež Kvasiny – výstavba v lokalitě Kostelec nad Orlicí 2
C50: Objekt:
E51: A - Hlavní aktivity projektu
C52: Soupis:
E53: D.2.2 - Kanalizace a vodovod
C54: Úroveň 3:
E55: =E13 -> TI02 - Splašková kanalizace
C57: Místo: | F57: =F16 | I57: Datum: | J57: =IF(J16="","",J16) -> 11. 5. 2017
C59: Zadavatel: | F59: =E19 | I59: Projektant: | J59: =E25
...

Sheet TI03 - Dešťová kanalizace
D1: List obsahuje: | F1: 1) Krycí list soupisu | G1: 2) Rekapitulace | J1: 3) Soupis prací | K1: Zpět na list: | L1: Rekapitulace stavby
AT2: {1abae781-578a-4057-886d-01bbe76087e9} | AZ2: Odvoz | BC2: 94,928 | BD2: 2
AT3: 2
D4: KRYCÍ LIST SOUPISU | M4: v --- níže se nacházejí doplnkové a pomocné údaje k sestavám --- v | AT4: False
D6: Stavba:
E7: ='Rekapitulace stavby'!K6 -> Transformace ÚSP pro mládež Kvasiny – výstavba v lokalitě Kostelec nad Orlicí 2
D8: Objekt:
E9: A - Hlavní aktivity projektu
D10: Soupis:
E11: D.2.2 - Kanalizace a vodovod
D12: Úroveň 3:
E13: TI03 - Dešťová kanalizace
D15: KSO: | I15: CC-CZ:
D16: Místo: | I16: Datum: | J16: ='Rekapitulace stavby'!AN8 -> 11. 5. 2017
D18: Zadavatel: | I18: IČ: | J18: =IF('Rekapitulace stavby'!AN10="","",'Rekapitulace stavby'!AN10)
E19: =IF('Rekapitulace stavby'!E11="","",'Rekapitulace stavby'!E11) | I19: DIČ: | J19: =IF('Rekapitulace stavby'!AN11="","",'Rekapitulace stavby'!AN11)
D21: Uchazeč: | I21: IČ: | J21: =IF('Rekapitulace stavby'!AN13="Vyplň údaj","",IF('Rekapitulace stavby'!AN13="","",'Rekapitulace stavby'!AN13))
E22: =IF('Rekapitulace stavby'!E14="Vyplň údaj","",IF('Rekapitulace stavby'!E14="","",'Rekapitulace stavby'!E14)) | I22: DIČ: | J22: =IF('Rekapitulace stavby'!AN14="Vyplň údaj","",IF('Rekapitulace stavby'!AN14="","",'Rekapitulace stavby'!AN14))
D24: Projektant: | I24: IČ: | J24: =IF('Rekapitulace stavby'!AN16="","",'Rekapitulace stavby'!AN16)
E25: =IF('Rekapitulace stavby'!E17="","",'Rekapitulace stavby'!E17) | I25: DIČ: | J25: =IF('Rekapitulace stavby'!AN17="","",'Rekapitulace stavby'!AN17)
D27: Poznámka:
D31: Cena bez DPH | J31: =ROUND(J96,2) -> 0
F33: Základ daně | I33: Sazba daně | J33: Výše daně
D34: DPH | E34: základní | F34: =ROUND(SUM(BE96:BE222), 2) -> 0 | I34: 0.21 | J34: =ROUND(ROUND((SUM(BE96:BE222)), 2)*I34, 2) -> 0
E35: snížená | F35: =ROUND(SUM(BF96:BF222), 2) -> 0 | I35: 0.15 | J35: =ROUND(ROUND((SUM(BF96:BF222)), 2)*I35, 2) -> 0
E36: zákl. přenesená | F36: =ROUND(SUM(BG96:BG222), 2) -> 0 | I36: 0.21 | J36: 0
E37: sníž. přenesená | F37: =ROUND(SUM(BH96:BH222), 2) -> 0 | I37: 0.15 | J37: 0
E38: nulová | F38: =ROUND(SUM(BI96:BI222), 2) -> 0 | I38: 0 | J38: 0
D40: Cena s DPH | G40: v | H40: CZK | J40: =SUM(J31:J38) -> 0
C46: REKAPITULACE ČLENĚNÍ SOUPISU PRACÍ
C48: Stavba:
E49: =E7 -> Transformace ÚSP pro mládež Kvasiny – výstavba v lokalitě Kostelec nad Orlicí 2
C50: Objekt:
E51: A - Hlavní aktivity projektu
C52: Soupis:
E53: D.2.2 - Kanalizace a vodovod
C54: Úroveň 3:
E55: =E13 -> TI03 - Dešťová kanalizace
C57: Místo: | F57: =F16 | I57: Datum: | J57: =IF(J16="","",J16) -> 11. 5. 2017
C59: Zadavatel: | F59: =E19 | I59: Projektant: | J59: =E25
...

Sheet D.2.3.01 - Plynová zařízení
D1: List obsahuje: | F1: 1) Krycí list soupisu | G1: 2) Rekapitulace | J1: 3) Soupis prací | K1: Zpět na list: | L1: Rekapitulace stavby
AT2: {eaf53546-8fe1-48da-828c-343c957edda7}
AT3: 2
D4: KRYCÍ LIST SOUPISU | M4: v --- níže se nacházejí doplnkové a pomocné údaje k sestavám --- v | AT4: False
D6: Stavba:
E7: ='Rekapitulace stavby'!K6 -> Transformace ÚSP pro mládež Kvasiny – výstavba v lokalitě Kostelec nad Orlicí 2
D8: Objekt:
E9: A - Hlavní aktivity projektu
D10: Soupis:
E11: D.2.3 - Plynovod
D12: Úroveň 3:
E13: D.2.3.01 - Plynová zařízení
D15: KSO: | I15: CC-CZ:
D16: Místo: | I16: Datum: | J16: ='Rekapitulace stavby'!AN8 -> 11. 5. 2017
D18: Zadavatel: | I18: IČ: | J18: =IF('Rekapitulace stavby'!AN10="","",'Rekapitulace stavby'!AN10)
E19: =IF('Rekapitulace stavby'!E11="","",'Rekapitulace stavby'!E11) | I19: DIČ: | J19: =IF('Rekapitulace stavby'!AN11="","",'Rekapitulace stavby'!AN11)
D21: Uchazeč: | I21: IČ: | J21: =IF('Rekapitulace stavby'!AN13="Vyplň údaj","",IF('Rekapitulace stavby'!AN13="","",'Rekapitulace stavby'!AN13))
E22: =IF('Rekapitulace stavby'!E14="Vyplň údaj","",IF('Rekapitulace stavby'!E14="","",'Rekapitulace stavby'!E14)) | I22: DIČ: | J22: =IF('Rekapitulace stavby'!AN14="Vyplň údaj","",IF('Rekapitulace stavby'!AN14="","",'Rekapitulace stavby'!AN14))
D24: Projektant: | I24: IČ: | J24: =IF('Rekapitulace stavby'!AN16="","",'Rekapitulace stavby'!AN16)
E25: =IF('Rekapitulace stavby'!E17="","",'Rekapitulace stavby'!E17) | I25: DIČ: | J25: =IF('Rekapitulace stavby'!AN17="","",'Rekapitulace stavby'!AN17)
D27: Poznámka:
D31: Cena bez DPH | J31: =ROUND(J92,2) -> 0
F33: Základ daně | I33: Sazba daně | J33: Výše daně
D34: DPH | E34: základní | F34: =ROUND(SUM(BE92:BE138), 2) -> 0 | I34: 0.21 | J34: =ROUND(ROUND((SUM(BE92:BE138)), 2)*I34, 2) -> 0
E35: snížená | F35: =ROUND(SUM(BF92:BF138), 2) -> 0 | I35: 0.15 | J35: =ROUND(ROUND((SUM(BF92:BF138)), 2)*I35, 2) -> 0
E36: zákl. přenesená | F36: =ROUND(SUM(BG92:BG138), 2) -> 0 | I36: 0.21 | J36: 0
E37: sníž. přenesená | F37: =ROUND(SUM(BH92:BH138), 2) -> 0 | I37: 0.15 | J37: 0
E38: nulová | F38: =ROUND(SUM(BI92:BI138), 2) -> 0 | I38: 0 | J38: 0
D40: Cena s DPH | G40: v | H40: CZK | J40: =SUM(J31:J38) -> 0
C46: REKAPITULACE ČLENĚNÍ SOUPISU PRACÍ
C48: Stavba:
E49: =E7 -> Transformace ÚSP pro mládež Kvasiny – výstavba v lokalitě Kostelec nad Orlicí 2
C50: Objekt:
E51: A - Hlavní aktivity projektu
C52: Soupis:
E53: D.2.3 - Plynovod
C54: Úroveň 3:
E55: =E13 -> D.2.3.01 - Plynová zařízení
C57: Místo: | F57: =F16 | I57: Datum: | J57: =IF(J16="","",J16) -> 11. 5. 2017
C59: Zadavatel: | F59: =E19 | I59: Projektant: | J59: =E25
...

Sheet D.2.3.02 - Plynovodní pří...
D1: List obsahuje: | F1: 1) Krycí list soupisu | G1: 2) Rekapitulace | J1: 3) Soupis prací | K1: Zpět na list: | L1: Rekapitulace stavby
AT2: {156a2565-b3f7-42b6-a41a-ac3c17dd6382} | AZ2: Odvoz | BC2: 14,978 | BD2: 2
AT3: 2
D4: KRYCÍ LIST SOUPISU | M4: v --- níže se nacházejí doplnkové a pomocné údaje k sestavám --- v | AT4: False
D6: Stavba:
E7: ='Rekapitulace stavby'!K6 -> Transformace ÚSP pro mládež Kvasiny – výstavba v lokalitě Kostelec nad Orlicí 2
D8: Objekt:
E9: A - Hlavní aktivity projektu
D10: Soupis:
E11: D.2.3 - Plynovod
D12: Úroveň 3:
E13: D.2.3.02 - Plynovodní přípojka TI05
D15: KSO: | I15: CC-CZ:
D16: Místo: | I16: Datum: | J16: ='Rekapitulace stavby'!AN8 -> 11. 5. 2017
D18: Zadavatel: | I18: IČ: | J18: =IF('Rekapitulace stavby'!AN10="","",'Rekapitulace stavby'!AN10)
E19: =IF('Rekapitulace stavby'!E11="","",'Rekapitulace stavby'!E11) | I19: DIČ: | J19: =IF('Rekapitulace stavby'!AN11="","",'Rekapitulace stavby'!AN11)
D21: Uchazeč: | I21: IČ: | J21: =IF('Rekapitulace stavby'!AN13="Vyplň údaj","",IF('Rekapitulace stavby'!AN13="","",'Rekapitulace stavby'!AN13))
E22: =IF('Rekapitulace stavby'!E14="Vyplň údaj","",IF('Rekapitulace stavby'!E14="","",'Rekapitulace stavby'!E14)) | I22: DIČ: | J22: =IF('Rekapitulace stavby'!AN14="Vyplň údaj","",IF('Rekapitulace stavby'!AN14="","",'Rekapitulace stavby'!AN14))
D24: Projektant: | I24: IČ: | J24: =IF('Rekapitulace stavby'!AN16="","",'Rekapitulace stavby'!AN16)
E25: =IF('Rekapitulace stavby'!E17="","",'Rekapitulace stavby'!E17) | I25: DIČ: | J25: =IF('Rekapitulace stavby'!AN17="","",'Rekapitulace stavby'!AN17)
D27: Poznámka:
D31: Cena bez DPH | J31: =ROUND(J95,2) -> 0
F33: Základ daně | I33: Sazba daně | J33: Výše daně
D34: DPH | E34: základní | F34: =ROUND(SUM(BE95:BE295), 2) -> 0 | I34: 0.21 | J34: =ROUND(ROUND((SUM(BE95:BE295)), 2)*I34, 2) -> 0
E35: snížená | F35: =ROUND(SUM(BF95:BF295), 2) -> 0 | I35: 0.15 | J35: =ROUND(ROUND((SUM(BF95:BF295)), 2)*I35, 2) -> 0
E36: zákl. přenesená | F36: =ROUND(SUM(BG95:BG295), 2) -> 0 | I36: 0.21 | J36: 0
E37: sníž. přenesená | F37: =ROUND(SUM(BH95:BH295), 2) -> 0 | I37: 0.15 | J37: 0
E38: nulová | F38: =ROUND(SUM(BI95:BI295), 2) -> 0 | I38: 0 | J38: 0
D40: Cena s DPH | G40: v | H40: CZK | J40: =SUM(J31:J38) -> 0
C46: REKAPITULACE ČLENĚNÍ SOUPISU PRACÍ
C48: Stavba:
E49: =E7 -> Transformace ÚSP pro mládež Kvasiny – výstavba v lokalitě Kostelec nad Orlicí 2
C50: Objekt:
E51: A - Hlavní aktivity projektu
C52: Soupis:
E53: D.2.3 - Plynovod
C54: Úroveň 3:
E55: =E13 -> D.2.3.02 - Plynovodní přípojka TI05
C57: Místo: | F57: =F16 | I57: Datum: | J57: =IF(J16="","",J16) -> 11. 5. 2017
C59: Zadavatel: | F59: =E19 | I59: Projektant: | J59: =E25
...

Sheet D.2.4 - Podzemní vedení e...
D1: List obsahuje: | F1: 1) Krycí list soupisu | G1: 2) Rekapitulace | J1: 3) Soupis prací | K1: Zpět na list: | L1: Rekapitulace stavby
AT2: {1c65ba75-565b-4112-b498-d99f41a7b1ec}
AT3: 2
D4: KRYCÍ LIST SOUPISU | M4: v --- níže se nacházejí doplnkové a pomocné údaje k sestavám --- v | AT4: False
D6: Stavba:
E7: ='Rekapitulace stavby'!K6 -> Transformace ÚSP pro mládež Kvasiny – výstavba v lokalitě Kostelec nad Orlicí 2
D8: Objekt:
E9: A - Hlavní aktivity projektu
D10: Soupis:
E11: D.2.4 - Podzemní vedení elektro
D13: KSO: | I13: CC-CZ:
D14: Místo: | I14: Datum: | J14: ='Rekapitulace stavby'!AN8 -> 11. 5. 2017
D16: Zadavatel: | I16: IČ: | J16: =IF('Rekapitulace stavby'!AN10="","",'Rekapitulace stavby'!AN10)
E17: =IF('Rekapitulace stavby'!E11="","",'Rekapitulace stavby'!E11) | I17: DIČ: | J17: =IF('Rekapitulace stavby'!AN11="","",'Rekapitulace stavby'!AN11)
D19: Uchazeč: | I19: IČ: | J19: =IF('Rekapitulace stavby'!AN13="Vyplň údaj","",IF('Rekapitulace stavby'!AN13="","",'Rekapitulace stavby'!AN13))
E20: =IF('Rekapitulace stavby'!E14="Vyplň údaj","",IF('Rekapitulace stavby'!E14="","",'Rekapitulace stavby'!E14)) | I20: DIČ: | J20: =IF('Rekapitulace stavby'!AN14="Vyplň údaj","",IF('Rekapitulace stavby'!AN14="","",'Rekapitulace stavby'!AN14))
D22: Projektant: | I22: IČ: | J22: =IF('Rekapitulace stavby'!AN16="","",'Rekapitulace stavby'!AN16)
E23: =IF('Rekapitulace stavby'!E17="","",'Rekapitulace stavby'!E17) | I23: DIČ: | J23: =IF('Rekapitulace stavby'!AN17="","",'Rekapitulace stavby'!AN17)
D25: Poznámka:
D29: Cena bez DPH | J29: =ROUND(J86,2) -> 0
F31: Základ daně | I31: Sazba daně | J31: Výše daně
D32: DPH | E32: základní | F32: =ROUND(SUM(BE86:BE112), 2) -> 0 | I32: 0.21 | J32: =ROUND(ROUND((SUM(BE86:BE112)), 2)*I32, 2) -> 0
E33: snížená | F33: =ROUND(SUM(BF86:BF112), 2) -> 0 | I33: 0.15 | J33: =ROUND(ROUND((SUM(BF86:BF112)), 2)*I33, 2) -> 0
E34: zákl. přenesená | F34: =ROUND(SUM(BG86:BG112), 2) -> 0 | I34: 0.21 | J34: 0
E35: sníž. přenesená | F35: =ROUND(SUM(BH86:BH112), 2) -> 0 | I35: 0.15 | J35: 0
E36: nulová | F36: =ROUND(SUM(BI86:BI112), 2) -> 0 | I36: 0 | J36: 0
D38: Cena s DPH | G38: v | H38: CZK | J38: =SUM(J29:J36) -> 0
C44: REKAPITULACE ČLENĚNÍ SOUPISU PRACÍ
C46: Stavba:
E47: =E7 -> Transformace ÚSP pro mládež Kvasiny – výstavba v lokalitě Kostelec nad Orlicí 2
C48: Objekt:
E49: A - Hlavní aktivity projektu
C50: Soupis:
E51: =E11 -> D.2.4 - Podzemní vedení elektro
C53: Místo: | F53: =F14 | I53: Datum: | J53: =IF(J14="","",J14) -> 11. 5. 2017
C55: Zadavatel: | F55: =E17 | I55: Projektant: | J55: =E23
C56: Uchazeč: | F56: =IF(E20="","",E20)
C58: Kód dílu - Popis | J58: Cena celkem [CZK]
C60: Náklady soupisu celkem | J60: =J86 -> 0 | AU60: -1
D61: D1 - Rozváděče | J61: =J87 -> 0
...

Sheet D.2.5 - Podzemní sdělovac...
D1: List obsahuje: | F1: 1) Krycí list soupisu | G1: 2) Rekapitulace | J1: 3) Soupis prací | K1: Zpět na list: | L1: Rekapitulace stavby
AT2: {ee6f9bc2-6d9f-47b3-9da3-583170dff48b}
AT3: 2
D4: KRYCÍ LIST SOUPISU | M4: v --- níže se nacházejí doplnkové a pomocné údaje k sestavám --- v | AT4: False
D6: Stavba:
E7: ='Rekapitulace stavby'!K6 -> Transformace ÚSP pro mládež Kvasiny – výstavba v lokalitě Kostelec nad Orlicí 2
D8: Objekt:
E9: A - Hlavní aktivity projektu
D10: Soupis:
E11: D.2.5 - Podzemní sdělovací vedení
D13: KSO: | I13: CC-CZ:
D14: Místo: | I14: Datum: | J14: ='Rekapitulace stavby'!AN8 -> 11. 5. 2017
D16: Zadavatel: | I16: IČ: | J16: =IF('Rekapitulace stavby'!AN10="","",'Rekapitulace stavby'!AN10)
E17: =IF('Rekapitulace stavby'!E11="","",'Rekapitulace stavby'!E11) | I17: DIČ: | J17: =IF('Rekapitulace stavby'!AN11="","",'Rekapitulace stavby'!AN11)
D19: Uchazeč: | I19: IČ: | J19: =IF('Rekapitulace stavby'!AN13="Vyplň údaj","",IF('Rekapitulace stavby'!AN13="","",'Rekapitulace stavby'!AN13))
E20: =IF('Rekapitulace stavby'!E14="Vyplň údaj","",IF('Rekapitulace stavby'!E14="","",'Rekapitulace stavby'!E14)) | I20: DIČ: | J20: =IF('Rekapitulace stavby'!AN14="Vyplň údaj","",IF('Rekapitulace stavby'!AN14="","",'Rekapitulace stavby'!AN14))
D22: Projektant: | I22: IČ: | J22: =IF('Rekapitulace stavby'!AN16="","",'Rekapitulace stavby'!AN16)
E23: =IF('Rekapitulace stavby'!E17="","",'Rekapitulace stavby'!E17) | I23: DIČ: | J23: =IF('Rekapitulace stavby'!AN17="","",'Rekapitulace stavby'!AN17)
D25: Poznámka:
D29: Cena bez DPH | J29: =ROUND(J85,2) -> 0
F31: Základ daně | I31: Sazba daně | J31: Výše daně
D32: DPH | E32: základní | F32: =ROUND(SUM(BE85:BE106), 2) -> 0 | I32: 0.21 | J32: =ROUND(ROUND((SUM(BE85:BE106)), 2)*I32, 2) -> 0
E33: snížená | F33: =ROUND(SUM(BF85:BF106), 2) -> 0 | I33: 0.15 | J33: =ROUND(ROUND((SUM(BF85:BF106)), 2)*I33, 2) -> 0
E34: zákl. přenesená | F34: =ROUND(SUM(BG85:BG106), 2) -> 0 | I34: 0.21 | J34: 0
E35: sníž. přenesená | F35: =ROUND(SUM(BH85:BH106), 2) -> 0 | I35: 0.15 | J35: 0
E36: nulová | F36: =ROUND(SUM(BI85:BI106), 2) -> 0 | I36: 0 | J36: 0
D38: Cena s DPH | G38: v | H38: CZK | J38: =SUM(J29:J36) -> 0
C44: REKAPITULACE ČLENĚNÍ SOUPISU PRACÍ
C46: Stavba:
E47: =E7 -> Transformace ÚSP pro mládež Kvasiny – výstavba v lokalitě Kostelec nad Orlicí 2
C48: Objekt:
E49: A - Hlavní aktivity projektu
C50: Soupis:
E51: =E11 -> D.2.5 - Podzemní sdělovací vedení
C53: Místo: | F53: =F14 | I53: Datum: | J53: =IF(J14="","",J14) -> 11. 5. 2017
C55: Zadavatel: | F55: =E17 | I55: Projektant: | J55: =E23
C56: Uchazeč: | F56: =IF(E20="","",E20)
C58: Kód dílu - Popis | J58: Cena celkem [CZK]
C60: Náklady soupisu celkem | J60: =J85 -> 0 | AU60: -1
D61: D1 - Kabely zemní sdělovací stíněné, včetně montáže pro tel.přípojku a dom.tel. | J61: =J86 -> 0
...

Sheet VRN - Vedlejší rozpočtové...
D1: List obsahuje: | F1: 1) Krycí list soupisu | G1: 2) Rekapitulace | J1: 3) Soupis prací | K1: Zpět na list: | L1: Rekapitulace stavby
AT2: {8b70eefa-b8ae-40b1-9729-a37a6a8a2334}
AT3: 2
D4: KRYCÍ LIST SOUPISU | M4: v --- níže se nacházejí doplnkové a pomocné údaje k sestavám --- v | AT4: False
D6: Stavba:
E7: ='Rekapitulace stavby'!K6 -> Transformace ÚSP pro mládež Kvasiny – výstavba v lokalitě Kostelec nad Orlicí 2
D8: Objekt:
E9: A - Hlavní aktivity projektu
D10: Soupis:
E11: VRN - Vedlejší rozpočtové náklady
D13: KSO: | I13: CC-CZ:
D14: Místo: | I14: Datum: | J14: ='Rekapitulace stavby'!AN8 -> 11. 5. 2017
D16: Zadavatel: | I16: IČ: | J16: =IF('Rekapitulace stavby'!AN10="","",'Rekapitulace stavby'!AN10)
E17: =IF('Rekapitulace stavby'!E11="","",'Rekapitulace stavby'!E11) | I17: DIČ: | J17: =IF('Rekapitulace stavby'!AN11="","",'Rekapitulace stavby'!AN11)
D19: Uchazeč: | I19: IČ: | J19: =IF('Rekapitulace stavby'!AN13="Vyplň údaj","",IF('Rekapitulace stavby'!AN13="","",'Rekapitulace stavby'!AN13))
E20: =IF('Rekapitulace stavby'!E14="Vyplň údaj","",IF('Rekapitulace stavby'!E14="","",'Rekapitulace stavby'!E14)) | I20: DIČ: | J20: =IF('Rekapitulace stavby'!AN14="Vyplň údaj","",IF('Rekapitulace stavby'!AN14="","",'Rekapitulace stavby'!AN14))
D22: Projektant: | I22: IČ: | J22: =IF('Rekapitulace stavby'!AN16="","",'Rekapitulace stavby'!AN16)
E23: =IF('Rekapitulace stavby'!E17="","",'Rekapitulace stavby'!E17) | I23: DIČ: | J23: =IF('Rekapitulace stavby'!AN17="","",'Rekapitulace stavby'!AN17)
D25: Poznámka:
D29: Cena bez DPH | J29: =ROUND(J86,2) -> 0
F31: Základ daně | I31: Sazba daně | J31: Výše daně
D32: DPH | E32: základní | F32: =ROUND(SUM(BE86:BE102), 2) -> 0 | I32: 0.21 | J32: =ROUND(ROUND((SUM(BE86:BE102)), 2)*I32, 2) -> 0
E33: snížená | F33: =ROUND(SUM(BF86:BF102), 2) -> 0 | I33: 0.15 | J33: =ROUND(ROUND((SUM(BF86:BF102)), 2)*I33, 2) -> 0
E34: zákl. přenesená | F34: =ROUND(SUM(BG86:BG102), 2) -> 0 | I34: 0.21 | J34: 0
E35: sníž. přenesená | F35: =ROUND(SUM(BH86:BH102), 2) -> 0 | I35: 0.15 | J35: 0
E36: nulová | F36: =ROUND(SUM(BI86:BI102), 2) -> 0 | I36: 0 | J36: 0
D38: Cena s DPH | G38: v | H38: CZK | J38: =SUM(J29:J36) -> 0
C44: REKAPITULACE ČLENĚNÍ SOUPISU PRACÍ
C46: Stavba:
E47: =E7 -> Transformace ÚSP pro mládež Kvasiny – výstavba v lokalitě Kostelec nad Orlicí 2
C48: Objekt:
E49: A - Hlavní aktivity projektu
C50: Soupis:
E51: =E11 -> VRN - Vedlejší rozpočtové náklady
C53: Místo: | F53: =F14 | I53: Datum: | J53: =IF(J14="","",J14) -> 11. 5. 2017
C55: Zadavatel: | F55: =E17 | I55: Projektant: | J55: =E23
C56: Uchazeč: | F56: =IF(E20="","",E20)
C58: Kód dílu - Popis | J58: Cena celkem [CZK]
C60: Náklady soupisu celkem | J60: =J86 -> 0 | AU60: -1
D61: VRN - Vedlejší rozpočtové náklady | J61: =J87 -> 0
...

Sheet 01 - Rodinný dům s garáží
D1: List obsahuje: | F1: 1) Krycí list soupisu | G1: 2) Rekapitulace | J1: 3) Soupis prací | K1: Zpět na list: | L1: Rekapitulace stavby
AT2: {f7ebda2a-1a72-4ca1-ba2a-7836318774ca} | AZ2: Ornice | BA2: ornice | BC2: 185,34 | BD2: 2
AT3: 2
D4: KRYCÍ LIST SOUPISU | M4: v --- níže se nacházejí doplnkové a pomocné údaje k sestavám --- v | AT4: False
D6: Stavba:
E7: ='Rekapitulace stavby'!K6 -> Transformace ÚSP pro mládež Kvasiny – výstavba v lokalitě Kostelec nad Orlicí 2
D8: Objekt:
E9: B - Vedlejší aktivity projektu
D10: Soupis:
E11: DO - Demolice
D12: Úroveň 4:
E13: 01 - Rodinný dům s garáží
D15: KSO: | I15: CC-CZ:
D16: Místo: | I16: Datum: | J16: ='Rekapitulace stavby'!AN8 -> 11. 5. 2017
D18: Zadavatel: | I18: IČ: | J18: =IF('Rekapitulace stavby'!AN10="","",'Rekapitulace stavby'!AN10)
E19: =IF('Rekapitulace stavby'!E11="","",'Rekapitulace stavby'!E11) | I19: DIČ: | J19: =IF('Rekapitulace stavby'!AN11="","",'Rekapitulace stavby'!AN11)
D21: Uchazeč: | I21: IČ: | J21: =IF('Rekapitulace stavby'!AN13="Vyplň údaj","",IF('Rekapitulace stavby'!AN13="","",'Rekapitulace stavby'!AN13))
E22: =IF('Rekapitulace stavby'!E14="Vyplň údaj","",IF('Rekapitulace stavby'!E14="","",'Rekapitulace stavby'!E14)) | I22: DIČ: | J22: =IF('Rekapitulace stavby'!AN14="Vyplň údaj","",IF('Rekapitulace stavby'!AN14="","",'Rekapitulace stavby'!AN14))
D24: Projektant: | I24: IČ: | J24: =IF('Rekapitulace stavby'!AN16="","",'Rekapitulace stavby'!AN16)
E25: =IF('Rekapitulace stavby'!E17="","",'Rekapitulace stavby'!E17) | I25: DIČ: | J25: =IF('Rekapitulace stavby'!AN17="","",'Rekapitulace stavby'!AN17)
D27: Poznámka:
D31: Cena bez DPH | J31: =ROUND(J95,2) -> 0
F33: Základ daně | I33: Sazba daně | J33: Výše daně
D34: DPH | E34: základní | F34: =ROUND(SUM(BE95:BE163), 2) -> 0 | I34: 0.21 | J34: =ROUND(ROUND((SUM(BE95:BE163)), 2)*I34, 2) -> 0
E35: snížená | F35: =ROUND(SUM(BF95:BF163), 2) -> 0 | I35: 0.15 | J35: =ROUND(ROUND((SUM(BF95:BF163)), 2)*I35, 2) -> 0
E36: zákl. přenesená | F36: =ROUND(SUM(BG95:BG163), 2) -> 0 | I36: 0.21 | J36: 0
E37: sníž. přenesená | F37: =ROUND(SUM(BH95:BH163), 2) -> 0 | I37: 0.15 | J37: 0
E38: nulová | F38: =ROUND(SUM(BI95:BI163), 2) -> 0 | I38: 0 | J38: 0
D40: Cena s DPH | G40: v | H40: CZK | J40: =SUM(J31:J38) -> 0
C46: REKAPITULACE ČLENĚNÍ SOUPISU PRACÍ
C48: Stavba:
E49: =E7 -> Transformace ÚSP pro mládež Kvasiny – výstavba v lokalitě Kostelec nad Orlicí 2
C50: Objekt:
E51: B - Vedlejší aktivity projektu
C52: Soupis:
E53: DO - Demolice
C54: Úroveň 4:
E55: =E13 -> 01 - Rodinný dům s garáží
C57: Místo: | F57: =F16 | I57: Datum: | J57: =IF(J16="","",J16) -> 11. 5. 2017
C59: Zadavatel: | F59: =E19 | I59: Projektant: | J59: =E25
...

Sheet 02 - Dílna
D1: List obsahuje: | F1: 1) Krycí list soupisu | G1: 2) Rekapitulace | J1: 3) Soupis prací | K1: Zpět na list: | L1: Rekapitulace stavby
AT2: {5f81e965-d0d6-4b66-a3fc-a0481caf315c} | AZ2: Ornice | BA2: ornice | BC2: 159,605 | BD2: 2
AT3: 2
D4: KRYCÍ LIST SOUPISU | M4: v --- níže se nacházejí doplnkové a pomocné údaje k sestavám --- v | AT4: False
D6: Stavba:
E7: ='Rekapitulace stavby'!K6 -> Transformace ÚSP pro mládež Kvasiny – výstavba v lokalitě Kostelec nad Orlicí 2
D8: Objekt:
E9: B - Vedlejší aktivity projektu
D10: Soupis:
E11: DO - Demolice
D12: Úroveň 4:
E13: 02 - Dílna
D15: KSO: | I15: CC-CZ:
D16: Místo: | I16: Datum: | J16: ='Rekapitulace stavby'!AN8 -> 11. 5. 2017
D18: Zadavatel: | I18: IČ: | J18: =IF('Rekapitulace stavby'!AN10="","",'Rekapitulace stavby'!AN10)
E19: =IF('Rekapitulace stavby'!E11="","",'Rekapitulace stavby'!E11) | I19: DIČ: | J19: =IF('Rekapitulace stavby'!AN11="","",'Rekapitulace stavby'!AN11)
D21: Uchazeč: | I21: IČ: | J21: =IF('Rekapitulace stavby'!AN13="Vyplň údaj","",IF('Rekapitulace stavby'!AN13="","",'Rekapitulace stavby'!AN13))
E22: =IF('Rekapitulace stavby'!E14="Vyplň údaj","",IF('Rekapitulace stavby'!E14="","",'Rekapitulace stavby'!E14)) | I22: DIČ: | J22: =IF('Rekapitulace stavby'!AN14="Vyplň údaj","",IF('Rekapitulace stavby'!AN14="","",'Rekapitulace stavby'!AN14))
D24: Projektant: | I24: IČ: | J24: =IF('Rekapitulace stavby'!AN16="","",'Rekapitulace stavby'!AN16)
E25: =IF('Rekapitulace stavby'!E17="","",'Rekapitulace stavby'!E17) | I25: DIČ: | J25: =IF('Rekapitulace stavby'!AN17="","",'Rekapitulace stavby'!AN17)
D27: Poznámka:
D31: Cena bez DPH | J31: =ROUND(J94,2) -> 0
F33: Základ daně | I33: Sazba daně | J33: Výše daně
D34: DPH | E34: základní | F34: =ROUND(SUM(BE94:BE157), 2) -> 0 | I34: 0.21 | J34: =ROUND(ROUND((SUM(BE94:BE157)), 2)*I34, 2) -> 0
E35: snížená | F35: =ROUND(SUM(BF94:BF157), 2) -> 0 | I35: 0.15 | J35: =ROUND(ROUND((SUM(BF94:BF157)), 2)*I35, 2) -> 0
E36: zákl. přenesená | F36: =ROUND(SUM(BG94:BG157), 2) -> 0 | I36: 0.21 | J36: 0
E37: sníž. přenesená | F37: =ROUND(SUM(BH94:BH157), 2) -> 0 | I37: 0.15 | J37: 0
E38: nulová | F38: =ROUND(SUM(BI94:BI157), 2) -> 0 | I38: 0 | J38: 0
D40: Cena s DPH | G40: v | H40: CZK | J40: =SUM(J31:J38) -> 0
C46: REKAPITULACE ČLENĚNÍ SOUPISU PRACÍ
C48: Stavba:
E49: =E7 -> Transformace ÚSP pro mládež Kvasiny – výstavba v lokalitě Kostelec nad Orlicí 2
C50: Objekt:
E51: B - Vedlejší aktivity projektu
C52: Soupis:
E53: DO - Demolice
C54: Úroveň 4:
E55: =E13 -> 02 - Dílna
C57: Místo: | F57: =F16 | I57: Datum: | J57: =IF(J16="","",J16) -> 11. 5. 2017
C59: Zadavatel: | F59: =E19 | I59: Projektant: | J59: =E25
...

Sheet 03 - Dřevěná kůlna
D1: List obsahuje: | F1: 1) Krycí list soupisu | G1: 2) Rekapitulace | J1: 3) Soupis prací | K1: Zpět na list: | L1: Rekapitulace stavby
AT2: {582969fd-c0f5-4aba-b44d-46588c67ef9f} | AZ2: Ornice | BA2: ornice | BC2: 27,3 | BD2: 2
AT3: 2
D4: KRYCÍ LIST SOUPISU | M4: v --- níže se nacházejí doplnkové a pomocné údaje k sestavám --- v | AT4: False
D6: Stavba:
E7: ='Rekapitulace stavby'!K6 -> Transformace ÚSP pro mládež Kvasiny – výstavba v lokalitě Kostelec nad Orlicí 2
D8: Objekt:
E9: B - Vedlejší aktivity projektu
D10: Soupis:
E11: DO - Demolice
D12: Úroveň 4:
E13: 03 - Dřevěná kůlna
D15: KSO: | I15: CC-CZ:
D16: Místo: | I16: Datum: | J16: ='Rekapitulace stavby'!AN8 -> 11. 5. 2017
D18: Zadavatel: | I18: IČ: | J18: =IF('Rekapitulace stavby'!AN10="","",'Rekapitulace stavby'!AN10)
E19: =IF('Rekapitulace stavby'!E11="","",'Rekapitulace stavby'!E11) | I19: DIČ: | J19: =IF('Rekapitulace stavby'!AN11="","",'Rekapitulace stavby'!AN11)
D21: Uchazeč: | I21: IČ: | J21: =IF('Rekapitulace stavby'!AN13="Vyplň údaj","",IF('Rekapitulace stavby'!AN13="","",'Rekapitulace stavby'!AN13))
E22: =IF('Rekapitulace stavby'!E14="Vyplň údaj","",IF('Rekapitulace stavby'!E14="","",'Rekapitulace stavby'!E14)) | I22: DIČ: | J22: =IF('Rekapitulace stavby'!AN14="Vyplň údaj","",IF('Rekapitulace stavby'!AN14="","",'Rekapitulace stavby'!AN14))
D24: Projektant: | I24: IČ: | J24: =IF('Rekapitulace stavby'!AN16="","",'Rekapitulace stavby'!AN16)
E25: =IF('Rekapitulace stavby'!E17="","",'Rekapitulace stavby'!E17) | I25: DIČ: | J25: =IF('Rekapitulace stavby'!AN17="","",'Rekapitulace stavby'!AN17)
D27: Poznámka:
D31: Cena bez DPH | J31: =ROUND(J94,2) -> 0
F33: Základ daně | I33: Sazba daně | J33: Výše daně
D34: DPH | E34: základní | F34: =ROUND(SUM(BE94:BE142), 2) -> 0 | I34: 0.21 | J34: =ROUND(ROUND((SUM(BE94:BE142)), 2)*I34, 2) -> 0
E35: snížená | F35: =ROUND(SUM(BF94:BF142), 2) -> 0 | I35: 0.15 | J35: =ROUND(ROUND((SUM(BF94:BF142)), 2)*I35, 2) -> 0
E36: zákl. přenesená | F36: =ROUND(SUM(BG94:BG142), 2) -> 0 | I36: 0.21 | J36: 0
E37: sníž. přenesená | F37: =ROUND(SUM(BH94:BH142), 2) -> 0 | I37: 0.15 | J37: 0
E38: nulová | F38: =ROUND(SUM(BI94:BI142), 2) -> 0 | I38: 0 | J38: 0
D40: Cena s DPH | G40: v | H40: CZK | J40: =SUM(J31:J38) -> 0
C46: REKAPITULACE ČLENĚNÍ SOUPISU PRACÍ
C48: Stavba:
E49: =E7 -> Transformace ÚSP pro mládež Kvasiny – výstavba v lokalitě Kostelec nad Orlicí 2
C50: Objekt:
E51: B - Vedlejší aktivity projektu
C52: Soupis:
E53: DO - Demolice
C54: Úroveň 4:
E55: =E13 -> 03 - Dřevěná kůlna
C57: Místo: | F57: =F16 | I57: Datum: | J57: =IF(J16="","",J16) -> 11. 5. 2017
C59: Zadavatel: | F59: =E19 | I59: Projektant: | J59: =E25
...

Sheet 04 - Zpevněná plocha - be...
D1: List obsahuje: | F1: 1) Krycí list soupisu | G1: 2) Rekapitulace | J1: 3) Soupis prací | K1: Zpět na list: | L1: Rekapitulace stavby
AT2: {734b4a56-3173-4a62-b6f8-830d083c8e52} | AZ2: Ornice | BA2: r | BC2: 12,66 | BD2: 2
AT3: 2
D4: KRYCÍ LIST SOUPISU | M4: v --- níže se nacházejí doplnkové a pomocné údaje k sestavám --- v | AT4: False
D6: Stavba:
E7: ='Rekapitulace stavby'!K6 -> Transformace ÚSP pro mládež Kvasiny – výstavba v lokalitě Kostelec nad Orlicí 2
D8: Objekt:
E9: B - Vedlejší aktivity projektu
D10: Soupis:
E11: DO - Demolice
D12: Úroveň 4:
E13: 04 - Zpevněná plocha - betonová plocha
D15: KSO: | I15: CC-CZ:
D16: Místo: | I16: Datum: | J16: ='Rekapitulace stavby'!AN8 -> 11. 5. 2017
D18: Zadavatel: | I18: IČ: | J18: =IF('Rekapitulace stavby'!AN10="","",'Rekapitulace stavby'!AN10)
E19: =IF('Rekapitulace stavby'!E11="","",'Rekapitulace stavby'!E11) | I19: DIČ: | J19: =IF('Rekapitulace stavby'!AN11="","",'Rekapitulace stavby'!AN11)
D21: Uchazeč: | I21: IČ: | J21: =IF('Rekapitulace stavby'!AN13="Vyplň údaj","",IF('Rekapitulace stavby'!AN13="","",'Rekapitulace stavby'!AN13))
E22: =IF('Rekapitulace stavby'!E14="Vyplň údaj","",IF('Rekapitulace stavby'!E14="","",'Rekapitulace stavby'!E14)) | I22: DIČ: | J22: =IF('Rekapitulace stavby'!AN14="Vyplň údaj","",IF('Rekapitulace stavby'!AN14="","",'Rekapitulace stavby'!AN14))
D24: Projektant: | I24: IČ: | J24: =IF('Rekapitulace stavby'!AN16="","",'Rekapitulace stavby'!AN16)
E25: =IF('Rekapitulace stavby'!E17="","",'Rekapitulace stavby'!E17) | I25: DIČ: | J25: =IF('Rekapitulace stavby'!AN17="","",'Rekapitulace stavby'!AN17)
D27: Poznámka:
D31: Cena bez DPH | J31: =ROUND(J91,2) -> 0
F33: Základ daně | I33: Sazba daně | J33: Výše daně
D34: DPH | E34: základní | F34: =ROUND(SUM(BE91:BE144), 2) -> 0 | I34: 0.21 | J34: =ROUND(ROUND((SUM(BE91:BE144)), 2)*I34, 2) -> 0
E35: snížená | F35: =ROUND(SUM(BF91:BF144), 2) -> 0 | I35: 0.15 | J35: =ROUND(ROUND((SUM(BF91:BF144)), 2)*I35, 2) -> 0
E36: zákl. přenesená | F36: =ROUND(SUM(BG91:BG144), 2) -> 0 | I36: 0.21 | J36: 0
E37: sníž. přenesená | F37: =ROUND(SUM(BH91:BH144), 2) -> 0 | I37: 0.15 | J37: 0
E38: nulová | F38: =ROUND(SUM(BI91:BI144), 2) -> 0 | I38: 0 | J38: 0
D40: Cena s DPH | G40: v | H40: CZK | J40: =SUM(J31:J38) -> 0
C46: REKAPITULACE ČLENĚNÍ SOUPISU PRACÍ
C48: Stavba:
E49: =E7 -> Transformace ÚSP pro mládež Kvasiny – výstavba v lokalitě Kostelec nad Orlicí 2
C50: Objekt:
E51: B - Vedlejší aktivity projektu
C52: Soupis:
E53: DO - Demolice
C54: Úroveň 4:
E55: =E13 -> 04 - Zpevněná plocha - betonová plocha
C57: Místo: | F57: =F16 | I57: Datum: | J57: =IF(J16="","",J16) -> 11. 5. 2017
C59: Zadavatel: | F59: =E19 | I59: Projektant: | J59: =E25
...

Sheet 05 - Zpevněná plocha - be...
D1: List obsahuje: | F1: 1) Krycí list soupisu | G1: 2) Rekapitulace | J1: 3) Soupis prací | K1: Zpět na list: | L1: Rekapitulace stavby
AT2: {43c13471-8147-4f9f-9115-9934aad0bb72} | AZ2: Ornice | BA2: orn | BC2: 40,43 | BD2: 2
AT3: 2
D4: KRYCÍ LIST SOUPISU | M4: v --- níže se nacházejí doplnkové a pomocné údaje k sestavám --- v | AT4: False
D6: Stavba:
E7: ='Rekapitulace stavby'!K6 -> Transformace ÚSP pro mládež Kvasiny – výstavba v lokalitě Kostelec nad Orlicí 2
D8: Objekt:
E9: B - Vedlejší aktivity projektu
D10: Soupis:
E11: DO - Demolice
D12: Úroveň 4:
E13: 05 - Zpevněná plocha - betonová dlažba
D15: KSO: | I15: CC-CZ:
D16: Místo: | I16: Datum: | J16: ='Rekapitulace stavby'!AN8 -> 11. 5. 2017
D18: Zadavatel: | I18: IČ: | J18: =IF('Rekapitulace stavby'!AN10="","",'Rekapitulace stavby'!AN10)
E19: =IF('Rekapitulace stavby'!E11="","",'Rekapitulace stavby'!E11) | I19: DIČ: | J19: =IF('Rekapitulace stavby'!AN11="","",'Rekapitulace stavby'!AN11)
D21: Uchazeč: | I21: IČ: | J21: =IF('Rekapitulace stavby'!AN13="Vyplň údaj","",IF('Rekapitulace stavby'!AN13="","",'Rekapitulace stavby'!AN13))
E22: =IF('Rekapitulace stavby'!E14="Vyplň údaj","",IF('Rekapitulace stavby'!E14="","",'Rekapitulace stavby'!E14)) | I22: DIČ: | J22: =IF('Rekapitulace stavby'!AN14="Vyplň údaj","",IF('Rekapitulace stavby'!AN14="","",'Rekapitulace stavby'!AN14))
D24: Projektant: | I24: IČ: | J24: =IF('Rekapitulace stavby'!AN16="","",'Rekapitulace stavby'!AN16)
E25: =IF('Rekapitulace stavby'!E17="","",'Rekapitulace stavby'!E17) | I25: DIČ: | J25: =IF('Rekapitulace stavby'!AN17="","",'Rekapitulace stavby'!AN17)
D27: Poznámka:
D31: Cena bez DPH | J31: =ROUND(J91,2) -> 0
F33: Základ daně | I33: Sazba daně | J33: Výše daně
D34: DPH | E34: základní | F34: =ROUND(SUM(BE91:BE142), 2) -> 0 | I34: 0.21 | J34: =ROUND(ROUND((SUM(BE91:BE142)), 2)*I34, 2) -> 0
E35: snížená | F35: =ROUND(SUM(BF91:BF142), 2) -> 0 | I35: 0.15 | J35: =ROUND(ROUND((SUM(BF91:BF142)), 2)*I35, 2) -> 0
E36: zákl. přenesená | F36: =ROUND(SUM(BG91:BG142), 2) -> 0 | I36: 0.21 | J36: 0
E37: sníž. přenesená | F37: =ROUND(SUM(BH91:BH142), 2) -> 0 | I37: 0.15 | J37: 0
E38: nulová | F38: =ROUND(SUM(BI91:BI142), 2) -> 0 | I38: 0 | J38: 0
D40: Cena s DPH | G40: v | H40: CZK | J40: =SUM(J31:J38) -> 0
C46: REKAPITULACE ČLENĚNÍ SOUPISU PRACÍ
C48: Stavba:
E49: =E7 -> Transformace ÚSP pro mládež Kvasiny – výstavba v lokalitě Kostelec nad Orlicí 2
C50: Objekt:
E51: B - Vedlejší aktivity projektu
C52: Soupis:
E53: DO - Demolice
C54: Úroveň 4:
E55: =E13 -> 05 - Zpevněná plocha - betonová dlažba
C57: Místo: | F57: =F16 | I57: Datum: | J57: =IF(J16="","",J16) -> 11. 5. 2017
C59: Zadavatel: | F59: =E19 | I59: Projektant: | J59: =E25
...

Sheet DO01-07, 09 - Demolice DO...
